{"text_format":"1","workbook":"xlsx","n_sheets":9,"sheets":["Kalk","Wynik 2022r.","Wynik 2021r.","Licea ogólnokształcące 2022r.","Technika 2022r.","Szkoły branżowe 2022r.","Licea ogólnokształcące 2021r.","Technika 2021r.","Szkoły branżowe 2021r."],"not_rendered":{"charts":0,"images":0,"macros":1,"external_links":0,"defined_names":6,"comments":1,"pivot_tables":0},"unopened":[],"bounds":{"document_bytes":16777216,"sheet_cells":100000,"rows_first":2000,"rows_last":500,"rows_between":2000,"halvings":0,"cell_chars":16384,"cell_head_chars":4096},"cells_cut":0,"cells_raw":0,"read":"whole","date_system":"1900"}

{"sheet":"Kalk","index":0,"n_rows":18,"n_cols":15,"rows_kept":18,"cut":false,"hidden":false,"merged":[[15,0,15,2],[16,0,16,2],[10,0,10,2],[13,3,13,7],[4,11,4,13],[6,3,6,7],[9,0,9,2],[0,0,0,2],[6,0,6,2],[13,0,13,2],[2,10,2,15],[14,0,14,2],[3,11,3,14],[0,3,0,7]]}
["Wypełnij zielone pola",null,null,"Wyniki Egzaminu"]
[null,null,null,"Język polski",0,"%",{"$f":"E2*0.35","v":0},"pkt."]
[null,null,null,"Matematyka",0,"%",{"$f":"E3*0.35","v":0},"pkt.",null,null,"Po wypełnieniu zielonych pól pkt. obliczą się automatycznie."]
[null,null,null,"Język obcy",0,"%",{"$f":"E4*0.3","v":0},"pkt.",null,null,null,"Twoje punkty"]
[null,null,null,null,null,"Suma pkt. egzaminu",{"$f":"SUM(G2:G4)","v":0},"pkt.",null,null,null,{"$f":"SUM(G5,G12,G18)","v":0},null,null,"pkt."]
[]
["Wypełnij zielone pola",null,null,"Oceny końcowe"]
[null,null,null,"Język polski",0,null,{"$f":"IF(E8=6,18,IF(E8=5,17,IF(E8=4,14,IF(E8=3,8,IF(E8=2,2,0)))))","v":0},"pkt."]
[null,null,null,"Matematyka",0,null,{"$f":"IF(E9=6,18,IF(E9=5,17,IF(E9=4,14,IF(E9=3,8,IF(E9=2,2,0)))))","v":0},"pkt."]
["Ocena z przedmiotu preferowanego przez szkołę dla wybranego kierunku np. język obcy, chemia, biologia, informatyka",null,null,"Przedmiot dodat.",0,null,0,"pkt."]
["Ocena z przedmiotu preferowanego przez szkołę dla wybranego kierunku np. język obcy chemia, biologia, informatyka",null,null,"Przedmiot dodat.",0,null,0,"pkt."]
[null,null,null,null,null,"Suma pkt. z ocen świadectwa",{"$f":"SUM(G8:G11)","v":0},"pkt."]
[]
["Wypełnij zielone pola",null,null,"Osiągnięcia dodatkowe"]
["Wpisz 3 pkt. jeżeli brałaś/brałeś udział",null,null,"Wolontariat",null,null,0,"pkt"]
["Wpisz 7 pkt. jeżełi takowe posiadasz",null,null,"Świadectwo z paskiem",null,null,0,"pkt."]
["Wpisz  od 2 do 18 pkt. zależnie od osiągnięć ",null,null,"Szczególne osiągnięcia",null,null,0,"pkt"]
[null,null,null,null,null,"Suma pkt.",{"$f":"SUM(G15:G17)","v":0},"pkt."]

{"sheet":"Wynik 2022r.","index":1,"n_rows":441,"n_cols":11,"rows_kept":441,"cut":false,"hidden":false,"merged":[[0,1,0,9],[1,1,1,3],[2,1,2,3]]}
[null,"1. Wpisz liczbę punktów\n2. Kliknij przycisk \"Odśwież listę\"\n3. Wyświetli się lista szkół\n4. Gdy pole numeryczne jest czerwone różnica pomięddzy Twoją ilością punktów, a minimalną uprawniającą do dostania się na ten kierunek jest mniejsza od 5 - jest ryzyko, że nie dostaniesz się na ten kierunek\n5. Gdy  numeryczne jest pomarańczowe różnica pomięddzy Twoją ilością punktów, a minimalną uprawniającą do dostania się na ten kierunek jest pomiędzy 5, a 30 punktów - jest umiarkowana szansa, że dostaniesz się na ten kierunek\n6. Gdy pole numeryczne jest zielone  różnica pomięddzy Twoją ilością punktów, a minimalną uprawniającą do dostania się na ten kierunek jest większa od 30 - jest duża szansa, że dostaniesz się na ten kierunek\n7. Pamiętaj, że jest narzędzie pomocnicze i opiera się o wyniki z poprzedniego roku. Ostateczną weryfikacją jest egzamin."]
[null,"Twoja liczba punktów",null,null,null,null,null,null,null,"2022 r."]
[null,100]
[null,null,null,"Licea",null,null,"Technika",null,null,"Szkoły branżowe"]
[null,null,null,"Nazwa szkoły/oddziału","Minimalna  liczba punktów z jaką kandydat został zakwalifikowany",null,"Nazwa szkoły/oddziału","Minimalna  liczba punktów z jaką kandydat został zakwalifikowany",null,"Nazwa szkoły/oddziału","Minimalna  liczba punktów z jaką kandydat został zakwalifikowany"]
[null,null,1,"XLII Liceum Ogólnokształcące",25.8,1,"Technikum nr 01 (ZSETH w Łodzi)",32.35,1,"Branżowa Szkoła I stopnia nr 04 (ZSG w Łodzi)",19.25]
[null,null,2,"1A Straż Graniczna",25.8,2,"1ab [O] Technik ekonomista (ang-niem*)",45.5,2,"1abc [O] Kucharz (ang)",19.25]
[null,null,3,"1B Policyjna",54.7,3,"1c [O] Technik rachunkowości (ang-niem*)",50.3,3,"Branżowa Szkoła I stopnia nr 05 (ZSP nr 5 w Łodzi)",21.95]
[null,null,4,"1C biologiczno-chemiczna",42.3,4,"1d [O] Technik hotelarstwa (ang-fra*)",44.15,4,"1e [O] Magazynier-logistyk (ang*)",35.549999999999997]
[null,null,5,"1D dziennikarsko-filmowa",59.5,5,"1e [O] Technik hotelarstwa (ang-niem*)",32.35,5,"1f_1 [O] Sprzedawca (ang*)",21.95]
[null,null,6,"1E filologiczna",48.4,6,"1f [O] Technik organizacji turystyki (ang-fra)",45,6,"Branżowa Szkoła I stopnia nr 06 (ZSPS w Łodzi)",39.35]
[null,null,7,"1F informatyczna",29.1,7,"1g [O] Technik eksploatacji portów i terminali (ang-fra)",44.25,7,"1ab1 [O] Cukiernik (niem*)",43.2]
[null,null,8,"1G ogólna",27,8,"Technikum nr 02 (ZSEiU w Łodzi)",34.35,8,"1c1 [O] Piekarz (niem*)",39.35]
[null,null,9,"XLIII Liceum Ogólnokształcące",25,9,"1aTE [O] Technik ekonomista (ang*-niem*)",64.8,9,"Branżowa Szkoła I stopnia nr 07 (ZSS w Łodzi)",43.2]
[null,null,10,"1A Flimoznawcza z edukacją medialną",51.25,10,"1bTL [O] Technik logistyk (ang*-niem*)",72.95,10,"1es [O] Elektromechanik pojazdów samochodowych (niem)",53.55]
[null,null,11,"1B Prozdrowotna",37.4,11,"1cTR [O] Technik reklamy (ang*-niem*)",51.95,11,"1ls [O] Lakiernik samochodowy (ang)",43.2]
[null,null,12,"1C Sportowa (piłka nożna/lekkoatletyka)",25,12,"1dTT [O] Technik organizacji turystyki (ang*-niem*)",34.35,12,"1ms [O] Mechanik pojazdów samochodowych (ang)",45]
[null,null,13,"1D_informatyczna [O] inf-ang (ang-niem)",51.4,13,"Technikum nr 03",33.5,13,"Branżowa Szkoła I stopnia nr 09 (ZS Polit w Łodzi)",38.4]
[null,null,14,"1E_Turystyczna [O] geogr-ang (ang-niem*)",59.7,14,"1TCHiK [O] Technik chłodnictwa i klimatyzacji (niem-ang)",33.5,14,"1BA-Gr.1 [O] Elektryk (ang)",38.4]
[null,null,15,"XLVII Liceum Ogólnokształcące",28.5,15,"1TEO [O] Technik urządzeń i systemów energetyki odnawialnej (niem-ang)",45.65,15,"1BA-Gr.2 [O] Mechatronik (ang)",40.85]
[null,null,16,"1A [O] inf-ang (ang-hisz,niem,ros)",31.1,16,"1TGAZ [O] Technik gazownictwa (niem-ang)",33.700000000000003,16,"Branżowa Szkoła I stopnia nr 15 (ZSBT w Łodzi)",27.1]
[null,null,17,"1C [O] geogr-pol-wos (ang-hisz,niem,ros)",28.85,17,"1TIS [O] Technik inżynierii sanitarnej (niem-ang)",36.6,17,"1aB [O] Monter zabudowy i robót wykończeniowych w budownictwie (niem*)",27.1]
[null,null,18,"1E [O] geogr-ang-wos (ang-hisz,niem,ros)",28.5,18,"1TLOG [O] Technik logistyk (ang-niem)",78.900000000000006,18,"1bB/1 [O] Monter sieci i instalacji sanitarnych (niem*)",30.45]
[null,null,19,"1F [O] biol-ang (ang-hisz,niem,ros)",53.35,19,"Technikum nr 04 (ZSG w Łodzi)",32.85,19,"1cB/1 [O] Stolarz (niem*)",37.950000000000003]
[null,null,20,"XVIII Liceum Ogólnokształcące w Łodzi",50,20,"1Agr.1 [O] Technik usług kelnerskich (ang-fra)",32.85,20,"Branżowa Szkoła I stopnia nr 19(CkZiU w Łodzi )",26.55]
[null,null,21,"1a/pol-krym [O] geogr-wos (ang-niem,ros)",50.5,21,"1Agr.2 [O] Technik żywienia i usług gastronomicznych (ang-fra)",95.9,21,"1BFL [O] Magazynier-logistyk (ang)",26.55]
[null,null,22,"1b/pol-krym [O] pol-wos (ang-niem,ros)",50,22,"1BC [O] Technik żywienia i usług gastronomicznych (ang-fra)",59.6,22,"1BFL2 [O] Fotograf (ang)",34.25]
[null,null,23,"1c/wojsk [O] ang-mat (ang-niem,ros)",76.2,23,"1D [O] Technik żywienia i usług gastronomicznych (ang-fra)",65.150000000000006,23,"Branżowa Szkoła I stopnia nr 21 (ZSR w Łodzi)",29.35]
[null,null,24,"1d/bezp.publ. [O] geogr-ang (ang-niem,ros)",54.55,24,"1E [O] Technik żywienia i usług gastronomicznych (ang-fra)",77.599999999999994,24,"1f [O] Fryzjer (ang*,niem*)",29.35]
[null,null,25,"1e/sluzb.ratow. [O] biol-ang (ang-niem,ros)",50.4,25,"1FG [O] Technik żywienia i usług gastronomicznych (ang-fra)",50.8,25,"Branżowa Szkoła I stopnia nr 22 (ZSSiM w Łodzi)",21]
[null,null,26,"XX Liceum Ogólnokształcące w Łodzi",63.25,26,"Technikum nr 05 (ZSP nr 5 w Łodzi)",60,26,"1BM/1 [O] Blacharz samochodowy (ang*)",27.85]
[null,null,27,"1a-1 [O] geogr-ang-pol (ang-hisz,niem,ros)",63.25,27,"1a [O] Technik transportu kolejowego (ang*-niem*)",60.4,27,"1BM/2 [O] Mechanik motocyklowy (ang*)",21.25]
[null,null,28,"1a-2 [O] hist-ang-pol (ang-hisz,niem,ros)",81.25,28,"1b_1 [O] Technik ekonomista (ang*-fra*)",92.2,28,"1EM/1 [O] Elektromechanik pojazdów samochodowych (ang*)",33.200000000000003]
[null,null,29,"1c [O] pol-hist-wos (ang-hisz,niem,ros)",80,29,"1b_2 [O] Technik rachunkowości (ang*-fra*)",86.1,29,"1EM/2 [O] Mechatronik (ang*)",25.55]
[null,null,30,"1d [O] biol-hiszp-pol (ang-hisz)",71.95,30,"1c_1 [O] Technik logistyk (ang*-niem*)",60,30,"1MS [O] Mechanik pojazdów samochodowych (ang*)",21]
[null,null,31,"XXIII Liceum Ogólnokształcące w Łodzi",26.85,31,"1c_2 [O] Technik spedytor (ang*-fra*)",68.650000000000006,31," Branżowa Szkoła I stopnia w Mroczkowie Gościnnym",25.8]
[null,null,32,"1A prozdrowotna",63.6,32,"1d_2 [O] Technik handlowiec (ang*-niem*)",64.05,32,"1D1 [O] Mechanik-operator pojazdów i maszyn rolniczych (ang*,niem*)",25.8]
[null,null,33,"1B sportowo - turystyczna",28.95,33,"Technikum nr 06 (ZSPS w Łodzi)",35.950000000000003,33,"2D1 [O] Mechanik pojazdów samochodowych (ang*,niem*)",28.25]
[null,null,34,"1C2 informatyczna",64.150000000000006,34,"1ta1tb [O] Technik technologii żywności (ang*-niem*)",35.950000000000003,34,"2D2 [O] Elektromechanik pojazdów samochodowych (ang*,niem*)",32.5]
[null,null,35,"1D prawno - medialna",48.75,35,"1tc [O] Technik technologii żywności (ang*-niem*)",56.6,35,"2D4 [O] Kierowca mechanik (ang*,niem*)",39.799999999999997]
[null,null,36,"1E1 międzynarodowa",26.85,36,"1td [O] Technik kontroli jakości i bezpieczeństwa żywności (ang*-niem*)",56.25,36,"4D2 [O] Piekarz (ang*,niem*)",40.65]
[null,null,37,"XXIV Liceum Ogólnokształcące w Łodzi",59.15,37,"Technikum nr 07 (ZSS w Łodzi)",70.75,37,"4D4 [O] Fryzjer (ang*,niem*)",27.3]
[null,null,38,"1C [O] biol-mat (ang-hisz*,niem,ros*)",96.2,38,"1ac [O] Technik pojazdów samochodowych (ang-niem*)",70.75,38,"Branżowa Szkoła I Stopnia (ZS CKU w Sulejowie)",30]
[null,null,39,"1D [O] ang-mat (ang-hisz*,niem,ros*)",85.1,39,"1bd [O] Technik pojazdów samochodowych (ang-niem*)",71.95,39,"1wz [O] wielozawodowa (ang)",30]
[null,null,40,"1E [O] geogr-ang-mat (ang-niem,ros*,hisz*)",59.15,40,"1m [O] Technik mechatronik (ang-niem*)",76.2,40,"Branżowa Szkoła I stopnia (ZS nr 1 w Pabianicach)",21]
[null,null,41,"XXX Liceum Ogólnokształcące w Łodzi",72.849999999999994,41,"Technikum nr 09 (ZS Polit w Łodzi)",23.45,41,"1FR/p [O] Fryzjer (ang*)",54.35]
[null,null,42,"1G Geograficzno-turystyczna",88.4,42,"1A-Gr.1 [O] Technik elektronik (ang-niem)",95,42,"1MPS/p [O] Mechanik pojazdów samochodowych (ang)",29.3]
[null,null,43,"1Pg Przyrodnicza z geografią rozszerzoną",81.75,43,"1B-Gr.1 [O] Technik energetyk (ang-niem)",57.4,43,"1MZ/p [O] Stolarz/Instal san./Tapic/Murarz/Elektryk",53.8]
[null,null,44,"1S Geograficzno-turystyczna",72.849999999999994,44,"1B-Gr.2 [O] Technik elektryk (ang-niem)",98.15,44,"1Wa [O] Monter zabudowy i robót wykończeniowych w budownictwie (ang*)",21]
[null,null,45,"XXXII Liceum Ogólnokształcące w ZSO nr 1 w Łodzi",79.849999999999994,45,"1F-Gr.2 [O] Technik realizacji nagrań (ang-niem)",23.45,45,"1Wu [O] Piekarz/Kucharz/Cukiernik/Sprzedawca",45.2]
[null,null,46,"1E [1E] biol-ang-mat",79.849999999999994,46,"Technikum nr 10 (ZSEI w Łodzi)",72.849999999999994,46,"Branżowa Szkoła I stopnia (ZS1 Koluszki)",22.5]
[null,null,47,"XXXIV Liceum Ogólnokształcące w Łodzi",77.3,47,"1e [O] Technik elektronik (ang-niem*)",97.15,47,"1mp Mechanik pojazdów samochodowych",22.5]
[null,null,48,"1A klasa językowo-amerykańska",81.599999999999994,48,"1t [O] Technik teleinformatyk (ang-niem*)",72.849999999999994,48,"1wp Wielozawodowa",35.799999999999997]
[null,null,49,"1b klasa geograficzno-językowa (ang-włoski)",84.7,49,"Technikum nr 12 (ZSPM w Łodzi)",65.5,49,"Branżowa Szkoła I stopnia (ZSCKR Dobryszyce)",23]
[null,null,50,"1C Klasa humanistyczna",80.8,50,"1a [O] Technik przemysłu mody (ang*-niem)",86.5,50,"1AB [O] Kucharz (niem)",23.8]
[null,null,51,"1d klasa językowo-ścisła (biol-chem)",77.3,51,"1c [O] Technik grafiki i poligrafii cyfrowej (ang*-niem)",93.75,51,"1BB [O] Mechanik-operator pojazdów i maszyn rolniczych (niem)",23]
[null,null,52,"I Liceum Ogólnokształcące im Stefana Żeromskiego w Ozorkowie",74.400000000000006,52,"1f [O] Technik fotografii i multimediów (ang*-niem)",86.95,52,"Branżowa Szkoła I Stopnia (ZSCKZ w Bujnach)",26.05]
[null,null,53,"1B HUMANISTYCZNA",74.400000000000006,53,"1s [O] Technik stylista (ang*-niem)",65.5,53,"1SBoo [O] Operator obrabiarek skrawających (niem*)",26.05]
[null,null,54,"I Liceum Ogólnokształcące im. H. Sienkiewicza w Koluszkach",83.05,54,"Technikum nr 13 (ZSG-T w Łodzi)",49,54,"Branżowa Szkoła I Stopnia (ZSP im. S.Staszica w Wieruszowie)",17.25]
[null,null,55,"1A.2 [O] fiz-ang-mat (ang-niem)",83.05,55,"1A [O] Technik geodeta (ang-hisz,niem)",49,55,"1r [O] wielozawodowa (ang)",17.25]
[null,null,56,"1D [O] geogr-ang-mat (ang-niem,fra,hisz)",97.75,56,"1B1 [O] Technik informatyk (ang-hisz,niem)",77.7,56,"Branżowa Szkoła I stopnia (ZSP nr 1 w Łasku)",21.2]
[null,null,57,"I Liceum Ogólnokształcące im. Kazimierza Wielkiego w Łęczycy",38.6,57,"1B2 [O] Technik informatyk (ang-hisz,niem)",88.15,57,"1W [O] wielozawodowa (ang)",21.2]
[null,null,58,"1hum humanistyczna",43.7,58,"1C [O] Technik leśnik (ang-hisz,niem)",49.85,58,"Branżowa szkoła I stopnia (ZSZ nr 1) w Skierniewicach",36.950000000000003]
[null,null,59,"1med medyczna",77.7,59,"Technikum nr 15 (ZSBT w Łodzi)",32.25,59,"1f Fryzjer",40.200000000000003]
[null,null,60,"1pol politechniczna",38.6,60,"1aT,1bT [O] Technik budownictwa (ang-niem*)",48,60,"1mz  Monter zabudowy i robót wykończeniowych w budownictwie (ang)",36.950000000000003]
[null,null,61,"1przyr-ekon przyrodniczo-ekonomiczna",78,61,"1cT/1 [O] Technik robót wykończeniowych w budownictwie (ang-niem*)",34.35,61,"Branżowa Szkoła I stopnia (ZSZ nr 1) w Zduńskiej Woli",24.5]
[null,null,62,"I Liceum Ogólnokształcące im. Stanisława Staszica w Zgierzu",65.099999999999994,62,"1dT [O] Technik technologii drewna (ang-niem*)",55.45,62,"1aw(awb) [O] wielozawodowa (ang*)",24.5]
[null,null,63,"1B_grupa_1 ekonomiczna",65.099999999999994,63,"1eT/1 [O] Technik urządzeń i systemów energetyki odnawialnej (ang-niem*)",32.25,63,"1b(awb) [O] Operator obrabiarek skrawających (ang*)",48]
[null,null,64,"1B_grupa_2 medyczna",99.75,64,"1eT/2 [O] Technik ochrony środowiska (ang-niem*)",50.55,64,"Branżowa szkoła I stopnia (ZSZ nr 2) w Skierniewicach",17.350000000000001]
[null,null,65,"1C Klasa humanistyczna",90.15,65,"Technikum nr 17 (ZSTI)",66.8,65,"1pza Mechanik pojazdów samochodowych (ang)",17.350000000000001]
[null,null,66,"1D Klasa językowa",88.7,66,"1tm [O] Technik mechatronik (ang-niem*)",90.9,66,"1wa wielozawodowa (ang)",38.75]
[null,null,67,"I Liceum Ogólnokształcące im. Stefana Żeromskiego w Opocznie",4,67,"1tmm [O] Technik mechanik (ang-niem*)",66.8,67,"Branżowa Szkoła I Stopnia im. Jana Pawła II (w ZSP) w Poddębicach",23.95]
[null,null,68,"1A [O] hist-pol-wos (ang-niem*,ros*,wlo)",53.25,68,"Technikum nr 18 Poligraficzne (ZSPol w Łodzi)",27.55,68,"1A [O] wielozawodowa (ang,niem)",23.95]
[null,null,69,"1B [MS] biol-geogr-ang (ang-niem*,ros*,wlo)",4,69,"1ga,gb,gc [O] Technik grafiki i poligrafii cyfrowej (ang-niem)",27.55,69,"Branżowa Szkoła I stopnia Nr 1 (ZSP nr 1 w Sieradzu)",57.95]
[null,null,70,"1C [O] fiz-ang-mat (ang-niem*,ros*,wlo)",78.75,70,"1gd [O] Technik procesów drukowania (ang-niem)",41.3,70,"1ae [O] Elektromechanik pojazdów samochodowych (ang*)",57.95]
[null,null,71,"1D [O] fiz-inf-mat (ang-niem*,wlo,ros*)",80.05,71,"1gr [O] Technik reklamy (ang-niem)",59.15,71,"1am [O] Mechanik pojazdów samochodowych (ang*)",59.9]
[null,null,72,"1E [O] hist-ang-pol (ang-niem*,ros*,wlo)",56.9,72,"Technikum nr 19 (CKZiU w Łodzi)",46.1,72,"1be [O] Elektryk (ang*)",85.25]
[null,null,73,"1F [O] biol-chem-mat (ang-niem*,ros*,wlo)",67.8,73,"1TF [O] Technik fotografii i multimediów (ang-niem*)",90.75,73,"1bf [O] Fryzjer (ang*)",74.25]
[null,null,74,"1G [O] geogr-ang-mat (ang-niem*,ros*,wlo)",50.15,74,"1TL [O] Technik logistyk (ang*-niem*)",96.9,74,"1bs [O] Monter sieci i instalacji sanitarnych (ang*)",59.1]
[null,null,75,"I Liceum Ogólnokształcące w Głownie",35.799999999999997,75,"1TPT1 [O] Technik tekstronik (ang-niem*)",46.1,75,"1bw [O] Monter zabudowy i robót wykończeniowych w budownictwie (ang*)",70.5]
[null,null,76,"1a matematyczno-informatyczna",86.5,76,"1TPT2 [O] Technik projektant tekstyliów (ang-niem*)",50.75,76,"Branżowa Szkoła I Stopnia Nr 1 (ZSP Nr 1, Bełchatów)",39.200000000000003]
[null,null,77,"1b geograficzno-językowa",68.5,77,"1TSA_1 [O] Technik analityk (ang*-niem*)",74.099999999999994,77,"1b [O] Elektryk (ang)",42.55]
[null,null,78,"1C biologiczno-chemiczna",84.1,78,"1TSA_2 [O] Technik spedytor (ang*-niem*)",74,78,"1h [O] Mechanik pojazdów samochodowych (ang)",39.950000000000003]
[null,null,79,"1d humanistyczno-społeczna",35.799999999999997,79,"1TWe [O] Technik weterynarii (ang*-niem*)",84.9,79,"1j [O] Monter sieci i instalacji sanitarnych (ang)",42.8]
[null,null,80,"I Liceum Ogólnokształcące w Łasku",64.2,80,"Technikum nr 20 (ZSET w Łodzi)",60.2,80,"1t [O] Monter zabudowy i robót wykończeniowych w budownictwie (ang)",39.200000000000003]
[null,null,81,"1A [O] geogr-ang-pol (ang-hisz)",64.2,81,"1ed1 [O] Technik elektryk (ang-niem*)",78.45,81,"Branżowa Szkoła I stopnia nr 1 im. Kardynała Stefana Wyszyńskiego w Łęczycy (ZSP Nr 1 w Łęczycy)",30.8]
[null,null,82,"1B [O] fiz-ang-mat (ang-hisz)",65.55,82,"1ed2 [O] Technik urządzeń dźwigowych (ang-niem*)",69.400000000000006,82,"1B [O] Kucharz (ang)",34.85]
[null,null,83,"1C [O] biol-chem-mat (ang-hisz)",69.45,83,"1m [O] Technik mechatronik (ang-niem*)",81.25,83,"1C [O] Mechanik pojazdów samochodowych (niem*)",30.8]
[null,null,84,"I Liceum Ogólnokształcące w Pabianicach",83.1,84,"1om1 [O] Technik urządzeń i systemów energetyki odnawialnej (ang-niem*)",72.05,84,"1G [O] Monter zabudowy i robót wykończeniowych w budownictwie (niem*)",40.049999999999997]
[null,null,85,"1a ang-geog-mat",83.1,85,"1om2 [O] Technik mechanik (ang-niem*)",60.2,85,"1H [O] Pracownik obsługi hotelowej (ang)",56.5]
[null,null,86,"I Liceum Ogólnokształcące w Radomsku",84.1,86,"Technikum nr 21 (ZSR w Łodzi)",22.95,86,"1L [O] Magazynier-logistyk (niem*)",43.8]
[null,null,87,"1B językowo - prawna",84.1,87,"1TA [O] Technik architektury krajobrazu (ang-niem)",38.549999999999997,87,"Branżowa Szkoła I stopnia nr 1 w Kutnie (ZS nr 1 im. St. Staszica w Kutnie)",24]
[null,null,88,"II Liceum Ogolnokształcące w Radomsku",44.9,88,"1tf [O] Technik usług fryzjerskich (ang-niem)",22.95,88,"1k [O] Mechanik pojazdów samochodowych (ang)",24]
[null,null,89,"1a klasa biologiczno-chemiczna",92.45,89,"1TFF [O] Technik usług fryzjerskich (ang-niem)",42.4,89,"Branżowa Szkoła I stopnia nr 1 w Opocznie",20]
[null,null,90,"1b klasa biologiczno-chemiczna z matematyką",80.25,90,"1TH [O] Technik hodowca koni (ang-niem)",34.950000000000003,90,"1BSIS 1BSIS",20]
[null,null,91,"1c klasa humanistyczno-prawna",44.9,91,"1TO [O] Technik ogrodnik (ang-niem)",37.35,91,"Branżowa Szkoła I stopnia Nr 2 (ZSP nr 2 w Sieradzu)",50.35]
[null,null,92,"1d klasa matematyczno-fizyczna",71.45,92,"1TP [O] Technik optyk (ang-niem)",39,92,"1d [O] wielozawodowa (ang)",50.35]
[null,null,93,"1e klasa matematyczno-językowa",97.8,93,"Technikum nr 22 (ZSSiM w Łodzi)",25.55,93,"Branżowa Szkoła I Stopnia Nr 2 (ZSP Nr 2, Bełchatów)",44.3]
[null,null,94,"1f klasa geograficzno-językowa",60.9,94,"1Tm [O] Technik mechatronik (ang*-niem*)",36.6,94,"1f Fryzjer",47.7]
[null,null,95,"II Liceum Ogólnokształcące (ZS im. J. Grodzkiej  w Łęczycy)",48.25,95,"1TSE [O] Technik pojazdów samochodowych (ang*-niem*)",25.55,95,"1k Kucharz",44.3]
[null,null,96,"1a humanistyczna",66.599999999999994,96,"1TSM [O] Technik pojazdów samochodowych (ang*-niem*)",29.3,96,"Branżowa Szkoła I Stopnia nr 2 (ZSP2 Tomaszów Mazowiecki)",20.05]
[null,null,97,"1c matematyczno - geograficzna",80.150000000000006,97,"Technikum",18.45,97,"1B [O] wielozawodowa (niem*)",20.05]
[null,null,98,"1d mundurowa",48.25,98,"1tmp Technik mechanizacji rolnictwa i agrotroniki (ang-",18.45,98,"Branżowa Szkoła I stopnia nr 2 w Kutnie (ZSZ Nr 2 im. dr. A. Troczewskiego w Kutnie)",23.8]
[null,null,99,"II Liceum Ogólnokształcące im. J. Korczaka w Wieluniu",28,99,"1trp Technik rolnik (ang*-niem*,ros*)",24.4,99,"1BSkuch [O] Kucharz (ang*)",23.8]
[null,null,100,"1e-matemat.-język. 1e",91.15,100,"1tżp  Technik żywienia i usług gastronomicznych (ang-ni",48.2,100,"1BSmag.-logistyk [O] Magazynier-logistyk (ang*)",42.7]
[null,null,101,"1g-wokalno-aktorska [O] pol (ang-fra)",93.25,101,"Technikum  im. Jana Pawła II (w ZSP) w Poddębicach",24.15,101,"Branżowa Szkoła I stopnia nr 3 (ZSDiOŚ w Radomsku)",20.3]
[null,null,102,"1h-OPW [PW] geogr-mat (ang-niem)",28,102,"1TE [O] Technik ekonomista (ang-niem)",78.099999999999994,102,"1a [O] Fryzjer (ang)",24.2]
[null,null,103,"II Liceum Ogólnokształcące im. Jana Kasprowicza w Kutnie",91.65,103,"1TEL [O] Technik elektryk (ang-niem)",53.6,103,"1b [O] Stolarz (ang)",31.35]
[null,null,104,"1B-ang-his-wos społeczno-prawna",91.65,104,"1THT [O] Technik hotelarstwa (ang-niem)",64.55,104,"1c_d [O] wielozawodowa (ang)",20.3]
[null,null,105,"1D-pol-his-wos humanistyczna z edukacją dziennikarską",92.7,105,"1Ti [O] Technik informatyk (ang-niem)",61.85,105,"Branżowa Szkoła I Stopnia nr 3 (ZSP3 Tomaszów Mazowiecki)",20.350000000000001]
[null,null,106,"II Liceum Ogólnokształcące im. Stefana Żeromskiego",77.95,106,"1Tl [O] Technik logistyk (ang-niem)",82.75,106,"1abc 3 oddziały wielozawodowe (ang)",20.350000000000001]
[null,null,107,"1m-ch [O] chem-ang-mat (ang-niem,ros)",77.95,107,"1TTW [O] Technik turystyki na obszarach wiejskich (ang-niem)",24.15,107,"Branżowa Szkoła I stopnia nr 4 (ZSP nr 1 w Radomsku)",22.3]
[null,null,108,"II Liceum Ogólnokształcące w Opocznie",24.75,108,"1TŻ [O] Technik żywienia i usług gastronomicznych (ang-niem)",48.4,108,"1ZE elektromechanik pojazdów samochodowych",41.5]
[null,null,109,"1LO 1LO",24.75,109,"Technikum  Mech.-Bud. (ZSP nr 1 w Radomsku)",24.4,109,"1ZM mechanik-monter maszyn i urządzeń",22.65]
[null,null,110,"II Liceum Ogólnokształcące w Ozorkowie",65,110,"1TB Technik budownictwa",31.6,110,"1ZS mechanik pojazdów samochodowych",22.3]
[null,null,111,"1_LOs [O] II Liceum Ogólnokształcące (ang-niem)",65,111,"1TG technik geodeta",37.35,111,"Branżowa Szkoła I stopnia nr 4 w Kutnie-Azorach (ZS nr 4 im. Z. Balickiego w Kutnie - Azorach)",29.2]
[null,null,112,"II Liceum Ogólnokształcące w Pabianicach",92.05,112,"1TM technik mechanik",24.4,112,"1WA_GR1 [O] Fryzjer (ang*)",48.3]
[null,null,113,"1C [O] geogr-ang-mat (ang-niem,fra,ros)",92.05,113,"1TS technik pojazdów samochodowych",42.85,113,"1WA_GR10 [O] Murarz-tynkarz (ang*)",75.75]
[null,null,114,"1H [O] hist-pol-wos (ang-niem,fra,ros)",97.35,114,"Technikum (ZS CKU w Czarnocinie)",22.95,114,"1WA_GR2 [O] Sprzedawca (ang*)",52.15]
[null,null,115,"II Liceum Ogólnokształcące w Zduńskiej Woli",74.849999999999994,115,"1TA [O] Technik architektury krajobrazu (ang*-niem)",43.35,115,"1WA_GR3 [O] Magazynier-logistyk (ang*)",29.2]
[null,null,116,"1B EUROPEJSKA",74.849999999999994,116,"1TI [O] Technik informatyk (ang*-niem)",43.65,116,"1WA_GR4 [O] Cukiernik (ang*)",76.75]
[null,null,117,"1D Humanistyczna",90.65,117,"1TR [O] Technik rolnik (ang*-niem)",22.95,117,"1WA_GR5 [O] Piekarz (ang*)",44.95]
[null,null,118,"II Liceum Ogólnokształcące w Żychlinie im. Bohaterów Września 1939 roku (ZS w Żychlinie)",33.85,118,"1TZ [O] Technik żywienia i usług gastronomicznych (ang*-niem)",30.25,118,"1WA_GR6 [O] Kucharz (ang*)",47.95]
[null,null,119,"1LO/B [O] biol-chem-ang (ang-ros,niem)",33.85,119,"Technikum (ZS nr 1 w Pabianicach)",81.099999999999994,119,"1WA_GR7 [O] Mechanik pojazdów samochodowych (ang*)",52.75]
[null,null,120,"1LO/H [O] hist-ang-pol (ang-ros,niem)",41.6,120,"1TB/p Technik budownictwa i architektury wnętrz (ang/nie",84.3,120,"1WA_GR8 [O] Elektryk (ang*)",45.7]
[null,null,121,"II Liceum Ogólnoszktałcące (ZS2 Koluszki)",66.400000000000006,121,"1TMT/p [O] Technik mechatronik/Tech.Mechatr. e-sport",84,121,"Branżowa Szkoła I stopnia w Błaszkach",34.4]
[null,null,122,"1PP policyjno-pożarnicza",66.400000000000006,122,"1TPS/p(ang) [O] Technik pojazdów samochodowych (ang*-niem*)",81.099999999999994,122,"1Z wielozawodowa",34.4]
[null,null,123,"III Liceum Ogólnokształcące (ZS Karsznice) w Zduńskiej Woli",1,123,"Technikum (ZS nr 4) w Skierniewicach",64.55,123,"Branżowa Szkoła I stopnia w Ksawerowie",22.75]
[null,null,124,"1LW [PW] hist-ang-pol (ang-niem)",1,124,"1Ta Technik logistyk",81.8,124,"1AB Kucharz",48.05]
[null,null,125,"III Liceum Ogólnokształcące (ZS Nr 1 im. St. Staszica w Kutnie)",65.599999999999994,125,"1Tb Technik grafiki i poligrafii cyfrowej",93.45,125,"1BB mechanik-operator pojazdów i maszyn rolniczych",22.75]
[null,null,126,"1D [O] hist-pol-wos (ang-fra,ros,niem,hisz)",65.599999999999994,126,"1Tc Technik transportu kolejowego",64.55,126,"1EB Ogrodnik",43.55]
[null,null,127,"III Liceum Ogólnokształcące (ZS Nr 3 w Pabianicach)",51.9,127,"Technikum (ZS nr1 w Wieluniu)",81.8,127,"Branżowa Szkoła I stopnia w Warcie",36.6]
[null,null,128,"1LOs LO profil socjalny",51.9,128,"1TA [O] Technik architektury krajobrazu (ang,niem-niem,ang)",82.8,128,"1b [O] wielozawodowa (niem,ang)",36.6]
[null,null,129,"III Liceum Ogólnokształcące (ZSP nr 1 w Radomsku)",59.95,129,"1TB [O] Technik budownictwa (ang,niem-ang,niem)",81.8,129,"Branżowa Szkoła I stopnia w Wieluniu (ZS nr1)",30.5]
[null,null,130,"1LM mundurowa",59.95,130,"1TR [O] Technik rachunkowości (ang,niem-ang,niem)",90.5,130,"1Bc [O] Cukiernik (niem)",41.55]
[null,null,131,"1LZ rehabilitacyjno-zdrowotna",73.8,131,"1TW [O] Technik robót wykończeniowych w budownictwie (ang*-niem*)",86.9,131,"1Bk [O] Kucharz (niem)",30.5]
[null,null,132,"III Liceum Ogólnokształcące im. Jakuba Stefana Cezaka w Zgierzu",0,132,"1TZ [O] Technik żywienia i usług gastronomicznych (ang,niem-ang,niem)",82.3,132,"1Bm [O] Monter zabudowy i robót wykończeniowych w budownictwie (niem)",53.8]
[null,null,133,"1LO [I-o] biol-pol-mat (ang-niem*)",61.65,133,"Technikum (ZS nr2 w Wieluniu)",76.2,133,"Branżowa Szkoła I stopnia w Wieluniu (ZS nr2)",45]
[null,null,134,"1LOi [I-i] biol-pol-mat (ang-niem*)",0,134,"1Te [O] Technik elektryk (ang-niem)",81,134,"1Bk [O] Kierowca mechanik (ang)",51.05]
[null,null,135,"III Liceum Ogólnokształcące im. S. Hojnowskiego (ZSP8 Tomaszów Mazowiecki)",64.400000000000006,135,"1Tg [O] Technik grafiki i poligrafii cyfrowej (ang-niem)",83.1,135,"1Bm [O] Mechanik-monter maszyn i urządzeń (ang)",49.5]
[null,null,136,"1A [O] geogr-ang-wos (ang*-niem*)",64.400000000000006,136,"1Ti [O] Technik informatyk (ang-niem)",80.8,136,"1Bs [O] Mechanik pojazdów samochodowych (ang)",45]
[null,null,137,"1B [O] hist-ang-pol (ang*-niem*)",66.2,137,"1Ts [O] Technik pojazdów samochodowych (ang-niem)",76.2,137,"Branżowa Szkoła I stopnia w Wieluniu (ZS nr3)",27.1]
[null,null,138,"1C [O] biol-chem-ang (ang*-niem*)",65.150000000000006,138,"Technikum (ZS nr3 w Wieluniu)",77.95,138,"1AP 1A_wielozawodowa",27.85]
[null,null,139,"1P [O] geogr-ang-wos (ang*-niem*)",95.3,139,"1Th [O] Technik handlowiec (ang-niem*,ros)",77.95,139,"1BP 1B_wielozawodowa",27.1]
[null,null,140,"III Liceum Ogólnokształcące w Bełchatowie",0,140,"1Tp [O] Technik programista (ang-niem*,ros)",88.6,140,"1CP 1C_wielozawodowa",29.1]
[null,null,141,"1A mistrzostwa sportowego",75.05,141,"1Ts [O] Technik spedytor (ang-niem*,ros)",84.6,141,"Branżowa Szkoła I Stopnia w Zelowie (ZSP, Zelów)",33.65]
[null,null,142,"1B psychologiczno-społeczna",91.75,142,"Technikum (ZSCKR Dobryszyce)",39.200000000000003,142,"1c [O] Mechanik pojazdów samochodowych (ang*)",33.65]
[null,null,143,"1Bi psychologiczno-społeczna (integracyjna)",0,143,"1BT [O] Technik mechanizacji rolnictwa i agrotroniki (ang-niem)",39.200000000000003,143,"1w [O] wielozawodowa (ang*)",33.85]
[null,null,144,"1C humanistyczno-językowa ",70,144,"1HT [O] Technik architektury krajobrazu (ang-niem)",42.1,144,"Branżowa Szkoła I stopnia w Złoczewie",24.4]
[null,null,145,"1D informatyczno-geograficzna",30,145,"1LT [O] Technik weterynarii (ang-niem)",42.65,145,"1br wielozawodowa",24.4]
[null,null,146,"1E ratownictwo medyczne",87.35,146,"1PT [O] Technik żywienia i usług gastronomicznych (ang-niem)",54.6,146,"Branżowa Szkoła I stopnia w ZS-CEZiU w Rawie Mazowieckiej",16.3]
[null,null,147,"III Liceum Ogólnokształcące w Sieradzu",30,147,"Technikum (ZSCKU w Wolborzu)",18.649999999999999,147,"1B_EMPS Elektromechanik pojazdów samochodowych",46.95]
[null,null,148,"1S [S] biol-geogr-ang (ang-wlo)",30,148,"1thk [O] Technik hodowca koni (ang-niem)",27.75,148,"1B_MPS Mechanik pojazdów samochodowych",21.6]
[null,null,149,"IV Liceum Ogólnokształcące (ZSP Nr 1 w Bełchatów)",51.25,149,"1Ti [O] Technik informatyk (ang-niem)",18.649999999999999,149,"1B_WZ Wielozawodowa",16.3]
[null,null,150,"1PSW/P profil ogólny tzw. klasa policyjna",51.25,150,"1Tl [O] Technik logistyk (ang-niem)",27.9,150,"1B-KCH Kucharz",43]
[null,null,151,"1PSW/W profil ogólny tzw. klasa wojskowa",54.75,151,"1tmria [O] Technik mechanizacji rolnictwa i agrotroniki (ang-niem)",26.1,151,"1B-SP Sprzedawca",43.8]
[null,null,152,"Katolickie Liceum Ogólnokształcące SPSK im. Błogosławionej Matki Teresy z Kalkuty w Łodzi",86,152,"1tps [O] Technik pojazdów samochodowych (ang-niem)",25.8,152,"Branżowa Szkoła I stopnia w ZSP w Białej Rawskiej",30.25]
[null,null,153,"1a humanistyczna",86,153,"Technikum (ZSCKZ w Bujnach)",26.9,153,"1Og Ogrodnik",30.25]
[null,null,154,"Katolickie Liceum Ogólnokształcące SPSK im. św. Stanisława Kostki w Kutnie",43.4,154,"1TLp [O] Technik leśnik (ang*-niem*)",38.75,154,"1Spr Sprzedawca",47.5]
[null,null,155,"1A Profil humanistyczny",67.25,155,"1TRp [O] Technik rolnik (ang*-niem*)",26.9,155,"Branżowa Szkoła I stopnia w Żarnowie",16.100000000000001]
[null,null,156,"1B Profil biologiczno-chemiczny",43.4,156,"1TWp [O] Technik weterynarii (ang*-niem*)",51.1,156,"1BSIs Wielozawodowa",16.100000000000001]
[null,null,157,"1D Profil językowo-turystyczny",80.099999999999994,157,"1TŻp [O] Technik żywienia i usług gastronomicznych (ang*-niem*)",34.799999999999997,157,"Szkoła Branżowa I Stopnia (Głuchów)",68.400000000000006]
[null,null,158,"1E Profil biologia-język polski",46.45,158,"Technikum (ZSE w Radomsku)",46.05,158,"1rp  Rolnik (ang*,niem*,ros*)",68.400000000000006]
[null,null,159,"Katolickie Liceum Ogólnokształcące w Wieluniu",90.5,159,"1a [O] Technik ekonomista (ang-niem)",66.849999999999994,159,"Szkoła Branżowa I stopnia (ZSP w Brzezinach)",29.15]
[null,null,160,"1c biologiczno-chemiczna  z el. ratownictwa med.",90.5,160,"1b [O] Technik rachunkowości (ang-niem)",51.65,160,"1 Wielozawodowa",29.15]
[null,null,161,"Katolickie Technikum SPSK w Łodzi",44.5,161,"1c [O] Technik fotografii i multimediów (ang-niem)",87,161,"Szkoła Branżowa I Stopnia (ZSP, Szczerców)",39.950000000000003]
[null,null,162,"1AT technik informatyk",49.25,162,"1d [O] Technik hotelarstwa (ang-fra)",65.099999999999994,162,"1BS BS wielozawodowa",39.950000000000003]
[null,null,163,"1BT technik logistyk",44.5,163,"1e [O] Technik grafiki i poligrafii cyfrowej (ang-niem)",93.85,163,"Szkoła Branżowa I Stopnia Nr 1 im. Jakuba Stefana Cezaka w Zgierzu",43.15]
[null,null,164,"Liceum Ogólnokształcące  (ZSP w Brzezinach)",37.299999999999997,164,"1f [O] Technik handlowiec (ang-niem)",46.05,164,"1BH [O] Pracownik obsługi hotelowej (ang)",48]
[null,null,165,"1aPolicyjno-prawna LO",55.4,165,"Technikum (ZSMR) w Piątku",28.15,165,"1BK [O] Kucharz (ang)",43.15]
[null,null,166,"1bSportowa LO",37.299999999999997,166,"1TLp [O] Technik logistyk (ang,niem-ang,niem*)",29,166,"Szkoła Branżowa I Stopnia Nr 2 im. Jana Pawła II w Zgierzu",28.25]
[null,null,167,"1d Promedyczny",37.9,167,"1TMRp [O] Technik mechanizacji rolnictwa i agrotroniki (ang,niem-ang,niem*)",28.15,167,"1mp Mechanik pojazdów samochodowych",28.25]
[null,null,168,"Liceum Ogólnokształcące (Zs Nr 2 w Pabianicach)",77.5,168,"Technikum (ZSP im. S.Staszica w Wieruszowie)",40.799999999999997,168,"1tp Monter zabudowy i robót wykończeniowych w bud.",37]
[null,null,169,"1LOp [O] biol-pol-wos (ang-niem*)",80,169,"1TB [O] Technik budownictwa (ang-niem)",40.799999999999997,169,"1wp Klasa wielozawodowa",42.7]
[null,null,170,"1LOw [O] geogr-pol-wos (ang-niem)",77.5,170,"1Tek [O] Technik ekonomista (ang-niem)",51.8,170,"Szkoła Branżowa I Stopnia w Ozorkowie",37.75]
[null,null,171,"Liceum Ogólnokształcące (ZS nr 4) w Skierniewicach",71.8,171,"1Th [O] Technik handlowiec (ang-niem)",55.4,171,"1_BR_ml [O] Magazynier-logistyk (ang,niem)",37.75]
[null,null,172,"1La WOJSKOWA",81.099999999999994,172,"1Tho [O] Technik hotelarstwa (ang-niem)",46.55,172,"1_BR_mps [O] Mechanik pojazdów samochodowych (ang,niem)",39.450000000000003]
[null,null,173,"1Lb POLICYJNA",78.349999999999994,173,"1Ti [O] Technik informatyk (ang-niem)",50.65,173,"1_BR_wz [O] wielozawodowa (ang,niem)",39.4]
[null,null,174,"1Lc KOSMETYCZNA",71.8,174,"1Tl [O] Technik logistyk (ang-niem)",41.2,174,"Szkoła Mistrzostwa Sportowego - Liceum Ogólnokształcące im. Mikołaja Kopernika w Aleksandrowie Łódzkim",58]
[null,null,175,"Liceum Ogólnokształcące (ZS w Bolimowie)",36.549999999999997,175,"1Tt [O] Technik mechatronik (ang-niem)",47.65,175,"1A [MS] pol-mat (ang-niem,ros)",58]
[null,null,176,"1pol policyjna",46.6,176,"Technikum (ZSP nr 3 w Pabianicach)",27.05]
[null,null,177,"1rat ratownictwo medyczne",36.549999999999997,177,"1TF Technik usług fryzjerskich",27.05]
[null,null,178,"1straz strażacka",37.049999999999997,178,"1TFo Technik fotografii i multimediów",50.7]
[null,null,179,"1woj wojskowa",38.700000000000003,179,"1TH Technik hotelarstwa",60.35]
[null,null,180,"Liceum Ogólnokształcące (ZSCKZ w Bujnach)",12,180,"1TL Technik logistyk",53.15]
[null,null,181,"1LOpp klasa policyjna",20.95,181,"1TR Technik reklamy",36]
[null,null,182,"1LOsp klasa strażacka",33,182,"Technikum (ZSP w Brzezinach) ",31.15]
[null,null,183,"1OPW Oddział Przygotowania Wojskowego",12,183,"1R Rolnik",31.15]
[null,null,184,"Liceum Ogólnokształcące (ZSMT w Ostrowie)",33.9,184,"1Tekonomista TE",62.9]
[null,null,185,"1LOa(wojskowa) [O] geogr-ang-pol (ang-niem)",33.9,185,"1Tlogistyk TL",33.85]
[null,null,186,"1LOb(policyjna) [O] hist-ang-pol (ang-niem)",43.3,186,"1Treklamy TR",62.1]
[null,null,187,"1LOc(pożarn-ratow) [O] geogr-ang-mat (ang-niem)",93.5,187,"1Tżywienia TŻ",35.799999999999997]
[null,null,188,"1LOd(mistrz.sport) 1L0SMS",60,188,"Technikum (ZSRCKU Wojsławice, Zduńska Wola)",39.75]
[null,null,189,"1LOe(wojskowaOPW) [PW] geogr-ang-pol (ang-niem)",51,189,"1TMRiA [O] Technik mechanizacji rolnictwa i agrotroniki (ang-niem*)",39.75]
[null,null,190,"Liceum Ogólnokształcące (ZSO w Łasku-Kolumnie)",54.5,190,"1TR [O] Technik rolnik (ang*-niem*)",60]
[null,null,191,"1a humanistyczno-językowa",54.5,191,"1TŻiUG [O] Technik żywienia i usług gastronomicznych (ang*-niem*)",67.5]
[null,null,192,"1b biologiczno-chemiczna",69.2,192,"Technikum (ZSZ nr 1) w Skierniewicach",48.15]
[null,null,193,"1c matematyczno-informatyczna",56,193,"1TAK Technik architektury krajobrazu (ang-niem,ros)",87.9]
[null,null,194,"Liceum Ogólnokształcące (ZSP im. W. Reymonta w Rawie Mazowieckiej)",86.7,194,"1TB Technik budownictwa (ang-niem,ros)",64.8]
[null,null,195,"1A [O] pol-obcy (ang*-niem*,ros*)",86.7,195,"1TEO Technik urządzeń i systemów energetyki odnawialnej (ang-niem,ros)",61.55]
[null,null,196,"Liceum Ogólnokształcące (ZSP w Białej Rawskiej)",93.3,196,"1TR Technik reklamy (ang-niem,ros)",88.1]
[null,null,197,"1LO LO ogólny",93.3,197,"1TUF Technik usług fryzjerskich (ang-niem,ros)",48.15]
[null,null,198,"Liceum Ogólnokształcące (ZSP w Przedborzu)",34.200000000000003,198,"Technikum (ZSZ nr 2) w Skierniewicach",22.55]
[null,null,199,"1a humanistyczno-językowa",56.85,199,"1ea Technik elektryk (ang-niem,ros)",49.7]
[null,null,200,"1B Rehabilitacyjno-sportowa",34.200000000000003,200,"1fa Technik fotografii i multimediów (ang-niem,ros)",57.05]
[null,null,201,"Liceum Ogólnokształcące (ZSP w Szczercowie)",42.7,201,"1ia Technik informatyk (ang-niem,ros)",93.85]
[null,null,202,"1a pol-hist-j.ang.humanistyczna",42.7,202,"1ma Technik mechanik (ang-niem,ros)",22.55]
[null,null,203,"1b biol-chem-mat.medyczna",64.25,203,"1pa Technik pojazdów samochodowych (ang-niem)",39.85]
[null,null,204,"1d geog-j.ang/j.obcy. lingwistyczno-menadżerska",75.650000000000006,204,"Technikum Drzewne i Ochr. Śr (ZSDiOŚ w Radomsku)",25.7]
[null,null,205,"Liceum Ogólnokształcące (ZSRCKU Wojsławice, Zduńska Wola)",45.75,205,"1A [O] Technik logistyk (ang-niem,ros)",56.2]
[null,null,206,"1LO LO Mundurowe",45.75,206,"1B [O] Technik usług fryzjerskich (ang-niem,ros)",33.4]
[null,null,207,"Liceum Ogólnokształcące im. Adama Mickiewicza w Żychlinie",45.55,207,"1C [O] Technik żywienia i usług gastronomicznych (ang-niem,ros)",31.4]
[null,null,208,"1a profil biologiczno-chemiczny",61.45,208,"1D [O] Technik technologii drewna (ang-niem,ros)",25.7]
[null,null,209,"1b profil humanistyczny",45.55,209,"Technikum Ekonomiczno-Hotelarskie (TE-H w ZSP Nr 2 w Bełchatowie)",63.2]
[null,null,210,"1c profil matematyczno - fizyczny",64.150000000000006,210,"1a Technik ekonomista",94.25]
[null,null,211,"Liceum Ogólnokształcące im. J. Iwaszkiewicza w Brzezinach",90.05,211,"1d Technik geodeta",80.95]
[null,null,212,"1B [O] biol-chem-ang (ang-niem,ros)",90.05,212,"1f Technik usług fryzjerskich",63.2]
[null,null,213,"1C [O] ang-pol-wos (ang-niem,ros)",93.25,213,"1g Technik żywienia i usług gastronomicznych",66.150000000000006]
[null,null,214,"Liceum Ogólnokształcące im. Jana Pawła II w Tuszynie",38.799999999999997,214,"1h Technik hotelarstwa",66.25]
[null,null,215,"1a1 politechniczna (ang-mat-geogr)",48.95,215,"1l Technik logistyk",64.2]
[null,null,216,"1a2 turystyczna (ang-hist-geogr)",40.799999999999997,216,"1r Technik reklamy",64.8]
[null,null,217,"1b1 zdrowotna (ang-pol-biol)",54.2,217,"Technikum Elektr.- Elektron. (ZSEE w Radomsku)",75.650000000000006]
[null,null,218,"1b2 humanistyczna (ang-pol-wos)",38.799999999999997,218,"1a [O] Technik elektronik (ang-niem)",75.650000000000006]
[null,null,219,"Liceum Ogólnokształcące im. M. Skłodowskiej-Curie w Rawie Mazowieckiej",90.15,219,"1c [O] Technik elektryk (ang-niem)",88.85]
[null,null,220,"1B biol-chem/geo-ang/mat",90.15,220,"1f [O] Technik reklamy (ang-niem)",82.3]
[null,null,221,"1C pol-wos/geo-his/ang",90.7,221,"Technikum Elektroniczne im. Bohaterów Września 1939 roku (ZS w Żychlinie)",26.1]
[null,null,222,"Liceum Ogólnokształcące im. Marii Konopnickiej w Poddębicach",25.1,222,"1TE/A [O] Technik analityk (ang-niem,ros)",26.45]
[null,null,223,"1ab politechniczna (fizyka/informatyka/geografia)",99.05,223,"1TE/G [O] Technik grafiki i poligrafii cyfrowej (ang-ros,niem)",37.950000000000003]
[null,null,224,"1de dziennikarsko-prawnicza (historia/WOS)",25.1,224,"1TE/I [O] Technik informatyk (ang-ros,niem)",26.1]
[null,null,225,"Liceum Ogólnokształcące im. Mikołaja Kopernika w Wieruszowie",74.2,225,"1TE/S [O] Technik pojazdów samochodowych (ang-ros,niem)",32.35]
[null,null,226,"1a profil politechniczny",74.849999999999994,226,"Technikum Energetyczne (ZSP Nr 1 w Bełchatowie)",57.45]
[null,null,227,"1pb profil medyczny",91.95,227,"1B [O] Technik budownictwa (ang-niem)",72.05]
[null,null,228,"1pc profil społeczny",74.2,228,"1C [O] Technik elektronik (ang-niem)",80.650000000000006]
[null,null,229,"Liceum Ogólnokształcące w Błaszkach",61.2,229,"1D [O] Technik elektryk (ang-niem)",61.45]
[null,null,230,"1A/1 hum-med",61.2,230,"1E [O] Technik urządzeń i systemów energetyki odnawialnej (ang-niem)",81.849999999999994]
[null,null,231,"1A/2 bio-chem",61.2,231,"1H [O] Technik pojazdów samochodowych (ang-niem)",72]
[null,null,232,"Liceum Ogólnokształcące w Bratoszewicach",41.4,232,"1I [O] Technik informatyk (ang-niem)",57.45]
[null,null,233,"1LO [O] ang-wos (ang-niem*,ros*)",41.4,233,"Technikum im. majora Henryka Dobrzańskiego \"Hubala\" w Drzewicy",15]
[null,null,234,"Liceum Ogólnokształcące w Warcie",39.65,234,"1TA [O] Technik logistyk (ang*-niem)",34.450000000000003]
[null,null,235,"1b pedagogiczno-dziennikarska",73.650000000000006,235,"1TB [O] Technik informatyk (ang*-niem)",30.6]
[null,null,236,"1bp mund-polic",39.65,236,"1TC [O] Technik transportu kolejowego (ang*-niem)",15]
[null,null,237,"Liceum Ogólnokształcące w Zelowie",34.75,237,"Technikum im.W.Szymborskiej w Skierniewicach (ZS nr 3) ",98.1]
[null,null,238,"1a hum.- język.",34.75,238,"1K Technik hotelarstwa",98.1]
[null,null,239,"1b biol.-med.",59.2,239,"Technikum Informatyczne (ZSP, Szczerców)",43.9]
[null,null,240,"Liceum Ogólnokształcące w Złoczewie",34,240,"1TAK Technik architektury krajobrazu",79.7]
[null,null,241,"1_A europejska",67.05,241,"1TE Technik ekonomista",43.9]
[null,null,242,"1a humanistyczna",34,242,"1TI Technik informatyk",62.45]
[null,null,243,"Liceum Sztuk Plastycznych im. Stanisława Wyspiańskiego ( ZSP6 Tomaszów Mazowiecki)",27.35,243,"1TP Technik programista",47.4]
[null,null,244,"1LSP [O] h.szt.-ang (ang-niem)",27.35,244,"Technikum Mechaniczne (ZSP w  Zelowie)",30.6]
[null,null,null,null,null,245,"1Ti [O] Technik informatyk (ang-niem)",71.400000000000006]
[null,null,null,null,null,246,"1ts [O] Technik pojazdów samochodowych (ang*-niem*)",30.6]
[null,null,null,null,null,247,"Technikum nr 1 (ZS Nr 1 im. St. Staszica w Kutnie)",35.75]
[null,null,null,null,null,248,"1e [O] Technik elektronik (ang-niem,ros)",95.25]
[null,null,null,null,null,249,"1i [O] Technik informatyk (ang-niem,ros)",49.65]
[null,null,null,null,null,250,"1m [O] Technik mechanik (ang-niem,ros)",50.7]
[null,null,null,null,null,251,"1s [O] Technik pojazdów samochodowych (ang-niem,ros)",35.75]
[null,null,null,null,null,252,"Technikum Nr 1 (ZS1 Koluszki)",43.25]
[null,null,null,null,null,253,"1TIp Technik informatyk",59.95]
[null,null,null,null,null,254,"1TPSp Technik pojazdów samochodowych",43.25]
[null,null,null,null,null,255,"Technikum nr 1 (ZSP nr 1 w Łasku)",22.65]
[null,null,null,null,null,256,"1E [O] Technik ekonomista (ang-niem)",41.6]
[null,null,null,null,null,257,"1I [O] Technik informatyk (ang-niem)",42.4]
[null,null,null,null,null,258,"1L [O] Technik logistyk (ang-niem)",46.85]
[null,null,null,null,null,259,"1R [O] Technik reklamy (ang-niem)",22.65]
[null,null,null,null,null,260,"Technikum Nr 1 (ZSP nr 1 w Sieradzu)",65.650000000000006]
[null,null,null,null,null,261,"1Tb [O] Technik budownictwa (ang*-niem*)",91]
[null,null,null,null,null,262,"1Tem [O] Technik mechanik (ang*-niem*)",75.2]
[null,null,null,null,null,263,"1Teo [O] Technik urządzeń i systemów energetyki odnawialnej (ang*-niem*)",95.1]
[null,null,null,null,null,264,"1Ts [O] Technik spawalnictwa (ang*-niem*)",65.650000000000006]
[null,null,null,null,null,265,"1TSM [O] Technik pojazdów samochodowych (ang*-niem*)",90.3]
[null,null,null,null,null,266,"Technikum nr 1 (ZSP1 Tomaszów Mazowiecki)",20.75]
[null,null,null,null,null,267,"1E [O] Technik elektryk (ang-niem*)",81.5]
[null,null,null,null,null,268,"1Et [O] Technik elektronik (ang-niem*)",28.5]
[null,null,null,null,null,269,"1H [O] Technik hotelarstwa (ang-niem*)",20.75]
[null,null,null,null,null,270,"1Iw [PW] Technik informatyk (ang-niem*)",46]
[null,null,null,null,null,271,"1M [O] Technik mechanik (ang-niem*)",48.2]
[null,null,null,null,null,272,"1Mtw [PW] Technik mechatronik (ang-niem)",46]
[null,null,null,null,null,273,"Technikum nr 1 (ZSZ nr 1) w Zduńskiej Woli",23.35]
[null,null,null,null,null,274,"1TE(ERa) [O] Technik ekonomista (ang*-niem*)",69.650000000000006]
[null,null,null,null,null,275,"1TL(PL) [O] Technik logistyk (ang*-fra*,niem*)",64.2]
[null,null,null,null,null,276,"1TM(MS) [O] Technik mechanik (ang*-ros*)",23.35]
[null,null,null,null,null,277,"1TR(RLt) [O] Technik reklamy (ang*-fra*)",33.549999999999997]
[null,null,null,null,null,278,"1TSMOT.02(MS) [O] Technik pojazdów samochodowych (ang*-ros*)",41.55]
[null,null,null,null,null,279,"1TSMOT.05(MS) [O] Technik pojazdów samochodowych (ang*-ros*)",51.5]
[null,null,null,null,null,280,"Technikum Nr 1 im. Jakuba Stefana Cezaka w Zgierzu",42.6]
[null,null,null,null,null,281,"1TC [O] Technik grafiki i poligrafii cyfrowej (ang-niem*)",56.1]
[null,null,null,null,null,282,"1TE [O] Technik ekonomista (ang-niem*)",61.4]
[null,null,null,null,null,283,"1TF [O] Technik fotografii i multimediów (ang-niem*)",62.95]
[null,null,null,null,null,284,"1THOT [O] Technik hotelarstwa (ang-hisz)",42.6]
[null,null,null,null,null,285,"1TOR [O] Technik reklamy (ang-niem*)",49.55]
[null,null,null,null,null,286,"1TOT [O] Technik organizacji turystyki (ang-hisz*)",44.15]
[null,null,null,null,null,287,"1TUG [O] Technik żywienia i usług gastronomicznych (ang-niem*)",84.3]
[null,null,null,null,null,288,"Technikum nr 1 im. Kardynała Stefana Wyszyńskiego w Łęczycy (ZSP Nr 1 w Łęczycy)",42.2]
[null,null,null,null,null,289,"1Tg [O] Technik grafiki i poligrafii cyfrowej (ang-niem,ros*)",88.1]
[null,null,null,null,null,290,"1tm [O] Technik mechanik (ang-niem,ros*)",45.65]
[null,null,null,null,null,291,"1tpr [O] Technik programista (ang-niem,ros*)",95]
[null,null,null,null,null,292,"1tps [O] Technik pojazdów samochodowych (ang-niem,ros*)",58.2]
[null,null,null,null,null,293,"1ts [O] Technik spedytor (ang-niem,ros*)",48]
[null,null,null,null,null,294,"1Tżu [O] Technik żywienia i usług gastronomicznych (ang-niem,ros*)",42.2]
[null,null,null,null,null,295,"Technikum Nr 2 (ZS2 Koluszki)",52.05]
[null,null,null,null,null,296,"1AU Technik automatyk",62]
[null,null,null,null,null,297,"1l Technik logistyk",52.05]
[null,null,null,null,null,298,"1m technik mechatronik",53.45]
[null,null,null,null,null,299,"Technikum nr 2 (ZSE) w Zduńskiej Woli",36.200000000000003]
[null,null,null,null,null,300,"1TA [O] Technik automatyk (ang*-niem*)",50.2]
[null,null,null,null,null,301,"1TE [O] Technik elektronik (ang*-niem*)",89.5]
[null,null,null,null,null,302,"1TG [O] Technik grafiki i poligrafii cyfrowej (ang*-niem*)",36.200000000000003]
[null,null,null,null,null,303,"1Ti [O] Technik informatyk (ang*-niem*)",81.7]
[null,null,null,null,null,304,"Technikum Nr 2 (ZSP nr 2 w Sieradzu)",70.150000000000006]
[null,null,null,null,null,305,"1A/1 [O] Technik rachunkowości (ang-wlo)",81.8]
[null,null,null,null,null,306,"1B/1 [O] Technik żywienia i usług gastronomicznych (ang-wlo)",84.15]
[null,null,null,null,null,307,"1B/2 [O] Technik usług fryzjerskich (ang-wlo)",70.150000000000006]
[null,null,null,null,null,308,"1B/3 [O] Technik hotelarstwa (ang-wlo)",88]
[null,null,null,null,null,309,"Technikum nr 2 (ZSP2 Tomaszów Mazowiecki)",28.4]
[null,null,null,null,null,310,"1E [O] Technik ekonomista (ang*-niem*)",42.3]
[null,null,null,null,null,311,"1G [O] Technik żywienia i usług gastronomicznych (ang*-niem*)",28.4]
[null,null,null,null,null,312,"1H [O] Technik handlowiec (ang*-niem*)",33.85]
[null,null,null,null,null,313,"1Ra [O] Technik rachunkowości (ang*-niem*)",52.35]
[null,null,null,null,null,314,"1Re [O] Technik reklamy (ang*-niem*)",38.1]
[null,null,null,null,null,315,"Technikum Nr 2 im. Jana Pawła II w Zgierzu",36.450000000000003]
[null,null,null,null,null,316,"1TBp Technik budownictwa",59.85]
[null,null,null,null,null,317,"1TEp Technik elektryk",51.35]
[null,null,null,null,null,318,"1TFp Technik usług fryzjerskich",50.5]
[null,null,null,null,null,319,"1TLp Technik logistyk",66.349999999999994]
[null,null,null,null,null,320,"1TRp Technik robotyk",87.7]
[null,null,null,null,null,321,"1TUp Technikum odnawialnych źródeł energii",36.450000000000003]
[null,null,null,null,null,322,"Technikum Nr 2 w Łęczycy (ZS im. J. Grodzkiej w Łęczycy) ",33.450000000000003]
[null,null,null,null,null,323,"1an [O] Technik analityk (ang,niem,ros-ang,niem,ros)",33.450000000000003]
[null,null,null,null,null,324,"1fot [O] Technik fotografii i multimediów (ang,niem,ros-ang,niem,ros)",35.4]
[null,null,null,null,null,325,"1tek [O] Technik ekonomista (ang,niem,ros-ang,niem,ros)",66.650000000000006]
[null,null,null,null,null,326,"1tin [O] Technik informatyk (ang,niem,ros-ang,niem,ros)",53.75]
[null,null,null,null,null,327,"Technikum nr 3 (ZS Karsznice) w Zduńskiej Woli",36.65]
[null,null,null,null,null,328,"1TH [O] Technik hotelarstwa (ang-niem,ros)",36.65]
[null,null,null,null,null,329,"1TTK [O] Technik transportu kolejowego (ang-niem,ros)",45.65]
[null,null,null,null,null,330,"1TŻ [O] Technik żywienia i usług gastronomicznych (ang-niem,ros)",47.55]
[null,null,null,null,null,331,"Technikum nr 3 (ZS nr 3 im. Wł. Grabskiego w Kutnie)",61.85]
[null,null,null,null,null,332,"1TE [O] Technik ekonomista (ang-niem,ros)",82.35]
[null,null,null,null,null,333,"1TH [O] Technik handlowiec (ang-ros)",61.85]
[null,null,null,null,null,334,"1TI [O] Technik informatyk (ang-niem*)",73.599999999999994]
[null,null,null,null,null,335,"1TL [O] Technik logistyk (ang-niem,ros)",71.349999999999994]
[null,null,null,null,null,336,"1TP [O] Technik programista (ang-niem*)",70.5]
[null,null,null,null,null,337,"1TR [O] Technik reklamy (ang-fra)",71.5]
[null,null,null,null,null,338,"Technikum nr 3 (ZSP3 Tomaszów Mazowiecki)",26.5]
[null,null,null,null,null,339,"1a Technik pojazdów samochodowych-spec.pożarnicza a/n",26.85]
[null,null,null,null,null,340,"1b Technik logistyk-specjalność pożarnicza (ang-niem)",54.65]
[null,null,null,null,null,341,"1c [O] Technik spawalnictwa (ang-niem)",26.5]
[null,null,null,null,null,342,"1e Technik mechanik (ang-niem)",34.25]
[null,null,null,null,null,343,"Technikum nr 5 im. Stanisława Wyspiańskiego (ZSP6 Tomaszów Mazowiecki)",33.6]
[null,null,null,null,null,344,"1F [O] Technik usług fryzjerskich (ang-niem)",33.6]
[null,null,null,null,null,345,"1Fo [O] Technik fotografii i multimediów (ang-niem)",58.2]
[null,null,null,null,null,346,"1G [O] Technik grafiki i poligrafii cyfrowej (ang-niem)",77.099999999999994]
[null,null,null,null,null,347,"Technikum nr 6 (ZSP8 Tomaszów Mazowiecki)",26.95]
[null,null,null,null,null,348,"1AR [O] Technik architektury krajobrazu (ang*-niem*)",26.95]
[null,null,null,null,null,349,"1TAN [O] Technik analityk (ang*-wlo)",46.7]
[null,null,null,null,null,350,"Technikum Stowarzyszenia Przyjaciół Szkół Katolickich w Kutnie",45.75]
[null,null,null,null,null,351,"1T-INF Technik informatyk",60.15]
[null,null,null,null,null,352,"1T-LOG Technik logistyk",47]
[null,null,null,null,null,353,"1T-REK Technik reklamy",49.4]
[null,null,null,null,null,354,"1T-TUR Technik organizacji turystyki",45.75]
[null,null,null,null,null,355,"Technikum Stowarzyszenia Przyjaciół Szkół Katolickich w Wieluniu",76.900000000000006]
[null,null,null,null,null,356,"1_th Technik hotelarstwa",79.3]
[null,null,null,null,null,357,"1_to Technik ochrony środowiska",76.900000000000006]
[null,null,null,null,null,358,"Technikum w Aleksandrowie Łódzkim",58.4]
[null,null,null,null,null,359,"1L 1L TECHNIK LOGISTYK",80.400000000000006]
[null,null,null,null,null,360,"1M 1M TECHNIK MECHANIK",58.4]
[null,null,null,null,null,361,"1R 1R TECHNIK REKLAMY",80.3]
[null,null,null,null,null,362,"Technikum w Błaszkach",43.4]
[null,null,null,null,null,363,"1Te ekonomista",43.4]
[null,null,null,null,null,364,"1Ti informatyk",77.25]
[null,null,null,null,null,365,"Technikum w Bratoszewicach",34.4]
[null,null,null,null,null,366,"1TI [O] Technik informatyk (ang-niem*,ros*)",39]
[null,null,null,null,null,367,"1TL [O] Technik logistyk (ang-niem*,ros*)",39.1]
[null,null,null,null,null,368,"1TŻ [O] Technik żywienia i usług gastronomicznych (ang-niem*,ros*)",34.4]
[null,null,null,null,null,369,"Technikum w Głownie",43.3]
[null,null,null,null,null,370,"1TI [O] Technik informatyk (ang*-niem*,ros*)",49.15]
[null,null,null,null,null,371,"1TL [O] Technik logistyk (ang*-ros*,niem*)",63.8]
[null,null,null,null,null,372,"1TM [O] Technik mechanik (ang*-niem*,ros*)",43.3]
[null,null,null,null,null,373,"Technikum w Ksawerowie",42.3]
[null,null,null,null,null,374,"1BT Technikum Mechanizacji Rolnictwa i Agrotroniki",44.6]
[null,null,null,null,null,375,"1HT Technikum Architektury Krajobrazu",42.3]
[null,null,null,null,null,376,"1PT Technikum Żywienia i usług gastronomicznych",46.45]
[null,null,null,null,null,377,"1RT Technikum Urządzeń i systemów energetyki odnawialn",69.75]
[null,null,null,null,null,378,"Technikum w Mroczkowie Gościnnym",24.6]
[null,null,null,null,null,379,"1A [O] Technik pojazdów samochodowych (ang*-niem*)",24.6]
[null,null,null,null,null,380,"Technikum w Opocznie",35.5]
[null,null,null,null,null,381,"1TAnal 1AUA",58.5]
[null,null,null,null,null,382,"1TAut 1AUA",79.900000000000006]
[null,null,null,null,null,383,"1TEkon 1EKŻ",72]
[null,null,null,null,null,384,"1TELek 1EET",46]
[null,null,null,null,null,385,"1TETsz 1EET",42.05]
[null,null,null,null,null,386,"1THand 1HTH",49.4]
[null,null,null,null,null,387,"1THot 1HTH",41]
[null,null,null,null,null,388,"1TInf 1INF",95.65]
[null,null,null,null,null,389,"1TMech MTM",35.5]
[null,null,null,null,null,390,"1TMtr MTM",61.4]
[null,null,null,null,null,391,"1TOtur 1HTH",54.3]
[null,null,null,null,null,392,"1TTŻ 1EKŻ",43.9]
[null,null,null,null,null,393,"Technikum w Ozorkowie",38.5]
[null,null,null,null,null,394,"1_TE [O] Technik ekonomista (ang-niem)",90.05]
[null,null,null,null,null,395,"1_TH [O] Technik handlowiec (ang-niem)",38.5]
[null,null,null,null,null,396,"1_TI [O] Technik informatyk (ang-niem)",95.7]
[null,null,null,null,null,397,"Technikum w Złoczewie",51.8]
[null,null,null,null,null,398,"1.t technik ekonomista",51.8]
[null,null,null,null,null,399,"1t technik informatyk",63]
[null,null,null,null,null,400,"Technikum w ZS-CEZiU im. M. Kopernika w Rawie Mazowieckiej",27.3]
[null,null,null,null,null,401,"1TB Technik budownictwa",27.5]
[null,null,null,null,null,402,"1TH Technik handlowiec",47.95]
[null,null,null,null,null,403,"1THo Technik hotelarstwa",40.9]
[null,null,null,null,null,404,"1THŻ Technik żywienia i usług gastronomicznych",27.3]
[null,null,null,null,null,405,"1TI Technik informatyk",49.1]
[null,null,null,null,null,406,"1TM Technik mechatronik",38.200000000000003]
[null,null,null,null,null,407,"1TPS Technik pojazdów samochodowych",33.5]
[null,null,null,null,null,408,"Technikum w ZSP im. W. Reymonta w Rawie Mazowieckiej",70.599999999999994]
[null,null,null,null,null,409,"1A [O] Technik agrobiznesu (ang*-niem*,ros*)",72.8]
[null,null,null,null,null,410,"1B [O] Technik ekonomista (ang*-niem*,ros*)",71]
[null,null,null,null,null,411,"1C [O] Technik logistyk (ang*-niem*,ros*)",70.599999999999994]
[null,null,null,null,null,412,"1D [O] Technik rolnik (ang*-niem*,ros*)",80.25]
[null,null,null,null,null,413,"Technikum w ZSP w Białej Rawskiej",60.45]
[null,null,null,null,null,414,"1TAK Technik architektury krajobrazu",60.55]
[null,null,null,null,null,415,"1TE Technik ekonomista",64]
[null,null,null,null,null,416,"1TH Technik hotelarstwa",60.6]
[null,null,null,null,null,417,"1THan Technik handlowiec",61.95]
[null,null,null,null,null,418,"1TI Technik informatyk",60.45]
[null,null,null,null,null,419,"1TO Technik ogrodnik",60.7]
[null,null,null,null,null,420,"Technikum Zawodowe (ZS nr 2 w Pabianicach)",66.650000000000006]
[null,null,null,null,null,421,"1TC [O] Technik grafiki i poligrafii cyfrowej (ang*-hisz*,ros*,niem*)",83.55]
[null,null,null,null,null,422,"1TE [O] Technik elektryk (ang*-niem*,hisz*,ros*)",78.8]
[null,null,null,null,null,423,"1TEl [O] Technik elektronik (ang*-hisz*,ros*,niem*)",66.650000000000006]
[null,null,null,null,null,424,"1Ti [O] Technik informatyk (ang*-hisz*,niem*,ros*)",73.400000000000006]
[null,null,null,null,null,425,"1Tn [O] Technik urządzeń i systemów energetyki odnawialnej (ang*-hisz*,ros*,niem*)",69.849999999999994]
[null,null,null,null,null,426,"1To [O] Technik ochrony środowiska (ang*-niem*,hisz*,ros*)",69.2]
[null,null,null,null,null,427,"1TŻ [O] Technik technologii żywności (ang*-hisz*,ros*,niem*)",88.05]
[null,null,null,null,null,428,"Technikum Zawodowe nr 2 (ZSZ Nr 2 im. dr. A. Troczewskiego w Kutnie)",43.6]
[null,null,null,null,null,429,"1TH [O] Technik hotelarstwa (ang*-niem*)",43.6]
[null,null,null,null,null,430,"1TL [O] Technik logistyk (ang*-ros*)",64.099999999999994]
[null,null,null,null,null,431,"1TT [O] Technik eksploatacji portów i terminali (ang*-ros*)",62.55]
[null,null,null,null,null,432,"1Tżug [O] Technik żywienia i usług gastronomicznych (ang*-niem*)",71.900000000000006]
[null,null,null,null,null,433,"1TŻyw [O] Technik technologii żywności (ang*-niem*)",49.45]
[null,null,null,null,null,434,"Technikum Zawodowe nr 4 (ZS nr 4 im. Z. Balickiego w Kutnie - Azorach)",28.55]
[null,null,null,null,null,435,"1T_KOLEJ [O] Technik transportu kolejowego (ang*-niem*)",44.45]
[null,null,null,null,null,436,"1T_MULTIM [O] Technik fotografii i multimediów (ang*-niem*)",28.55]

{"sheet":"Wynik 2021r.","index":2,"n_rows":91,"n_cols":11,"rows_kept":91,"cut":false,"hidden":false,"merged":[[1,1,1,3],[2,1,2,3],[0,1,0,9]]}
[null,"1. Wpisz liczbę punktów\n2. Kliknij przycisk \"Odśwież listę\"\n3. Wyświetli się lista szkół\n4. Gdy pole numeryczne jest czerwone różnica pomięddzy Twoją ilością punktów, a minimalną uprawniającą do dostania się na ten kierunek jest mniejsza od 5 - jest ryzyko, że nie dostaniesz się na ten kierunek\n5. Gdy  numeryczne jest pomarańczowe różnica pomięddzy Twoją ilością punktów, a minimalną uprawniającą do dostania się na ten kierunek jest pomiędzy 5, a 30 punktów - jest umiarkowana szansa, że dostaniesz się na ten kierunek\n6. Gdy pole numeryczne jest zielone  różnica pomięddzy Twoją ilością punktów, a minimalną uprawniającą do dostania się na ten kierunek jest większa od 30 - jest duża szansa, że dostaniesz się na ten kierunek\n7. Pamiętaj, że jest narzędzie pomocnicze i opiera się o wyniki z poprzedniego roku. Ostateczną weryfikacją jest egzamin."]
[null,"Twoja liczba punktów",null,null,null,null,null,null,null,"2021 r."]
[null,100]
[null,null,null,"Licea",null,null,"Technika",null,null,"Szkoły branżowe"]
[null,null,null,"Nazwa szkoły/oddziału","Minimalna  liczba punktów z jaką kandydat został zakwalifikowany",null,"Nazwa szkoły/oddziału","Minimalna  liczba punktów z jaką kandydat został zakwalifikowany",null,"Nazwa szkoły/oddziału","Minimalna  liczba punktów z jaką kandydat został zakwalifikowany"]
[null,null,1,"II Liceum Ogólnokształcące w Łodzi",77.349999999999994,1,"Technikum nr 01 (ZSETH w Łodzi)",38.549999999999997,1,"Branżowa Szkoła I stopnia nr 04 (ZSG w Łodzi)",28.95]
[null,null,2,"1A-gr2 [O] geogr-ang-wos (ang-fra)",77.349999999999994,2,"1a [O] Technik ekonomista (ang-niem*)",38.549999999999997,2,"1ab [O] Kucharz (ang)",28.95]
[null,null,3,"VIII Liceum Ogólnokształcące w Łodzi",68.5,3,"1b [O] Technik rachunkowości (ang-niem*)",91.95,3,"Branżowa Szkoła I stopnia nr 05 (ZSP nr 5 w Łodzi)",28.65]
[null,null,4,"1A2 dwujęzyczny mat - geo",68.5,4,"1c [O] Technik hotelarstwa (ang-fra*)",42.05,4,"1c_1 [O] Sprzedawca (ang*)",40.299999999999997]
[null,null,5,"XI Liceum Ogólnokształcące w Łodzi",73.849999999999994,5,"1d [O] Technik hotelarstwa (ang-niem*)",58.65,5,"1d [O] Magazynier-logistyk (ang*)",28.65]
[null,null,6,"0W [DW] (fra-ang)",73.849999999999994,6,"1e [O] Technik organizacji turystyki (ang-fra)",46.4,6,"Branżowa Szkoła I stopnia nr 06 (ZSPS w Łodzi)",34.75]
[null,null,7,"1Bgrupa1 [O] geogr-hist-ang (ang-fra)",100,7,"1f [O] Technik eksploatacji portów i terminali (ang-fra)",39.85,7,"1a1b1 [O] Cukiernik (niem*)",34.75]
[null,null,8,"1Cgrupa1 [O] inf-ang-mat (ang-fra)",96.45,8,"Technikum nr 02 (ZSEiU w Łodzi)",31.3,8,"1b2 [O] Piekarz (niem*)",65.2]
[null,null,9,"1Cgrupa2 [O] inf-ang-mat (ang-niem)",98.95,9,"1aTE [O] Technik ekonomista (ang*-niem*)",32.049999999999997,9,"Branżowa Szkoła I stopnia nr 07 (ZSS w Łodzi)",23.1]
[null,null,10,"XLII Liceum Ogólnokształcące",42.65,10,"1bTL [O] Technik logistyk (ang*-niem*)",67,10,"1bs [O] Blacharz samochodowy (ang)",23.45]
[null,null,11,"1A Straż Graniczna",67.349999999999994,11,"1cTR [O] Technik reklamy (ang*-niem*)",41.1,11,"1es [O] Elektromechanik pojazdów samochodowych (ang)",51.6]
[null,null,12,"1Bo ogólna",42.65,12,"1dTT [O] Technik organizacji turystyki (ang*-niem*)",31.3,12,"1ks [O] Kierowca mechanik (ang)",40.1]
[null,null,13,"1Bp Policyjna",69.05,13,"Technikum nr 03",46.15,13,"1ls [O] Lakiernik samochodowy (ang)",24]
[null,null,14,"1Cd dziennikarsko-filmowa",83.2,14,"1TCHiK [O] Technik chłodnictwa i klimatyzacji (niem-ang)",69.7,14,"1ms [O] Mechanik pojazdów samochodowych (ang)",23.1]
[null,null,15,"1Cf klasa filologiczna",51.35,15,"1TEO [O] Technik urządzeń i systemów energetyki odnawialnej (niem-ang)",90.25,15,"Branżowa Szkoła I stopnia nr 09 (ZS Polit w Łodzi)",34.4]
[null,null,16,"XLIII Liceum Ogólnokształcące",45,16,"1TIS [O] Technik inżynierii sanitarnej (niem-ang)",63.4,16,"1BA-Gr.1 [O] Mechatronik (ang)",34.4]
[null,null,17,"1a humanistyczna",47.3,17,"1TLOG [O] Technik logistyk (ang-niem)",46.15,17,"1BA-Gr.2 [O] Elektryk (ang)",39.5]
[null,null,18,"1B Sportowa Biologiczno-chemiczna(piłka ręczna /LA)",45,18,"Technikum nr 04 (ZSG w Łodzi)",31.2,18,"Branżowa Szkoła I stopnia nr 15 (ZSBT w Łodzi)",20.05]
[null,null,19,"XLVII Liceum Ogólnokształcące",40,19,"1Agr.1 [O] Technik usług kelnerskich (ang-fra)",37.9,19,"1aB/1 [O] Monter zabudowy i robót wykończeniowych w budownictwie (niem*)",20.05]
[null,null,20,"1A [O] mat-ang (ang-hisz*,niem*,ros*)",46.2,20,"1Agr.2 [O] Technik żywienia i usług gastronomicznych (ang-fra)",62.85,20,"1bB/1 [O] Monter sieci i instalacji sanitarnych (niem*)",30.05]
[null,null,21,"1B [S] ang-biol (ang-hisz*,niem*,ros*)",50,21,"1BC [O] Technik żywienia i usług gastronomicznych (ang-fra)",31.2,21,"1bB/2 [O] Stolarz (niem*)",45.95]
[null,null,22,"1C [O] wos-geogr-pol (ang-hisz*,niem*,ros*)",52.1,22,"1D [O] Technik żywienia i usług gastronomicznych (ang-fra)",48.25,22,"Branżowa Szkoła I stopnia nr 21 (ZSR w Łodzi)",33.85]
[null,null,23,"1D [S] ang-biol (ang-hisz*,niem*,ros*)",40,23,"1Egr.1 [O] Technik żywienia i usług gastronomicznych (ang-fra)",67.599999999999994,23,"1f [O] Fryzjer (ang*,niem*)",33.85]
[null,null,24,"XVIII Liceum Ogólnokształcące w Łodzi",47.25,24,"Technikum nr 05 (ZSP nr 5 w Łodzi)",60.5,24,"1j [O] Jeździec (ang*,niem*)",52.2]
[null,null,25,"1a/polic.krym. 1a",61.45,25,"1a_1 [O] Technik transportu kolejowego (ang*-niem*)",60.5,25,"Branżowa Szkoła I stopnia nr 22 (ZSSiM w Łodzi)",21.45]
[null,null,26,"1b/polic.prawn. 1b",47.25,26,"1b_1 [O] Technik ekonomista (ang*-fra*)",81.7,26,"1EM/1 [O] Elektromechanik pojazdów samochodowych (ang*)",21.45]
[null,null,27,"1c/wojsk.ratow. 1c",78.8,27,"1b_2 [O] Technik handlowiec (ang*-niem*)",65.05,27,"1EM/2 [O] Mechanik motocyklowy (ang*)",26.3]
[null,null,28,"XX Liceum Ogólnokształcące w Łodzi",78.75,28,"Technikum nr 06 (ZSPS w Łodzi)",25.9,28,"1KMB/1 [O] Kierowca mechanik (ang*)",23.65]
[null,null,29,"1b [O] biol-ang-chem (ang-hisz,niem,ros)",92.05,29,"1ta1tb [O] Technik technologii żywności (ang*-niem*)",25.9,29,"1KMB/3 [O] Blacharz samochodowy (ang*)",41.55]
[null,null,30,"1c [O] pol-hist-wos (ang-hisz,niem,ros)",78.75,30,"1tc [O] Technik kontroli jakości i bezpieczeństwa żywności (ang*-niem*)",58.85]
[null,null,31,"XXI Liceum Ogólnokształcące w Łodzi",82.65,31,"Technikum nr 07 (ZSS w Łodzi)",55.75]
[null,null,32,"1E2 [O] hiszp-pol (ang,hisz-fra)",82.65,32,"1a [O] Technik pojazdów samochodowych (ang-niem*)",65.7]
[null,null,33,"XXIII Liceum Ogólnokształcące w Łodzi",33.450000000000003,33,"1b [O] Technik pojazdów samochodowych (ang-niem*)",55.75]
[null,null,34,"1M 1M medialno-dziennikarska",44,34,"1d [O] Technik mechatronik (ang-niem*)",57.15]
[null,null,35,"1PC 1PC przyrodnicza - biologia i chemia",57.5,35,"Technikum nr 09 (ZS Polit w Łodzi)",53.6]
[null,null,36,"1PG 1PG przyrodnicza - biologia i geografia",58,36,"1A-Gr.1 [O] Technik elektronik (ang-niem)",59.6]
[null,null,37,"1SA 1SA społeczna z językiem angielskim",33.450000000000003,37,"1B-Gr.1 [O] Technik elektryk (ang-niem)",89.5]
[null,null,38,"1SG 1SG społeczna z geografią",77.099999999999994,38,"1B-Gr.2 [O] Technik energetyk (ang-niem)",53.6]
[null,null,39,"XXIV Liceum Ogólnokształcące w Łodzi",57.5,39,"Technikum nr 10 (ZSEI w Łodzi)",37.450000000000003]
[null,null,40,"1A [O] ang-pol-wos (ang-hisz*,niem,ros*)",90.1,40,"1e [O] Technik elektronik (ang-niem*)",37.450000000000003]
[null,null,41,"1B [O] geogr-ang-hiszp (ang-hisz*)",88.45,41,"1t [O] Technik teleinformatyk (ang-niem*)",73.400000000000006]
[null,null,42,"1C [O] biol-mat (ang-hisz*,niem,ros*)",57.5,42,"Technikum nr 12 (ZSPM w Łodzi)",40.299999999999997]
[null,null,43,"1D [O] geogr-ang-mat (ang-niem,ros*,hisz*)",60.25,43,"1a [O] Technik przemysłu mody (ang*-niem)",40.299999999999997]
[null,null,44,"XXXII Liceum Ogólnokształcące w ZSO nr 1 w Łodzi",70.8,44,"1f [O] Technik fotografii i multimediów (ang*-niem)",82.9]
[null,null,45,"0Hw wstępny-dw-hiszp",70.8,45,"1s [O] Technik stylista (ang*-niem)",57.65]
[null,null,46,"1A 1A mat-fiz-ang/inf",71.849999999999994,46,"Technikum nr 13 (ZSG-T w Łodzi)",43.5]
[null,null,47,"XXXIV Liceum Ogólnokształcące w Łodzi",38.5,47,"1A [O] Technik geodeta (ang-hisz,niem)",63.55]
[null,null,48,"1A klasa językowo-geograficzna",61.4,48,"1B [O] Technik informatyk (ang-hisz,niem)",57.95]
[null,null,49,"1C klasa humanistyczna",38.5,49,"1C [O] Technik leśnik (ang-hisz,niem)",43.5]
[null,null,null,null,null,50,"1D [O] Technik informatyk (ang-hisz,niem)",44.55]
[null,null,null,null,null,51,"Technikum nr 15 (ZSBT w Łodzi)",37.049999999999997]
[null,null,null,null,null,52,"1aT [O] Technik budownictwa (ang-niem*)",56.7]
[null,null,null,null,null,53,"1bT [O] Technik robót wykończeniowych w budownictwie (ang-niem*)",50.2]
[null,null,null,null,null,54,"1cT/2 [O] Technik technologii drewna (ang-niem*)",71]
[null,null,null,null,null,55,"1dT/1 [O] Technik urządzeń i systemów energetyki odnawialnej (ang-niem*)",37.049999999999997]
[null,null,null,null,null,56,"1dT/2 [O] Technik ochrony środowiska (ang-niem*)",71.599999999999994]
[null,null,null,null,null,57,"Technikum nr 17 (ZSTI)",38.950000000000003]
[null,null,null,null,null,58,"1tm [O] Technik mechatronik (ang-niem*)",53.7]
[null,null,null,null,null,59,"1tmm [O] Technik mechanik (ang-niem*)",38.950000000000003]
[null,null,null,null,null,60,"Technikum nr 18 Poligraficzne (ZSPol w Łodzi)",30.9]
[null,null,null,null,null,61,"1ga,gb [O] Technik grafiki i poligrafii cyfrowej (ang-niem)",30.9]
[null,null,null,null,null,62,"1gr [O] Technik reklamy (ang-niem)",38.15]
[null,null,null,null,null,63,"Technikum nr 19 (CKZiU w Łodzi)",44.3]
[null,null,null,null,null,64,"1TF [O] Technik fotografii i multimediów (ang*-niem*)",84.8]
[null,null,null,null,null,65,"1Ti [O] Technik informatyk (ang*-niem*)",82.3]
[null,null,null,null,null,66,"1TL [O] Technik logistyk (ang*-niem*)",76.05]
[null,null,null,null,null,67,"1TSA_1 [O] Technik analityk (ang*-niem*)",57.55]
[null,null,null,null,null,68,"1TSA_2 [O] Technik spedytor (ang*-niem*)",44.3]
[null,null,null,null,null,69,"1TWe [O] Technik weterynarii (ang*-niem*)",86.95]
[null,null,null,null,null,70,"Technikum nr 20 (ZSET w Łodzi)",41.65]
[null,null,null,null,null,71,"1em1 [O] Technik elektryk (ang-niem*)",55.25]
[null,null,null,null,null,72,"1em2 [O] Technik mechanik (ang-niem*)",41.65]
[null,null,null,null,null,73,"1in [O] Technik informatyk (ang-niem*)",91.7]
[null,null,null,null,null,74,"1m [O] Technik mechatronik (ang-niem*)",69.650000000000006]
[null,null,null,null,null,75,"1od1 [O] Technik urządzeń i systemów energetyki odnawialnej (ang-niem*)",51.45]
[null,null,null,null,null,76,"1od2 [O] Technik urządzeń dźwigowych (ang-niem*)",43.3]
[null,null,null,null,null,77,"Technikum nr 21 (ZSR w Łodzi)",23.65]
[null,null,null,null,null,78,"1a [O] Technik architektury krajobrazu (ang-niem)",36.75]
[null,null,null,null,null,79,"1F [O] Technik usług fryzjerskich (ang-niem)",25.3]
[null,null,null,null,null,80,"1g [O] Technik ogrodnik (ang-niem)",69.400000000000006]
[null,null,null,null,null,81,"1h [O] Technik hodowca koni (ang-niem)",23.65]
[null,null,null,null,null,82,"1o [O] Technik optyk (ang-niem)",43.5]
[null,null,null,null,null,83,"Technikum nr 22 (ZSSiM w Łodzi)",21.8]
[null,null,null,null,null,84,"1TMT/1 [O] Technik mechatronik (ang*-niem*)",30.95]
[null,null,null,null,null,85,"1TMT/2 [O] Technik transportu drogowego (ang*-niem*)",29.7]
[null,null,null,null,null,86,"1Ts [O] Technik pojazdów samochodowych (ang*-niem*)",21.8]

{"sheet":"Licea ogólnokształcące 2022r.","index":3,"n_rows":504,"n_cols":5,"rows_kept":504,"cut":false,"hidden":false,"merged":[]}
["Nazwa szkoły/oddziału","Minimalna  liczba punktów z jaką kandydat został zakwalifikowany","Średnia  liczba punktów z jaką kandydat został zakwalifikowany","Maksymalnaliczba punktów z jaką kandydat został zakwalifikowany","sprawdzenie"]
["I Liceum Ogólnokształcące w Łodzi",155.35,178.34734848484845,198.6,{"$f":"IF('Wynik 2022r.'!$B$3>='Licea ogólnokształcące 2022r.'!B2,1,\"\")","v":""}]
["1_A1_GEO-MAT-ANG [O] geogr-ang-mat (ang-fra*,niem*)",174.4,179.85294117647058,191,{"$f":"IF('Wynik 2022r.'!$B$3>='Licea ogólnokształcące 2022r.'!B3,1,\"\")","v":""}]
["1_A2_POL-HIS-ANG [O] hist-ang-pol (ang-fra*,niem*)",157.65,173.24999999999997,183,{"$f":"IF('Wynik 2022r.'!$B$3>='Licea ogólnokształcące 2022r.'!B4,1,\"\")","v":""}]
["1_B_MAT-FIZ-INF [O] fiz-inf-mat (ang-fra*,niem*)",171.85,178.37727272727275,192.55,{"$f":"IF('Wynik 2022r.'!$B$3>='Licea ogólnokształcące 2022r.'!B5,1,\"\")","v":""}]
["1_C1_CHEM-FIZ-MAT [O] chem-fiz-mat (ang-niem*,fra*)",171.75,178.74999999999997,195,{"$f":"IF('Wynik 2022r.'!$B$3>='Licea ogólnokształcące 2022r.'!B6,1,\"\")","v":""}]
["1_C2_BIOL-CHEM-MAT [O] biol-chem-mat (ang-fra*,niem*)",166,176.7029411764706,185.15,{"$f":"IF('Wynik 2022r.'!$B$3>='Licea ogólnokształcące 2022r.'!B7,1,\"\")","v":""}]
["1_D_BIOL-CHEM-MAT [O] biol-chem-mat (ang-niem*,fra*)",155.35,180.66515151515151,198.6,{"$f":"IF('Wynik 2022r.'!$B$3>='Licea ogólnokształcące 2022r.'!B8,1,\"\")","v":""}]
["II Liceum Ogólnokształcące w Łodzi",121.9,144.79053030303029,173.15,{"$f":"IF('Wynik 2022r.'!$B$3>='Licea ogólnokształcące 2022r.'!B9,1,\"\")","v":""}]
["1A-gr1 [O] geogr-ang-wos (ang-niem)",125,142.36562499999999,163.95,{"$f":"IF('Wynik 2022r.'!$B$3>='Licea ogólnokształcące 2022r.'!B10,1,\"\")","v":""}]
["1A-gr2 [O] geogr-ang-wos (ang-fra)",127.8,149.46470588235294,173.15,{"$f":"IF('Wynik 2022r.'!$B$3>='Licea ogólnokształcące 2022r.'!B11,1,\"\")","v":""}]
["1B-gr1 [O] hist-ang-pol (ang-niem)",121.9,131.11875000000001,155.65,{"$f":"IF('Wynik 2022r.'!$B$3>='Licea ogólnokształcące 2022r.'!B12,1,\"\")","v":""}]
["1B-gr2 [O] hist-ang-pol (ang-fra)",125.05,134.64117647058825,169.1,{"$f":"IF('Wynik 2022r.'!$B$3>='Licea ogólnokształcące 2022r.'!B13,1,\"\")","v":""}]
["1C-gr1 [O] biol-chem-ang (ang-niem)",143.1,150.18823529411767,169.7,{"$f":"IF('Wynik 2022r.'!$B$3>='Licea ogólnokształcące 2022r.'!B14,1,\"\")","v":""}]
["1C-gr2 [O] biol-chem-ang (ang-fra)",147.9,156.02187500000002,169,{"$f":"IF('Wynik 2022r.'!$B$3>='Licea ogólnokształcące 2022r.'!B15,1,\"\")","v":""}]
["1D-gr1 [O] h.szt.-ang-pol (ang-niem)",129.6,139.94374999999999,155.75,{"$f":"IF('Wynik 2022r.'!$B$3>='Licea ogólnokształcące 2022r.'!B16,1,\"\")","v":""}]
["1D-gr2 [O] h.szt.-ang-pol (ang-fra)",137,154.00882352941176,171.45,{"$f":"IF('Wynik 2022r.'!$B$3>='Licea ogólnokształcące 2022r.'!B17,1,\"\")","v":""}]
["III Liceum Ogólnokształcące w Łodzi",145.44999999999999,171.90398773006137,195.85,{"$f":"IF('Wynik 2022r.'!$B$3>='Licea ogólnokształcące 2022r.'!B18,1,\"\")","v":""}]
["1a pol-hist-geo",160.6,166.3818181818182,181,{"$f":"IF('Wynik 2022r.'!$B$3>='Licea ogólnokształcące 2022r.'!B19,1,\"\")","v":""}]
["1b biol-chem-mat",145.44999999999999,174.23333333333329,195.85,{"$f":"IF('Wynik 2022r.'!$B$3>='Licea ogólnokształcące 2022r.'!B20,1,\"\")","v":""}]
["1c biol-chem-mat ",165.25,168.66363636363633,187.3,{"$f":"IF('Wynik 2022r.'!$B$3>='Licea ogólnokształcące 2022r.'!B21,1,\"\")","v":""}]
["1d geogr-ang-mat ",169.45,174.33484848484849,189.5,{"$f":"IF('Wynik 2022r.'!$B$3>='Licea ogólnokształcące 2022r.'!B22,1,\"\")","v":""}]
["1e fiz-ang-mat",168.3,176.16451612903225,187.05,{"$f":"IF('Wynik 2022r.'!$B$3>='Licea ogólnokształcące 2022r.'!B23,1,\"\")","v":""}]
["IV Liceum Ogólnokształcące w Łodzi",149.85,166.20245398773002,187.3,{"$f":"IF('Wynik 2022r.'!$B$3>='Licea ogólnokształcące 2022r.'!B24,1,\"\")","v":""}]
["1Agr1 [O] fiz-mat (ang-hisz)",160,165.23749999999998,176.4,{"$f":"IF('Wynik 2022r.'!$B$3>='Licea ogólnokształcące 2022r.'!B25,1,\"\")","v":""}]
["1Agr2 [O] fiz-mat (ang-fra)",152,159.37812499999998,168.45,{"$f":"IF('Wynik 2022r.'!$B$3>='Licea ogólnokształcące 2022r.'!B26,1,\"\")","v":""}]
["1BpreIB [D] hist-ang-pol (ang-fra,hisz*,niem)",156.9,164.56406249999998,177.3,{"$f":"IF('Wynik 2022r.'!$B$3>='Licea ogólnokształcące 2022r.'!B27,1,\"\")","v":""}]
["1CpreIB [D] geogr-ang-pol (ang-hisz*,fra,niem)",158.69999999999999,166.81363636363633,184.75,{"$f":"IF('Wynik 2022r.'!$B$3>='Licea ogólnokształcące 2022r.'!B28,1,\"\")","v":""}]
["1DpreIB [D] biol-chem-ang (ang-fra,niem,hisz*)",149.85,172.78787878787875,187.3,{"$f":"IF('Wynik 2022r.'!$B$3>='Licea ogólnokształcące 2022r.'!B29,1,\"\")","v":""}]
["1Egr1 [O] biol-chem (ang-hisz)",162.05000000000001,166.36470588235295,182.25,{"$f":"IF('Wynik 2022r.'!$B$3>='Licea ogólnokształcące 2022r.'!B30,1,\"\")","v":""}]
["1Egr2 [O] biol-chem (ang-niem)",157.15,162.25312499999998,171.45,{"$f":"IF('Wynik 2022r.'!$B$3>='Licea ogólnokształcące 2022r.'!B31,1,\"\")","v":""}]
["IX Liceum Ogólnokształcące w Łodzi",113.3,138.68484848484852,179.15,{"$f":"IF('Wynik 2022r.'!$B$3>='Licea ogólnokształcące 2022r.'!B32,1,\"\")","v":""}]
["1a matematyczno - informatyczna",142.4,151.35303030303029,178.9,{"$f":"IF('Wynik 2022r.'!$B$3>='Licea ogólnokształcące 2022r.'!B33,1,\"\")","v":""}]
["1b biologiczno - językowa",113.3,133.70530303030304,179.15,{"$f":"IF('Wynik 2022r.'!$B$3>='Licea ogólnokształcące 2022r.'!B34,1,\"\")","v":""}]
["1c humanistyczna",118.2,132.55303030303028,163.69999999999999,{"$f":"IF('Wynik 2022r.'!$B$3>='Licea ogólnokształcące 2022r.'!B35,1,\"\")","v":""}]
["1d turystyczno - językowa",128.1,142.10757575757577,162.44999999999999,{"$f":"IF('Wynik 2022r.'!$B$3>='Licea ogólnokształcące 2022r.'!B36,1,\"\")","v":""}]
["VI Liceum Ogólnokształcące w Łodzi",117,140.58535353535365,196.85,{"$f":"IF('Wynik 2022r.'!$B$3>='Licea ogólnokształcące 2022r.'!B37,1,\"\")","v":""}]
["1a turystyczno-krajoznawcza",118.95,137.20606060606062,170.2,{"$f":"IF('Wynik 2022r.'!$B$3>='Licea ogólnokształcące 2022r.'!B38,1,\"\")","v":""}]
["1b teatralna",117,143.88030303030297,196.85,{"$f":"IF('Wynik 2022r.'!$B$3>='Licea ogólnokształcące 2022r.'!B39,1,\"\")","v":""}]
["1c nowe media",130.94999999999999,145.89090909090905,174.15,{"$f":"IF('Wynik 2022r.'!$B$3>='Licea ogólnokształcące 2022r.'!B40,1,\"\")","v":""}]
["1e taneczna",121.15,142.92499999999998,170.2,{"$f":"IF('Wynik 2022r.'!$B$3>='Licea ogólnokształcące 2022r.'!B41,1,\"\")","v":""}]
["1f filmowa",117.35,135.14761904761906,168.7,{"$f":"IF('Wynik 2022r.'!$B$3>='Licea ogólnokształcące 2022r.'!B42,1,\"\")","v":""}]
["1z prozdrowotna",122.7,141.35303030303029,169.8,{"$f":"IF('Wynik 2022r.'!$B$3>='Licea ogólnokształcące 2022r.'!B43,1,\"\")","v":""}]
["VIII Liceum Ogólnokształcące w Łodzi",136.25,160.01098484848487,180.7,{"$f":"IF('Wynik 2022r.'!$B$3>='Licea ogólnokształcące 2022r.'!B44,1,\"\")","v":""}]
["0w_biolchem 0 wstępna biologiczno-chemiczna",161.44999999999999,170.60909090909092,177.15,{"$f":"IF('Wynik 2022r.'!$B$3>='Licea ogólnokształcące 2022r.'!B45,1,\"\")","v":""}]
["0w_pol-geo 0 wstępna polonistyczno-geograficzna",137.65,152.92727272727271,172.95,{"$f":"IF('Wynik 2022r.'!$B$3>='Licea ogólnokształcące 2022r.'!B46,1,\"\")","v":""}]
["1B 1B lingwistyczna",149.75,161.17575757575756,175.05,{"$f":"IF('Wynik 2022r.'!$B$3>='Licea ogólnokształcące 2022r.'!B47,1,\"\")","v":""}]
["1C 1C humanistyczna",136.25,159.99545454545452,180.7,{"$f":"IF('Wynik 2022r.'!$B$3>='Licea ogólnokształcące 2022r.'!B48,1,\"\")","v":""}]
["1D 1D biol-chem-mat",152.4,160.05151515151516,176.95,{"$f":"IF('Wynik 2022r.'!$B$3>='Licea ogólnokształcące 2022r.'!B49,1,\"\")","v":""}]
["XI Liceum Ogólnokształcące w Łodzi",114.45,147.02725321888414,192,{"$f":"IF('Wynik 2022r.'!$B$3>='Licea ogólnokształcące 2022r.'!B50,1,\"\")","v":""}]
["0W [DW] (fra-ang)",124.8,146.12666666666672,165.65,{"$f":"IF('Wynik 2022r.'!$B$3>='Licea ogólnokształcące 2022r.'!B51,1,\"\")","v":""}]
["1Agrupa1 [D] hist-niem-pol (ang-niem)",114.45,142.76153846153846,174.6,{"$f":"IF('Wynik 2022r.'!$B$3>='Licea ogólnokształcące 2022r.'!B52,1,\"\")","v":""}]
["1Agrupa2 [D] biol-chem-mat (ang-hisz)",124.6,146.345,174.45,{"$f":"IF('Wynik 2022r.'!$B$3>='Licea ogólnokształcące 2022r.'!B53,1,\"\")","v":""}]
["1Cgrupa1 [O] inf-ang-mat (ang-fra)",147.15,159.56333333333333,179.8,{"$f":"IF('Wynik 2022r.'!$B$3>='Licea ogólnokształcące 2022r.'!B54,1,\"\")","v":""}]
["1Cgrupa2 [O] inf-ang-mat (ang-niem)",150.15,162.83000000000001,192,{"$f":"IF('Wynik 2022r.'!$B$3>='Licea ogólnokształcące 2022r.'!B55,1,\"\")","v":""}]
["1Dgrupa1 [O] hist-ang-pol (ang-fra)",135.15,149.67333333333332,169.55,{"$f":"IF('Wynik 2022r.'!$B$3>='Licea ogólnokształcące 2022r.'!B56,1,\"\")","v":""}]
["1Dgrupa2 [O] hist-ang-pol (ang-niem)",125.6,136.12333333333331,168.3,{"$f":"IF('Wynik 2022r.'!$B$3>='Licea ogólnokształcące 2022r.'!B57,1,\"\")","v":""}]
["1Egrupa1 [O] biol-chem-ang (ang-fra)",121.9,142.5983333333333,184.55,{"$f":"IF('Wynik 2022r.'!$B$3>='Licea ogólnokształcące 2022r.'!B58,1,\"\")","v":""}]
["1Egrupa2 [O] biol-chem-mat (ang-niem)",122.55,142.3666666666667,161.4,{"$f":"IF('Wynik 2022r.'!$B$3>='Licea ogólnokształcące 2022r.'!B59,1,\"\")","v":""}]
["1Fgrupa1 [O] geogr-ang-mat (ang-niem)",146.4,157.54,178,{"$f":"IF('Wynik 2022r.'!$B$3>='Licea ogólnokształcące 2022r.'!B60,1,\"\")","v":""}]
["1Fgrupa2 [O] geogr-hiszp-mat (hisz-ang)",139.35,149.42333333333329,166.15,{"$f":"IF('Wynik 2022r.'!$B$3>='Licea ogólnokształcące 2022r.'!B61,1,\"\")","v":""}]
["XII Liceum Ogólnokształcące w Łodzi",143.15,162.70727272727268,188.15,{"$f":"IF('Wynik 2022r.'!$B$3>='Licea ogólnokształcące 2022r.'!B62,1,\"\")","v":""}]
["1A mat-fiz-ang",149.75,165.0242424242424,188.15,{"$f":"IF('Wynik 2022r.'!$B$3>='Licea ogólnokształcące 2022r.'!B63,1,\"\")","v":""}]
["1B mat-fiz",143.15,154.92878787878786,175.35,{"$f":"IF('Wynik 2022r.'!$B$3>='Licea ogólnokształcące 2022r.'!B64,1,\"\")","v":""}]
["1C mat-biol-chem",158.75,165.99545454545452,188.1,{"$f":"IF('Wynik 2022r.'!$B$3>='Licea ogólnokształcące 2022r.'!B65,1,\"\")","v":""}]
["1D mat-geo-ang",153,162.56363636363636,184.55,{"$f":"IF('Wynik 2022r.'!$B$3>='Licea ogólnokształcące 2022r.'!B66,1,\"\")","v":""}]
["XIII Liceum Ogólnokształcące w Łodzi",148.5,162.31212121212124,195.15,{"$f":"IF('Wynik 2022r.'!$B$3>='Licea ogólnokształcące 2022r.'!B67,1,\"\")","v":""}]
["0w [DW] (fra-ang,wlo)",154.94999999999999,164.34090909090915,174.6,{"$f":"IF('Wynik 2022r.'!$B$3>='Licea ogólnokształcące 2022r.'!B68,1,\"\")","v":""}]
["1a [O] geogr-hist-pol (ang-niem,fra,wlo)",148.5,155.07500000000005,172.5,{"$f":"IF('Wynik 2022r.'!$B$3>='Licea ogólnokształcące 2022r.'!B69,1,\"\")","v":""}]
["1b [O] biol-chem-mat (ang-fra,wlo,niem)",160.1,165.5390625,183.7,{"$f":"IF('Wynik 2022r.'!$B$3>='Licea ogólnokształcące 2022r.'!B70,1,\"\")","v":""}]
["1c [O] fiz-ang-mat (ang-fra,wlo,niem)",154.4,164.61060606060607,195.15,{"$f":"IF('Wynik 2022r.'!$B$3>='Licea ogólnokształcące 2022r.'!B71,1,\"\")","v":""}]
["XLII Liceum Ogólnokształcące",25.8,93.620935960591098,168.4,{"$f":"IF('Wynik 2022r.'!$B$3>='Licea ogólnokształcące 2022r.'!B72,1,\"\")","v":1}]
["1A Straż Graniczna",25.8,84.168852459016364,156.6,{"$f":"IF('Wynik 2022r.'!$B$3>='Licea ogólnokształcące 2022r.'!B73,1,\"\")","v":1}]
["1B Policyjna",54.7,90.989393939393935,130.94999999999999,{"$f":"IF('Wynik 2022r.'!$B$3>='Licea ogólnokształcące 2022r.'!B74,1,\"\")","v":1}]
["1C biologiczno-chemiczna",42.3,103.34473684210525,150.4,{"$f":"IF('Wynik 2022r.'!$B$3>='Licea ogólnokształcące 2022r.'!B75,1,\"\")","v":1}]
["1D dziennikarsko-filmowa",59.5,110.2140625,168.4,{"$f":"IF('Wynik 2022r.'!$B$3>='Licea ogólnokształcące 2022r.'!B76,1,\"\")","v":1}]
["1E filologiczna",48.4,98.623333333333349,160,{"$f":"IF('Wynik 2022r.'!$B$3>='Licea ogólnokształcące 2022r.'!B77,1,\"\")","v":1}]
["1F informatyczna",29.1,90.863888888888866,144.80000000000001,{"$f":"IF('Wynik 2022r.'!$B$3>='Licea ogólnokształcące 2022r.'!B78,1,\"\")","v":1}]
["1G ogólna",27,90.512,160.75,{"$f":"IF('Wynik 2022r.'!$B$3>='Licea ogólnokształcące 2022r.'!B79,1,\"\")","v":1}]
["XLIII Liceum Ogólnokształcące",25,79.461792452830181,164.3,{"$f":"IF('Wynik 2022r.'!$B$3>='Licea ogólnokształcące 2022r.'!B80,1,\"\")","v":1}]
["1A Flimoznawcza z edukacją medialną",51.25,86.454999999999998,123.3,{"$f":"IF('Wynik 2022r.'!$B$3>='Licea ogólnokształcące 2022r.'!B81,1,\"\")","v":1}]
["1B Prozdrowotna",37.4,96.719642857142858,157.44999999999999,{"$f":"IF('Wynik 2022r.'!$B$3>='Licea ogólnokształcące 2022r.'!B82,1,\"\")","v":1}]
["1C Sportowa (piłka nożna/lekkoatletyka)",25,44.06666666666667,50,{"$f":"IF('Wynik 2022r.'!$B$3>='Licea ogólnokształcące 2022r.'!B83,1,\"\")","v":1}]
["1D_informatyczna [O] inf-ang (ang-niem)",51.4,94.215217391304336,164.3,{"$f":"IF('Wynik 2022r.'!$B$3>='Licea ogólnokształcące 2022r.'!B84,1,\"\")","v":1}]
["1E_Turystyczna [O] geogr-ang (ang-niem*)",59.7,90.75333333333333,133.65,{"$f":"IF('Wynik 2022r.'!$B$3>='Licea ogólnokształcące 2022r.'!B85,1,\"\")","v":1}]
["XLVII Liceum Ogólnokształcące",28.5,113.4491176470588,163.30000000000001,{"$f":"IF('Wynik 2022r.'!$B$3>='Licea ogólnokształcące 2022r.'!B86,1,\"\")","v":1}]
["1A [O] inf-ang (ang-hisz,niem,ros)",31.1,110.99117647058823,150.4,{"$f":"IF('Wynik 2022r.'!$B$3>='Licea ogólnokształcące 2022r.'!B87,1,\"\")","v":1}]
["1B [S] biol-ang (ang-hisz,niem,ros)",112,145.60714285714286,150,{"$f":"IF('Wynik 2022r.'!$B$3>='Licea ogólnokształcące 2022r.'!B88,1,\"\")","v":""}]
["1C [O] geogr-pol-wos (ang-hisz,niem,ros)",28.85,89.118055555555557,148.30000000000001,{"$f":"IF('Wynik 2022r.'!$B$3>='Licea ogólnokształcące 2022r.'!B89,1,\"\")","v":1}]
["1D [S] biol-ang (ang-hisz,niem,ros)",141,148.04,150,{"$f":"IF('Wynik 2022r.'!$B$3>='Licea ogólnokształcące 2022r.'!B90,1,\"\")","v":""}]
["1E [O] geogr-ang-wos (ang-hisz,niem,ros)",28.5,87.100000000000009,148.30000000000001,{"$f":"IF('Wynik 2022r.'!$B$3>='Licea ogólnokształcące 2022r.'!B91,1,\"\")","v":1}]
["1F [O] biol-ang (ang-hisz,niem,ros)",53.35,104.40799999999999,163.30000000000001,{"$f":"IF('Wynik 2022r.'!$B$3>='Licea ogólnokształcące 2022r.'!B92,1,\"\")","v":1}]
["XV Liceum Ogólnokształcące w Łodzi",115.9,142.23937500000005,176.9,{"$f":"IF('Wynik 2022r.'!$B$3>='Licea ogólnokształcące 2022r.'!B93,1,\"\")","v":""}]
["1a [O] hist-ang-pol (ang-wlo,niem)",132.05000000000001,146.29062500000001,176.9,{"$f":"IF('Wynik 2022r.'!$B$3>='Licea ogólnokształcące 2022r.'!B94,1,\"\")","v":""}]
["1b [O] geogr-ang-mat (ang-ros,wlo)",122.4,144.79921874999997,170.85,{"$f":"IF('Wynik 2022r.'!$B$3>='Licea ogólnokształcące 2022r.'!B95,1,\"\")","v":""}]
["1c [O] biol-chem-ang (ang-niem,ros)",129.4,144.3359375,166.95,{"$f":"IF('Wynik 2022r.'!$B$3>='Licea ogólnokształcące 2022r.'!B96,1,\"\")","v":""}]
["1d [O] geogr-ang-pol (ang-ros,wlo)",115.9,130.97187499999998,154.1,{"$f":"IF('Wynik 2022r.'!$B$3>='Licea ogólnokształcące 2022r.'!B97,1,\"\")","v":""}]
["XVIII Liceum Ogólnokształcące w Łodzi",50,101.54097938144322,163.75,{"$f":"IF('Wynik 2022r.'!$B$3>='Licea ogólnokształcące 2022r.'!B98,1,\"\")","v":1}]
["1a/pol-krym [O] geogr-wos (ang-niem,ros)",50.5,97.543055555555554,162.80000000000001,{"$f":"IF('Wynik 2022r.'!$B$3>='Licea ogólnokształcące 2022r.'!B99,1,\"\")","v":1}]
["1b/pol-krym [O] pol-wos (ang-niem,ros)",50,108.47410714285711,157,{"$f":"IF('Wynik 2022r.'!$B$3>='Licea ogólnokształcące 2022r.'!B100,1,\"\")","v":1}]
["1c/wojsk [O] ang-mat (ang-niem,ros)",76.2,107.24696969696973,163.75,{"$f":"IF('Wynik 2022r.'!$B$3>='Licea ogólnokształcące 2022r.'!B101,1,\"\")","v":1}]
["1d/bezp.publ. [O] geogr-ang (ang-niem,ros)",54.55,90.259999999999991,139.15,{"$f":"IF('Wynik 2022r.'!$B$3>='Licea ogólnokształcące 2022r.'!B102,1,\"\")","v":1}]
["1e/sluzb.ratow. [O] biol-ang (ang-niem,ros)",50.4,93.893478260869571,162.6,{"$f":"IF('Wynik 2022r.'!$B$3>='Licea ogólnokształcące 2022r.'!B103,1,\"\")","v":1}]
["XX Liceum Ogólnokształcące w Łodzi",63.25,114.28055555555562,163.5,{"$f":"IF('Wynik 2022r.'!$B$3>='Licea ogólnokształcące 2022r.'!B104,1,\"\")","v":1}]
["1a-1 [O] geogr-ang-pol (ang-hisz,niem,ros)",63.25,109.28939393939392,163.5,{"$f":"IF('Wynik 2022r.'!$B$3>='Licea ogólnokształcące 2022r.'!B105,1,\"\")","v":1}]
["1a-2 [O] hist-ang-pol (ang-hisz,niem,ros)",81.25,119.5212121212121,159.9,{"$f":"IF('Wynik 2022r.'!$B$3>='Licea ogólnokształcące 2022r.'!B106,1,\"\")","v":1}]
["1b [O] biol-ang-chem (ang-hisz,niem,ros)",120.9,136.52121212121213,162.9,{"$f":"IF('Wynik 2022r.'!$B$3>='Licea ogólnokształcące 2022r.'!B107,1,\"\")","v":""}]
["1c [O] pol-hist-wos (ang-hisz,niem,ros)",80,106.13181818181815,148.4,{"$f":"IF('Wynik 2022r.'!$B$3>='Licea ogólnokształcące 2022r.'!B108,1,\"\")","v":1}]
["1d [O] biol-hiszp-pol (ang-hisz)",71.95,104.93030303030302,154.80000000000001,{"$f":"IF('Wynik 2022r.'!$B$3>='Licea ogólnokształcące 2022r.'!B109,1,\"\")","v":1}]
["XXI Liceum Ogólnokształcące w Łodzi",159.30000000000001,173.28454545454557,198.3,{"$f":"IF('Wynik 2022r.'!$B$3>='Licea ogólnokształcące 2022r.'!B110,1,\"\")","v":""}]
["1A [O] hist-ang-pol (ang-fra*,hisz*,niem*)",159.30000000000001,174.05606060606058,189,{"$f":"IF('Wynik 2022r.'!$B$3>='Licea ogólnokształcące 2022r.'!B111,1,\"\")","v":""}]
["1B [O] biol-chem-mat (ang-fra*,hisz*,niem*)",168.9,175.4787878787879,192.8,{"$f":"IF('Wynik 2022r.'!$B$3>='Licea ogólnokształcące 2022r.'!B112,1,\"\")","v":""}]
["1C [O] geogr-ang-mat (ang-fra*,hisz*,niem*)",169.7,176.78787878787875,197,{"$f":"IF('Wynik 2022r.'!$B$3>='Licea ogólnokształcące 2022r.'!B113,1,\"\")","v":""}]
["1D1 [O] hist-pol-mat (ang-fra*,hisz*,niem*)",164,170.7705882352941,198.3,{"$f":"IF('Wynik 2022r.'!$B$3>='Licea ogólnokształcące 2022r.'!B114,1,\"\")","v":""}]
["1D2 [O] pol-mat-wos (ang-fra*,hisz*,niem*)",162.6,167.96562500000002,189.6,{"$f":"IF('Wynik 2022r.'!$B$3>='Licea ogólnokształcące 2022r.'!B115,1,\"\")","v":""}]
["1E1 [O] biol-chem-mat (ang-hisz*,niem*,fra*)",166.9,169.99705882352939,188.3,{"$f":"IF('Wynik 2022r.'!$B$3>='Licea ogólnokształcące 2022r.'!B116,1,\"\")","v":""}]
["1E2 [O] chem-fiz-mat (ang-fra*,hisz*,niem*)",167.9,171.42500000000001,180.2,{"$f":"IF('Wynik 2022r.'!$B$3>='Licea ogólnokształcące 2022r.'!B117,1,\"\")","v":""}]
["XXIII Liceum Ogólnokształcące w Łodzi",26.85,102.29285714285713,166.8,{"$f":"IF('Wynik 2022r.'!$B$3>='Licea ogólnokształcące 2022r.'!B118,1,\"\")","v":1}]
["1A prozdrowotna",63.6,113.93484848484852,166.8,{"$f":"IF('Wynik 2022r.'!$B$3>='Licea ogólnokształcące 2022r.'!B119,1,\"\")","v":1}]
["1B sportowo - turystyczna",28.95,97.098888888888879,156.25,{"$f":"IF('Wynik 2022r.'!$B$3>='Licea ogólnokształcące 2022r.'!B120,1,\"\")","v":1}]
["1C1 informatyczna",105.65,124.36470588235294,156,{"$f":"IF('Wynik 2022r.'!$B$3>='Licea ogólnokształcące 2022r.'!B121,1,\"\")","v":""}]
["1C2 informatyczna",64.150000000000006,113.25416666666666,155.15,{"$f":"IF('Wynik 2022r.'!$B$3>='Licea ogólnokształcące 2022r.'!B122,1,\"\")","v":1}]
["1D prawno - medialna",48.75,88.61875000000002,142,{"$f":"IF('Wynik 2022r.'!$B$3>='Licea ogólnokształcące 2022r.'!B123,1,\"\")","v":1}]
["1E1 międzynarodowa",26.85,85.378571428571419,138.69999999999999,{"$f":"IF('Wynik 2022r.'!$B$3>='Licea ogólnokształcące 2022r.'!B124,1,\"\")","v":1}]
["1E2 międzynarodowa",103.55,121.88333333333333,141.19999999999999,{"$f":"IF('Wynik 2022r.'!$B$3>='Licea ogólnokształcące 2022r.'!B125,1,\"\")","v":""}]
["XXIV Liceum Ogólnokształcące w Łodzi",59.15,126.85974025974018,168.2,{"$f":"IF('Wynik 2022r.'!$B$3>='Licea ogólnokształcące 2022r.'!B126,1,\"\")","v":1}]
["1A [O] ang-pol-wos (ang-hisz*,niem,ros*)",115.8,132.84696969696969,168.2,{"$f":"IF('Wynik 2022r.'!$B$3>='Licea ogólnokształcące 2022r.'!B127,1,\"\")","v":""}]
["1B [O] geogr-ang-hiszp (ang-hisz*)",111,129.51969696969695,157.80000000000001,{"$f":"IF('Wynik 2022r.'!$B$3>='Licea ogólnokształcące 2022r.'!B128,1,\"\")","v":""}]
["1C [O] biol-mat (ang-hisz*,niem,ros*)",96.2,128.43181818181819,160.85,{"$f":"IF('Wynik 2022r.'!$B$3>='Licea ogólnokształcące 2022r.'!B129,1,\"\")","v":1}]
["1D [O] ang-mat (ang-hisz*,niem,ros*)",85.1,123.23333333333332,161.1,{"$f":"IF('Wynik 2022r.'!$B$3>='Licea ogólnokształcące 2022r.'!B130,1,\"\")","v":1}]
["1E [O] geogr-ang-mat (ang-niem,ros*,hisz*)",59.15,118.3125,158.75,{"$f":"IF('Wynik 2022r.'!$B$3>='Licea ogólnokształcące 2022r.'!B131,1,\"\")","v":1}]
["XXIX Liceum Ogólnokształcące w Łodzi",135.65,156.74212121212122,194.2,{"$f":"IF('Wynik 2022r.'!$B$3>='Licea ogólnokształcące 2022r.'!B132,1,\"\")","v":""}]
["1a matematyczno - fizyczna",142.55000000000001,155.46818181818182,175.45,{"$f":"IF('Wynik 2022r.'!$B$3>='Licea ogólnokształcące 2022r.'!B133,1,\"\")","v":""}]
["1b społeczno - prawna",135.65,150.35681818181828,176.75,{"$f":"IF('Wynik 2022r.'!$B$3>='Licea ogólnokształcące 2022r.'!B134,1,\"\")","v":""}]
["1c turystyczno - językowa",157.85,164.81818181818184,194.2,{"$f":"IF('Wynik 2022r.'!$B$3>='Licea ogólnokształcące 2022r.'!B135,1,\"\")","v":""}]
["1d biologiczno - chemiczna",155.30000000000001,162.7106060606061,190.7,{"$f":"IF('Wynik 2022r.'!$B$3>='Licea ogólnokształcące 2022r.'!B136,1,\"\")","v":""}]
["XXV Liceum Ogólnokształcące w Łodzi",144.9,165.28371212121212,187.55,{"$f":"IF('Wynik 2022r.'!$B$3>='Licea ogólnokształcące 2022r.'!B137,1,\"\")","v":""}]
["1a-gr1 [O] geogr-ang-mat (ang-niem*)",161.6,166.03750000000002,172.35,{"$f":"IF('Wynik 2022r.'!$B$3>='Licea ogólnokształcące 2022r.'!B138,1,\"\")","v":""}]
["1a-gr2 [O] geogr-ang-mat (ang-hisz*)",164.6,169.78235294117644,177.85,{"$f":"IF('Wynik 2022r.'!$B$3>='Licea ogólnokształcące 2022r.'!B139,1,\"\")","v":""}]
["1b-gr1 [O] fiz-ang-mat (ang-hisz*,niem*,ros*)",155.4,165.12058823529406,179.45,{"$f":"IF('Wynik 2022r.'!$B$3>='Licea ogólnokształcące 2022r.'!B140,1,\"\")","v":""}]
["1b-gr2 [O] fiz-inf-mat (ang-hisz*,ros*,niem*)",154.80000000000001,163.96875,175.3,{"$f":"IF('Wynik 2022r.'!$B$3>='Licea ogólnokształcące 2022r.'!B141,1,\"\")","v":""}]
["1c-gr1 [O] biol-chem-ang (ang-hisz*,niem*,ros*)",162.6,167.33235294117648,174.75,{"$f":"IF('Wynik 2022r.'!$B$3>='Licea ogólnokształcące 2022r.'!B142,1,\"\")","v":""}]
["1c-gr2 [O] biol-chem-mat (ang-hisz*,niem*,ros*)",159.6,164.11562500000002,178.4,{"$f":"IF('Wynik 2022r.'!$B$3>='Licea ogólnokształcące 2022r.'!B143,1,\"\")","v":""}]
["1d-gr1 [O] hist-ang-pol (ang-niem*)",144.9,158.44062500000001,168.65,{"$f":"IF('Wynik 2022r.'!$B$3>='Licea ogólnokształcące 2022r.'!B144,1,\"\")","v":""}]
["1d-gr2 [O] hist-ang-pol (ang-hisz*)",160.15,166.96764705882356,187.55,{"$f":"IF('Wynik 2022r.'!$B$3>='Licea ogólnokształcące 2022r.'!B145,1,\"\")","v":""}]
["XXVI Liceum Ogólnokształcące w Łodzi",153.25,170.59520202020209,193.55,{"$f":"IF('Wynik 2022r.'!$B$3>='Licea ogólnokształcące 2022r.'!B146,1,\"\")","v":""}]
["1A [O] pol-hist-geogr (ang-hisz)",153.25,162.3818181818182,192.5,{"$f":"IF('Wynik 2022r.'!$B$3>='Licea ogólnokształcące 2022r.'!B147,1,\"\")","v":""}]
["1B [O] fiz-inf-mat (ang-niem)",164.6,170.21969696969697,190.1,{"$f":"IF('Wynik 2022r.'!$B$3>='Licea ogólnokształcące 2022r.'!B148,1,\"\")","v":""}]
["1C [O] biol-chem-mat (ang-hisz,niem)",168.15,173.66060606060609,186.2,{"$f":"IF('Wynik 2022r.'!$B$3>='Licea ogólnokształcące 2022r.'!B149,1,\"\")","v":""}]
["1D [O] geogr-ang-mat (ang-fra,hisz)",167.8,172.16212121212121,181.55,{"$f":"IF('Wynik 2022r.'!$B$3>='Licea ogólnokształcące 2022r.'!B150,1,\"\")","v":""}]
["1E [O] biol-chem-ang (ang-ros)",166.25,171.3954545454545,186.3,{"$f":"IF('Wynik 2022r.'!$B$3>='Licea ogólnokształcące 2022r.'!B151,1,\"\")","v":""}]
["1F_gr.1 [O] fiz-ang-mat (ang-ros)",167.75,173.53235294117647,193.55,{"$f":"IF('Wynik 2022r.'!$B$3>='Licea ogólnokształcące 2022r.'!B152,1,\"\")","v":""}]
["1F_gr.2 [O] chem-ang-mat (ang-fra)",167.5,173.984375,193.35,{"$f":"IF('Wynik 2022r.'!$B$3>='Licea ogólnokształcące 2022r.'!B153,1,\"\")","v":""}]
["XXX Liceum Ogólnokształcące w Łodzi",72.849999999999994,121.26035353535353,171.95,{"$f":"IF('Wynik 2022r.'!$B$3>='Licea ogólnokształcące 2022r.'!B154,1,\"\")","v":1}]
["1A Językowo-humanistyczna",114.3,129.25151515151512,161.05000000000001,{"$f":"IF('Wynik 2022r.'!$B$3>='Licea ogólnokształcące 2022r.'!B155,1,\"\")","v":""}]
["1G Geograficzno-turystyczna",88.4,108.12424242424241,162.44999999999999,{"$f":"IF('Wynik 2022r.'!$B$3>='Licea ogólnokształcące 2022r.'!B156,1,\"\")","v":1}]
["1M Matematyczna",105.25,139.15909090909091,171.95,{"$f":"IF('Wynik 2022r.'!$B$3>='Licea ogólnokształcące 2022r.'!B157,1,\"\")","v":""}]
["1Pc Przyrodnicza z chemią rozszerzoną",107.35,135.19696969696966,160.85,{"$f":"IF('Wynik 2022r.'!$B$3>='Licea ogólnokształcące 2022r.'!B158,1,\"\")","v":""}]
["1Pg Przyrodnicza z geografią rozszerzoną",81.75,117.20303030303033,160.80000000000001,{"$f":"IF('Wynik 2022r.'!$B$3>='Licea ogólnokształcące 2022r.'!B159,1,\"\")","v":1}]
["1S Geograficzno-turystyczna",72.849999999999994,98.627272727272697,151.19999999999999,{"$f":"IF('Wynik 2022r.'!$B$3>='Licea ogólnokształcące 2022r.'!B160,1,\"\")","v":1}]
["XXXI Liceum Ogólnokształcące w Łodzi",134.9,161.36708542713572,191.15,{"$f":"IF('Wynik 2022r.'!$B$3>='Licea ogólnokształcące 2022r.'!B161,1,\"\")","v":""}]
["1Aa [O] fiz-ang-mat (ang-hisz*)",155.75,166.46363636363634,185.7,{"$f":"IF('Wynik 2022r.'!$B$3>='Licea ogólnokształcące 2022r.'!B162,1,\"\")","v":""}]
["1Aif [O] fiz-inf-mat (ang-fra*)",152.4,162.42647058823533,176.85,{"$f":"IF('Wynik 2022r.'!$B$3>='Licea ogólnokształcące 2022r.'!B163,1,\"\")","v":""}]
["1Ain [O] fiz-inf-mat (ang-niem*)",149.4,160.71874999999997,173.3,{"$f":"IF('Wynik 2022r.'!$B$3>='Licea ogólnokształcące 2022r.'!B164,1,\"\")","v":""}]
["1B [O] biol-chem-mat (ang-niem*)",156.05000000000001,163.70294117647055,176.8,{"$f":"IF('Wynik 2022r.'!$B$3>='Licea ogólnokształcące 2022r.'!B165,1,\"\")","v":""}]
["1Cf [O] geogr-ang-mat (ang-fra*)",157.55000000000001,167.16562500000001,180,{"$f":"IF('Wynik 2022r.'!$B$3>='Licea ogólnokształcące 2022r.'!B166,1,\"\")","v":""}]
["1Cn [O] geogr-ang-mat (ang-niem*)",158.6,165.82058823529411,175.45,{"$f":"IF('Wynik 2022r.'!$B$3>='Licea ogólnokształcące 2022r.'!B167,1,\"\")","v":""}]
["1D [O] geogr-hist-pol (ang-hisz*)",134.9,148.869696969697,168.65,{"$f":"IF('Wynik 2022r.'!$B$3>='Licea ogólnokształcące 2022r.'!B168,1,\"\")","v":""}]
["1E [O] chem-ang-mat (ang-hisz*)",146.75,161.0242424242424,191.15,{"$f":"IF('Wynik 2022r.'!$B$3>='Licea ogólnokształcące 2022r.'!B169,1,\"\")","v":""}]
["XXXII Liceum Ogólnokształcące w ZSO nr 1 w Łodzi",79.849999999999994,136.38994974874365,175,{"$f":"IF('Wynik 2022r.'!$B$3>='Licea ogólnokształcące 2022r.'!B170,1,\"\")","v":1}]
["0Hw wstępny-dw-hiszp",114.2,143.73030303030305,172.85,{"$f":"IF('Wynik 2022r.'!$B$3>='Licea ogólnokształcące 2022r.'!B171,1,\"\")","v":""}]
["1A/1 1A mat-fiz-ang",131.6,142.57647058823528,169.1,{"$f":"IF('Wynik 2022r.'!$B$3>='Licea ogólnokształcące 2022r.'!B172,1,\"\")","v":""}]
["1A/2 mat-fiz-inf",126.9,144.44374999999999,175,{"$f":"IF('Wynik 2022r.'!$B$3>='Licea ogólnokształcące 2022r.'!B173,1,\"\")","v":""}]
["1B 1B biol-chem-mat",123.75,146.77878787878788,172.05,{"$f":"IF('Wynik 2022r.'!$B$3>='Licea ogólnokształcące 2022r.'!B174,1,\"\")","v":""}]
["1C 1C pol-hist-wos",110.3,125.62727272727275,166.15,{"$f":"IF('Wynik 2022r.'!$B$3>='Licea ogólnokształcące 2022r.'!B175,1,\"\")","v":""}]
["1D 1D mat-geo-ang",137.9,146.67352941176472,158.80000000000001,{"$f":"IF('Wynik 2022r.'!$B$3>='Licea ogólnokształcące 2022r.'!B176,1,\"\")","v":""}]
["1E [1E] biol-ang-mat",79.849999999999994,111.73636363636365,146.35,{"$f":"IF('Wynik 2022r.'!$B$3>='Licea ogólnokształcące 2022r.'!B177,1,\"\")","v":1}]
["XXXIII Liceum Ogólnokształcące w Łodzi",134.80000000000001,152.67962962962955,177,{"$f":"IF('Wynik 2022r.'!$B$3>='Licea ogólnokształcące 2022r.'!B178,1,\"\")","v":""}]
["1_A_humanistyczna [O] pol-ang-hist (ang-hisz,niem)",142.44999999999999,153.8742424242424,169.95,{"$f":"IF('Wynik 2022r.'!$B$3>='Licea ogólnokształcące 2022r.'!B179,1,\"\")","v":""}]
["1_B_integracyjna [I-o] geogr-pol-wos (ang-hisz,niem)",134.80000000000001,141.75833333333333,155.25,{"$f":"IF('Wynik 2022r.'!$B$3>='Licea ogólnokształcące 2022r.'!B180,1,\"\")","v":""}]
["1_C_mat-chem-jęz [O] mat-chem-ang (ang-hisz,niem)",143.30000000000001,155.90909090909088,177,{"$f":"IF('Wynik 2022r.'!$B$3>='Licea ogólnokształcące 2022r.'!B181,1,\"\")","v":""}]
["1_D_mat-geograficzna [O] mat-geogr-wos (ang-hisz,niem)",141.19999999999999,153.28333333333333,166.25,{"$f":"IF('Wynik 2022r.'!$B$3>='Licea ogólnokształcące 2022r.'!B182,1,\"\")","v":""}]
["1_E_biol-chem [O] biol-chem-mat (ang-hisz)",150,157.58030303030301,171.75,{"$f":"IF('Wynik 2022r.'!$B$3>='Licea ogólnokształcące 2022r.'!B183,1,\"\")","v":""}]
["XXXIV Liceum Ogólnokształcące w Łodzi",77.3,109.28,161.69999999999999,{"$f":"IF('Wynik 2022r.'!$B$3>='Licea ogólnokształcące 2022r.'!B184,1,\"\")","v":1}]
["1A klasa językowo-amerykańska",81.599999999999994,111.75476190476192,156.5,{"$f":"IF('Wynik 2022r.'!$B$3>='Licea ogólnokształcące 2022r.'!B185,1,\"\")","v":1}]
["1b klasa geograficzno-językowa (ang-włoski)",84.7,113.07499999999999,155.15,{"$f":"IF('Wynik 2022r.'!$B$3>='Licea ogólnokształcące 2022r.'!B186,1,\"\")","v":1}]
["1C Klasa humanistyczna",80.8,93.066666666666649,120.65,{"$f":"IF('Wynik 2022r.'!$B$3>='Licea ogólnokształcące 2022r.'!B187,1,\"\")","v":1}]
["1d klasa językowo-ścisła (biol-chem)",77.3,116.88333333333333,161.69999999999999,{"$f":"IF('Wynik 2022r.'!$B$3>='Licea ogólnokształcące 2022r.'!B188,1,\"\")","v":1}]
["1D klasa językowo-ścisła (mat-inf)",107.6,117.19999999999999,142.75,{"$f":"IF('Wynik 2022r.'!$B$3>='Licea ogólnokształcące 2022r.'!B189,1,\"\")","v":""}]
["I Liceum Ogólnokształcące im Stefana Żeromskiego w Ozorkowie",74.400000000000006,143.22291666666663,191.75,{"$f":"IF('Wynik 2022r.'!$B$3>='Licea ogólnokształcące 2022r.'!B190,1,\"\")","v":1}]
["1A POLITECHNICZNO-MEDYCZNA",137.25,156.68666666666667,191.75,{"$f":"IF('Wynik 2022r.'!$B$3>='Licea ogólnokształcące 2022r.'!B191,1,\"\")","v":""}]
["1B HUMANISTYCZNA",74.400000000000006,115.95192307692308,166.75,{"$f":"IF('Wynik 2022r.'!$B$3>='Licea ogólnokształcące 2022r.'!B192,1,\"\")","v":1}]
["1C CYBER.MIL",150.19999999999999,162.11000000000001,184.4,{"$f":"IF('Wynik 2022r.'!$B$3>='Licea ogólnokształcące 2022r.'!B193,1,\"\")","v":""}]
["1D JĘZYKOWA",128.69999999999999,147.09833333333333,187.05,{"$f":"IF('Wynik 2022r.'!$B$3>='Licea ogólnokształcące 2022r.'!B194,1,\"\")","v":""}]
["I Liceum Ogólnokształcące im. Gen. J. H. Dąbrowskiego w Kutnie ",106.3,157.24735294117644,189.85,{"$f":"IF('Wynik 2022r.'!$B$3>='Licea ogólnokształcące 2022r.'!B195,1,\"\")","v":""}]
["1A mat-inf-fiz",148,163.83382352941183,183.7,{"$f":"IF('Wynik 2022r.'!$B$3>='Licea ogólnokształcące 2022r.'!B196,1,\"\")","v":""}]
["1B mat-geo-ang",146.1,161.55441176470589,183.4,{"$f":"IF('Wynik 2022r.'!$B$3>='Licea ogólnokształcące 2022r.'!B197,1,\"\")","v":""}]
["1C biol-chem-mat",106.3,152.65441176470586,176.85,{"$f":"IF('Wynik 2022r.'!$B$3>='Licea ogólnokształcące 2022r.'!B198,1,\"\")","v":""}]
["1D [O] hist-ang-pol",135,155.53970588235293,189.85,{"$f":"IF('Wynik 2022r.'!$B$3>='Licea ogólnokształcące 2022r.'!B199,1,\"\")","v":""}]
["I Liceum Ogólnokształcące im. H. Sienkiewicza w Koluszkach",83.05,140.12702702702703,179.4,{"$f":"IF('Wynik 2022r.'!$B$3>='Licea ogólnokształcące 2022r.'!B200,1,\"\")","v":1}]
["1A.1 [O] inf-ang-mat (ang-niem)",108.85,144.13749999999999,175.8,{"$f":"IF('Wynik 2022r.'!$B$3>='Licea ogólnokształcące 2022r.'!B201,1,\"\")","v":""}]
["1A.2 [O] fiz-ang-mat (ang-niem)",83.05,130.18636363636364,179.4,{"$f":"IF('Wynik 2022r.'!$B$3>='Licea ogólnokształcące 2022r.'!B202,1,\"\")","v":1}]
["1B [O] biol-chem-ang (ang-niem)",141.4,154.11071428571429,174.15,{"$f":"IF('Wynik 2022r.'!$B$3>='Licea ogólnokształcące 2022r.'!B203,1,\"\")","v":""}]
["1C [O] hist-ang-pol (ang-niem,fra,hisz)",104.75,130.12142857142857,165.4,{"$f":"IF('Wynik 2022r.'!$B$3>='Licea ogólnokształcące 2022r.'!B204,1,\"\")","v":""}]
["1D [O] geogr-ang-mat (ang-niem,fra,hisz)",97.75,137.76250000000002,174.2,{"$f":"IF('Wynik 2022r.'!$B$3>='Licea ogólnokształcące 2022r.'!B205,1,\"\")","v":1}]
["I Liceum Ogólnokształcące im. J. Dąbrowskiego w Tomaszowie Mazowieckim",124.6,156.1771739130435,191.6,{"$f":"IF('Wynik 2022r.'!$B$3>='Licea ogólnokształcące 2022r.'!B206,1,\"\")","v":""}]
["1A politechniczna",131.5,158.62058823529412,191.6,{"$f":"IF('Wynik 2022r.'!$B$3>='Licea ogólnokształcące 2022r.'!B207,1,\"\")","v":""}]
["1B LINGWISTYCZNA",139.69999999999999,157.57352941176467,180.85,{"$f":"IF('Wynik 2022r.'!$B$3>='Licea ogólnokształcące 2022r.'!B208,1,\"\")","v":""}]
["1C MEDYCZNA",156.75,169.01470588235293,191.6,{"$f":"IF('Wynik 2022r.'!$B$3>='Licea ogólnokształcące 2022r.'!B209,1,\"\")","v":""}]
["1D PRAWNO-DYPLOMATYCZNA",124.6,146.90859374999999,187.8,{"$f":"IF('Wynik 2022r.'!$B$3>='Licea ogólnokształcące 2022r.'!B210,1,\"\")","v":""}]
["1E EKONOMICZNA",131.19999999999999,156.58593750000006,183.6,{"$f":"IF('Wynik 2022r.'!$B$3>='Licea ogólnokształcące 2022r.'!B211,1,\"\")","v":""}]
["I Liceum Ogólnokształcące im. K. Jagiellończyka w Sieradzu",112.9,149.1574285714286,192.95,{"$f":"IF('Wynik 2022r.'!$B$3>='Licea ogólnokształcące 2022r.'!B212,1,\"\")","v":""}]
["1A lingwistyczna",130.69999999999999,153.28571428571428,192.95,{"$f":"IF('Wynik 2022r.'!$B$3>='Licea ogólnokształcące 2022r.'!B213,1,\"\")","v":""}]
["1B matematyczno-geograficzna",121.65,141.40285714285716,170.65,{"$f":"IF('Wynik 2022r.'!$B$3>='Licea ogólnokształcące 2022r.'!B214,1,\"\")","v":""}]
["1C MEDYCZNA",112.9,147.83285714285714,190.55,{"$f":"IF('Wynik 2022r.'!$B$3>='Licea ogólnokształcące 2022r.'!B215,1,\"\")","v":""}]
["1D politechniczna",133.55000000000001,155.43285714285713,178.85,{"$f":"IF('Wynik 2022r.'!$B$3>='Licea ogólnokształcące 2022r.'!B216,1,\"\")","v":""}]
["I Liceum Ogólnokształcące im. Kazimierza Wielkiego w Łęczycy",38.6,127.14272727272733,173.8,{"$f":"IF('Wynik 2022r.'!$B$3>='Licea ogólnokształcące 2022r.'!B217,1,\"\")","v":1}]
["1hum humanistyczna",43.7,110.70250000000001,169.95,{"$f":"IF('Wynik 2022r.'!$B$3>='Licea ogólnokształcące 2022r.'!B218,1,\"\")","v":1}]
["1med medyczna",77.7,132.4576923076923,170.85,{"$f":"IF('Wynik 2022r.'!$B$3>='Licea ogólnokształcące 2022r.'!B219,1,\"\")","v":1}]
["1pol politechniczna",38.6,141.77222222222221,168.6,{"$f":"IF('Wynik 2022r.'!$B$3>='Licea ogólnokształcące 2022r.'!B220,1,\"\")","v":1}]
["1przyr-ekon przyrodniczo-ekonomiczna",78,136.99230769230769,173.8,{"$f":"IF('Wynik 2022r.'!$B$3>='Licea ogólnokształcące 2022r.'!B221,1,\"\")","v":1}]
["I Liceum Ogólnokształcące im. Kazimierza Wielkiego w Zduńskiej Woli",105.55,143.23908730158738,182.7,{"$f":"IF('Wynik 2022r.'!$B$3>='Licea ogólnokształcące 2022r.'!B222,1,\"\")","v":""}]
["1A [O] hist-pol-wos (ang-niem,wlo)",111.5,137.86527777777781,170.4,{"$f":"IF('Wynik 2022r.'!$B$3>='Licea ogólnokształcące 2022r.'!B223,1,\"\")","v":""}]
["1B [O] fiz-ang-mat (ang-niem*)",138.5,156.40833333333336,182.15,{"$f":"IF('Wynik 2022r.'!$B$3>='Licea ogólnokształcące 2022r.'!B224,1,\"\")","v":""}]
["1C [O] biol-chem-ang (ang-niem,fra)",105.55,139.0048611111111,172.6,{"$f":"IF('Wynik 2022r.'!$B$3>='Licea ogólnokształcące 2022r.'!B225,1,\"\")","v":""}]
["1D [O] biol-chem-mat (ang-niem,fra)",125.7,150.43472222222221,170.7,{"$f":"IF('Wynik 2022r.'!$B$3>='Licea ogólnokształcące 2022r.'!B226,1,\"\")","v":""}]
["1E [O] geogr-ang-mat (ang-niem,fra)",106.9,139.97777777777776,182.7,{"$f":"IF('Wynik 2022r.'!$B$3>='Licea ogólnokształcące 2022r.'!B227,1,\"\")","v":""}]
["I Liceum Ogólnokształcące im. Stanisława Staszica w Zgierzu",65.099999999999994,126.26592592592594,179.15,{"$f":"IF('Wynik 2022r.'!$B$3>='Licea ogólnokształcące 2022r.'!B228,1,\"\")","v":1}]
["1A_grupa_1 politechniczna dwujęzyczna z j.angielskim",104.65,139.07,179.15,{"$f":"IF('Wynik 2022r.'!$B$3>='Licea ogólnokształcące 2022r.'!B229,1,\"\")","v":""}]
["1A_grupa_2 medyczna dwujęzyczna z j.angielskim",101.1,140.44999999999999,172.8,{"$f":"IF('Wynik 2022r.'!$B$3>='Licea ogólnokształcące 2022r.'!B230,1,\"\")","v":""}]
["1B_grupa_1 ekonomiczna",65.099999999999994,119.83399999999997,173.05,{"$f":"IF('Wynik 2022r.'!$B$3>='Licea ogólnokształcące 2022r.'!B231,1,\"\")","v":1}]
["1B_grupa_2 medyczna",99.75,132.46333333333334,174.15,{"$f":"IF('Wynik 2022r.'!$B$3>='Licea ogólnokształcące 2022r.'!B232,1,\"\")","v":1}]
["1C Klasa humanistyczna",90.15,115.77333333333334,166.4,{"$f":"IF('Wynik 2022r.'!$B$3>='Licea ogólnokształcące 2022r.'!B233,1,\"\")","v":1}]
["1D Klasa językowa",88.7,126.92499999999998,172.45,{"$f":"IF('Wynik 2022r.'!$B$3>='Licea ogólnokształcące 2022r.'!B234,1,\"\")","v":1}]
["I Liceum Ogólnokształcące im. Stefana Żeromskiego w Opocznie",4,109.78107476635513,183.4,{"$f":"IF('Wynik 2022r.'!$B$3>='Licea ogólnokształcące 2022r.'!B235,1,\"\")","v":1}]
["1A [O] hist-pol-wos (ang-niem*,ros*,wlo)",53.25,110.42428571428573,170.7,{"$f":"IF('Wynik 2022r.'!$B$3>='Licea ogólnokształcące 2022r.'!B236,1,\"\")","v":1}]
["1B [MS] biol-geogr-ang (ang-niem*,ros*,wlo)",4,15.52,38,{"$f":"IF('Wynik 2022r.'!$B$3>='Licea ogólnokształcące 2022r.'!B237,1,\"\")","v":1}]
["1C [O] fiz-ang-mat (ang-niem*,ros*,wlo)",78.75,139.60416666666669,163.4,{"$f":"IF('Wynik 2022r.'!$B$3>='Licea ogólnokształcące 2022r.'!B238,1,\"\")","v":1}]
["1D [O] fiz-inf-mat (ang-niem*,wlo,ros*)",80.05,129.91818181818184,170.05,{"$f":"IF('Wynik 2022r.'!$B$3>='Licea ogólnokształcące 2022r.'!B239,1,\"\")","v":1}]
["1E [O] hist-ang-pol (ang-niem*,ros*,wlo)",56.9,115.92428571428572,170.65,{"$f":"IF('Wynik 2022r.'!$B$3>='Licea ogólnokształcące 2022r.'!B240,1,\"\")","v":1}]
["1F [O] biol-chem-mat (ang-niem*,ros*,wlo)",67.8,129.16410256410256,171.9,{"$f":"IF('Wynik 2022r.'!$B$3>='Licea ogólnokształcące 2022r.'!B241,1,\"\")","v":1}]
["1G [O] geogr-ang-mat (ang-niem*,ros*,wlo)",50.15,123.52982456140352,183.4,{"$f":"IF('Wynik 2022r.'!$B$3>='Licea ogólnokształcące 2022r.'!B242,1,\"\")","v":1}]
["I Liceum Ogólnokształcące im. Tadeusza Kościuszki w Wieluniu",104.35,150.58492647058839,200,{"$f":"IF('Wynik 2022r.'!$B$3>='Licea ogólnokształcące 2022r.'!B243,1,\"\")","v":""}]
["1a/1f politechniczna",125.95,161.85882352941178,200,{"$f":"IF('Wynik 2022r.'!$B$3>='Licea ogólnokształcące 2022r.'!B244,1,\"\")","v":""}]
["1b/1c medyczna",112.5,153.74901960784314,188.4,{"$f":"IF('Wynik 2022r.'!$B$3>='Licea ogólnokształcące 2022r.'!B245,1,\"\")","v":""}]
["1d psychologiczno - coachingowa",121.2,145.74264705882351,178.65,{"$f":"IF('Wynik 2022r.'!$B$3>='Licea ogólnokształcące 2022r.'!B246,1,\"\")","v":""}]
["1e biznesowo-językowa",104.35,142.16911764705884,176.25,{"$f":"IF('Wynik 2022r.'!$B$3>='Licea ogólnokształcące 2022r.'!B247,1,\"\")","v":""}]
["1g prawniczo-medialna",104.8,131.80294117647063,166.4,{"$f":"IF('Wynik 2022r.'!$B$3>='Licea ogólnokształcące 2022r.'!B248,1,\"\")","v":""}]
["I Liceum Ogólnokształcące im. W. Broniewskiego w Bełchatowie",108,152.04095238095243,188.15,{"$f":"IF('Wynik 2022r.'!$B$3>='Licea ogólnokształcące 2022r.'!B249,1,\"\")","v":""}]
["1A politechniczna",116.65,149.5866666666667,174.45,{"$f":"IF('Wynik 2022r.'!$B$3>='Licea ogólnokształcące 2022r.'!B250,1,\"\")","v":""}]
["1B informatyczna",117.6,145.285,174.9,{"$f":"IF('Wynik 2022r.'!$B$3>='Licea ogólnokształcące 2022r.'!B251,1,\"\")","v":""}]
["1C medyczna z językiem angielskim",147.85,162.47833333333335,188.15,{"$f":"IF('Wynik 2022r.'!$B$3>='Licea ogólnokształcące 2022r.'!B252,1,\"\")","v":""}]
["1E menedżerska",108,152.99916666666658,184.25,{"$f":"IF('Wynik 2022r.'!$B$3>='Licea ogólnokształcące 2022r.'!B253,1,\"\")","v":""}]
["1F społeczna",115.8,141.09666666666672,177.65,{"$f":"IF('Wynik 2022r.'!$B$3>='Licea ogólnokształcące 2022r.'!B254,1,\"\")","v":""}]
["1G medyczna z matematyką",140.94999999999999,159.84166666666664,179.65,{"$f":"IF('Wynik 2022r.'!$B$3>='Licea ogólnokształcące 2022r.'!B255,1,\"\")","v":""}]
["I Liceum Ogólnokształcące w Głownie",35.799999999999997,129.10426829268292,181.35,{"$f":"IF('Wynik 2022r.'!$B$3>='Licea ogólnokształcące 2022r.'!B256,1,\"\")","v":1}]
["1a matematyczno-informatyczna",86.5,131.51249999999996,170.85,{"$f":"IF('Wynik 2022r.'!$B$3>='Licea ogólnokształcące 2022r.'!B257,1,\"\")","v":1}]
["1b geograficzno-językowa",68.5,135.80263157894737,181.35,{"$f":"IF('Wynik 2022r.'!$B$3>='Licea ogólnokształcące 2022r.'!B258,1,\"\")","v":1}]
["1C biologiczno-chemiczna",84.1,139.58043478260871,177.05,{"$f":"IF('Wynik 2022r.'!$B$3>='Licea ogólnokształcące 2022r.'!B259,1,\"\")","v":1}]
["1d humanistyczno-społeczna",35.799999999999997,114.92142857142861,169.55,{"$f":"IF('Wynik 2022r.'!$B$3>='Licea ogólnokształcące 2022r.'!B260,1,\"\")","v":1}]
["I Liceum Ogólnokształcące w Łasku",64.2,128.29175257731961,185.15,{"$f":"IF('Wynik 2022r.'!$B$3>='Licea ogólnokształcące 2022r.'!B261,1,\"\")","v":1}]
["1A [O] geogr-ang-pol (ang-hisz)",64.2,115.04264705882352,175.6,{"$f":"IF('Wynik 2022r.'!$B$3>='Licea ogólnokształcące 2022r.'!B262,1,\"\")","v":1}]
["1B [O] fiz-ang-mat (ang-hisz)",65.55,136.47812500000003,185.15,{"$f":"IF('Wynik 2022r.'!$B$3>='Licea ogólnokształcące 2022r.'!B263,1,\"\")","v":1}]
["1C [O] biol-chem-mat (ang-hisz)",69.45,134.37258064516129,176.9,{"$f":"IF('Wynik 2022r.'!$B$3>='Licea ogólnokształcące 2022r.'!B264,1,\"\")","v":1}]
["I Liceum Ogólnokształcące w Pabianicach",83.1,150.00624999999997,187.6,{"$f":"IF('Wynik 2022r.'!$B$3>='Licea ogólnokształcące 2022r.'!B265,1,\"\")","v":1}]
["1a ang-geog-mat",83.1,140.52031249999999,187.6,{"$f":"IF('Wynik 2022r.'!$B$3>='Licea ogólnokształcące 2022r.'!B266,1,\"\")","v":1}]
["1b biol-chem-ang",131.85,156.84687500000004,185.1,{"$f":"IF('Wynik 2022r.'!$B$3>='Licea ogólnokształcące 2022r.'!B267,1,\"\")","v":""}]
["1f mat-fiz-ang",111.4,154.27708333333337,178,{"$f":"IF('Wynik 2022r.'!$B$3>='Licea ogólnokształcące 2022r.'!B268,1,\"\")","v":""}]
["1h pol-his-ang",107.85,142.60781249999999,172.75,{"$f":"IF('Wynik 2022r.'!$B$3>='Licea ogólnokształcące 2022r.'!B269,1,\"\")","v":""}]
["I Liceum Ogólnokształcące w Radomsku",84.1,145.0342436974789,188.55,{"$f":"IF('Wynik 2022r.'!$B$3>='Licea ogólnokształcące 2022r.'!B270,1,\"\")","v":1}]
["1A językowo - dziennikarska",102,132.63088235294117,165.1,{"$f":"IF('Wynik 2022r.'!$B$3>='Licea ogólnokształcące 2022r.'!B271,1,\"\")","v":""}]
["1B językowo - prawna",84.1,127.00147058823529,188,{"$f":"IF('Wynik 2022r.'!$B$3>='Licea ogólnokształcące 2022r.'!B272,1,\"\")","v":1}]
["1C biologiczno-chemiczna",156.80000000000001,169.06911764705885,188.55,{"$f":"IF('Wynik 2022r.'!$B$3>='Licea ogólnokształcące 2022r.'!B273,1,\"\")","v":""}]
["1D matematyczno-językowa",146.4,161.09558823529412,175.45,{"$f":"IF('Wynik 2022r.'!$B$3>='Licea ogólnokształcące 2022r.'!B274,1,\"\")","v":""}]
["1E europejska",106.75,135.41911764705881,175.45,{"$f":"IF('Wynik 2022r.'!$B$3>='Licea ogólnokształcące 2022r.'!B275,1,\"\")","v":""}]
["1F ekologiczna",136.05000000000001,154.6044117647059,179.55,{"$f":"IF('Wynik 2022r.'!$B$3>='Licea ogólnokształcące 2022r.'!B276,1,\"\")","v":""}]
["II Liceum Ogolnokształcące w Radomsku",44.9,136.52651933701657,184,{"$f":"IF('Wynik 2022r.'!$B$3>='Licea ogólnokształcące 2022r.'!B277,1,\"\")","v":1}]
["1a klasa biologiczno-chemiczna",92.45,133.86911764705883,174.8,{"$f":"IF('Wynik 2022r.'!$B$3>='Licea ogólnokształcące 2022r.'!B278,1,\"\")","v":1}]
["1b klasa biologiczno-chemiczna z matematyką",80.25,139.9,170.7,{"$f":"IF('Wynik 2022r.'!$B$3>='Licea ogólnokształcące 2022r.'!B279,1,\"\")","v":1}]
["1c klasa humanistyczno-prawna",44.9,119.08939393939396,173,{"$f":"IF('Wynik 2022r.'!$B$3>='Licea ogólnokształcące 2022r.'!B280,1,\"\")","v":1}]
["1d klasa matematyczno-fizyczna",71.45,149.59464285714284,179.05,{"$f":"IF('Wynik 2022r.'!$B$3>='Licea ogólnokształcące 2022r.'!B281,1,\"\")","v":1}]
["1e klasa matematyczno-językowa",97.8,150.78181818181821,184,{"$f":"IF('Wynik 2022r.'!$B$3>='Licea ogólnokształcące 2022r.'!B282,1,\"\")","v":1}]
["1f klasa geograficzno-językowa",60.9,129.625,175.4,{"$f":"IF('Wynik 2022r.'!$B$3>='Licea ogólnokształcące 2022r.'!B283,1,\"\")","v":1}]
["II Liceum Ogólnokształcące (ZS im. J. Grodzkiej  w Łęczycy)",48.25,110.41346153846153,170.45,{"$f":"IF('Wynik 2022r.'!$B$3>='Licea ogólnokształcące 2022r.'!B284,1,\"\")","v":1}]
["1a humanistyczna",66.599999999999994,113.2,169.5,{"$f":"IF('Wynik 2022r.'!$B$3>='Licea ogólnokształcące 2022r.'!B285,1,\"\")","v":1}]
["1c matematyczno - geograficzna",80.150000000000006,129.69090909090912,170.45,{"$f":"IF('Wynik 2022r.'!$B$3>='Licea ogólnokształcące 2022r.'!B286,1,\"\")","v":1}]
["1d mundurowa",48.25,102.67419354838711,169.3,{"$f":"IF('Wynik 2022r.'!$B$3>='Licea ogólnokształcące 2022r.'!B287,1,\"\")","v":1}]
["II Liceum Ogólnokształcące im. J. Kochanowskiego w Bełchatowie",109.6,141.20750000000004,173.75,{"$f":"IF('Wynik 2022r.'!$B$3>='Licea ogólnokształcące 2022r.'!B288,1,\"\")","v":""}]
["1A społeczno - prawny",119.05,132.91500000000002,171.9,{"$f":"IF('Wynik 2022r.'!$B$3>='Licea ogólnokształcące 2022r.'!B289,1,\"\")","v":""}]
["1B językowy",125.2,142.46500000000003,173.75,{"$f":"IF('Wynik 2022r.'!$B$3>='Licea ogólnokształcące 2022r.'!B290,1,\"\")","v":""}]
["1C medyczny",133.44999999999999,147.82,166.6,{"$f":"IF('Wynik 2022r.'!$B$3>='Licea ogólnokształcące 2022r.'!B291,1,\"\")","v":""}]
["1D politechniczny",127.15,144.46166666666667,166.4,{"$f":"IF('Wynik 2022r.'!$B$3>='Licea ogólnokształcące 2022r.'!B292,1,\"\")","v":""}]
["1E menadżerski",109.6,132.74166666666665,167.8,{"$f":"IF('Wynik 2022r.'!$B$3>='Licea ogólnokształcące 2022r.'!B293,1,\"\")","v":""}]
["1F medialno - psychologiczny",131.4,146.84166666666667,171.45,{"$f":"IF('Wynik 2022r.'!$B$3>='Licea ogólnokształcące 2022r.'!B294,1,\"\")","v":""}]
["II Liceum Ogólnokształcące im. J. Korczaka w Wieluniu",28,139.82250712250715,187,{"$f":"IF('Wynik 2022r.'!$B$3>='Licea ogólnokształcące 2022r.'!B295,1,\"\")","v":1}]
["1a-filologiczna 1a",117.1,145.45000000000002,178.5,{"$f":"IF('Wynik 2022r.'!$B$3>='Licea ogólnokształcące 2022r.'!B296,1,\"\")","v":""}]
["1b-europejska 1b",122.2,136.73823529411766,168.7,{"$f":"IF('Wynik 2022r.'!$B$3>='Licea ogólnokształcące 2022r.'!B297,1,\"\")","v":""}]
["1c-praw.-dzien. 1c",129.4,154.77205882352948,181.5,{"$f":"IF('Wynik 2022r.'!$B$3>='Licea ogólnokształcące 2022r.'!B298,1,\"\")","v":""}]
["1d-biol.-chem. 1d",146.19999999999999,162.47058823529409,184.2,{"$f":"IF('Wynik 2022r.'!$B$3>='Licea ogólnokształcące 2022r.'!B299,1,\"\")","v":""}]
["1e-matemat.-język. 1e",91.15,142.0868852459017,174.9,{"$f":"IF('Wynik 2022r.'!$B$3>='Licea ogólnokształcące 2022r.'!B300,1,\"\")","v":1}]
["1f-politechniczna 1f",109.35,152.86249999999995,187,{"$f":"IF('Wynik 2022r.'!$B$3>='Licea ogólnokształcące 2022r.'!B301,1,\"\")","v":""}]
["1g-wokalno-aktorska [O] pol (ang-fra)",93.25,128.94545454545457,179.55,{"$f":"IF('Wynik 2022r.'!$B$3>='Licea ogólnokształcące 2022r.'!B302,1,\"\")","v":1}]
["1h-OPW [PW] geogr-mat (ang-niem)",28,61.766666666666666,100,{"$f":"IF('Wynik 2022r.'!$B$3>='Licea ogólnokształcące 2022r.'!B303,1,\"\")","v":1}]
["II Liceum Ogólnokształcące im. Jana Kasprowicza w Kutnie",91.65,133.69277108433738,177.4,{"$f":"IF('Wynik 2022r.'!$B$3>='Licea ogólnokształcące 2022r.'!B304,1,\"\")","v":1}]
["1A-biol-chem-mat biologiczno-chemiczno-matematyczna",114.15,143.79705882352943,177.4,{"$f":"IF('Wynik 2022r.'!$B$3>='Licea ogólnokształcące 2022r.'!B305,1,\"\")","v":""}]
["1A-mat-geo-inf matematyczno-geograficzno-informatyczna",107.95,139.40441176470588,172.5,{"$f":"IF('Wynik 2022r.'!$B$3>='Licea ogólnokształcące 2022r.'!B306,1,\"\")","v":""}]
["1B-ang-his-wos społeczno-prawna",91.65,132.20546874999997,170.8,{"$f":"IF('Wynik 2022r.'!$B$3>='Licea ogólnokształcące 2022r.'!B307,1,\"\")","v":1}]
["1D-pol-his-wos humanistyczna z edukacją dziennikarską",92.7,120.67647058823532,168,{"$f":"IF('Wynik 2022r.'!$B$3>='Licea ogólnokształcące 2022r.'!B308,1,\"\")","v":1}]
["II Liceum Ogólnokształcące im. Stefana Żeromskiego",77.95,149.11520467836255,193.4,{"$f":"IF('Wynik 2022r.'!$B$3>='Licea ogólnokształcące 2022r.'!B309,1,\"\")","v":1}]
["1b-ch [O] biol-chem-ang (ang-niem,ros)",136.55000000000001,157.15147058823527,191.4,{"$f":"IF('Wynik 2022r.'!$B$3>='Licea ogólnokształcące 2022r.'!B310,1,\"\")","v":""}]
["1h-d [O] hist-ang-pol (ang-niem,ros)",110.7,143.46805555555554,189.4,{"$f":"IF('Wynik 2022r.'!$B$3>='Licea ogólnokształcące 2022r.'!B311,1,\"\")","v":""}]
["1i-m [O] fiz-inf-mat (ang-niem,ros)",121.55,154.5902777777778,193.4,{"$f":"IF('Wynik 2022r.'!$B$3>='Licea ogólnokształcące 2022r.'!B312,1,\"\")","v":""}]
["1m-ch [O] chem-ang-mat (ang-niem,ros)",77.95,136.10483870967738,178.45,{"$f":"IF('Wynik 2022r.'!$B$3>='Licea ogólnokształcące 2022r.'!B313,1,\"\")","v":1}]
["1men [O] geogr-ang-mat (ang-niem,ros)",133.30000000000001,153.12352941176474,189.9,{"$f":"IF('Wynik 2022r.'!$B$3>='Licea ogólnokształcące 2022r.'!B314,1,\"\")","v":""}]
["II Liceum Ogólnokształcące w Opocznie",24.75,85.322340425531934,148,{"$f":"IF('Wynik 2022r.'!$B$3>='Licea ogólnokształcące 2022r.'!B315,1,\"\")","v":1}]
["1LO 1LO",24.75,85.322340425531934,148,{"$f":"IF('Wynik 2022r.'!$B$3>='Licea ogólnokształcące 2022r.'!B316,1,\"\")","v":1}]
["II Liceum Ogólnokształcące w Ozorkowie",65,100.17647058823529,126,{"$f":"IF('Wynik 2022r.'!$B$3>='Licea ogólnokształcące 2022r.'!B317,1,\"\")","v":1}]
["1_LOs [O] II Liceum Ogólnokształcące (ang-niem)",65,100.17647058823529,126,{"$f":"IF('Wynik 2022r.'!$B$3>='Licea ogólnokształcące 2022r.'!B318,1,\"\")","v":1}]
["II Liceum Ogólnokształcące w Pabianicach",92.05,144.82685185185187,186.85,{"$f":"IF('Wynik 2022r.'!$B$3>='Licea ogólnokształcące 2022r.'!B319,1,\"\")","v":1}]
["1A [O] fiz-ang-mat (ang-niem,fra,ros,wlo)",114,150.64531249999996,181.4,{"$f":"IF('Wynik 2022r.'!$B$3>='Licea ogólnokształcące 2022r.'!B320,1,\"\")","v":""}]
["1C [O] geogr-ang-mat (ang-niem,fra,ros)",92.05,141.4446428571429,180.85,{"$f":"IF('Wynik 2022r.'!$B$3>='Licea ogólnokształcące 2022r.'!B321,1,\"\")","v":1}]
["1H [O] hist-pol-wos (ang-niem,fra,ros)",97.35,126.47500000000001,161.15,{"$f":"IF('Wynik 2022r.'!$B$3>='Licea ogólnokształcące 2022r.'!B322,1,\"\")","v":1}]
["1M [O] ang-mat (ang-niem,fra,ros)",121.95,152.15624999999994,186.85,{"$f":"IF('Wynik 2022r.'!$B$3>='Licea ogólnokształcące 2022r.'!B323,1,\"\")","v":""}]
["1P [O] biol-chem-ang (ang-niem,fra,ros)",124.8,150.38828125000001,180.4,{"$f":"IF('Wynik 2022r.'!$B$3>='Licea ogólnokształcące 2022r.'!B324,1,\"\")","v":""}]
["II Liceum Ogólnokształcące w Zduńskiej Woli",74.849999999999994,124.64374999999993,179.45,{"$f":"IF('Wynik 2022r.'!$B$3>='Licea ogólnokształcące 2022r.'!B325,1,\"\")","v":1}]
["1B EUROPEJSKA",74.849999999999994,118.55972222222219,172.35,{"$f":"IF('Wynik 2022r.'!$B$3>='Licea ogólnokształcące 2022r.'!B326,1,\"\")","v":1}]
["1C MEDYCZNA",102.2,136.95833333333334,170.85,{"$f":"IF('Wynik 2022r.'!$B$3>='Licea ogólnokształcące 2022r.'!B327,1,\"\")","v":""}]
["1D Humanistyczna",90.65,124.49722222222221,179.45,{"$f":"IF('Wynik 2022r.'!$B$3>='Licea ogólnokształcące 2022r.'!B328,1,\"\")","v":1}]
["II Liceum Ogólnokształcące w Żychlinie im. Bohaterów Września 1939 roku (ZS w Żychlinie)",33.85,101.52291666666666,160.6,{"$f":"IF('Wynik 2022r.'!$B$3>='Licea ogólnokształcące 2022r.'!B329,1,\"\")","v":1}]
["1LO/B [O] biol-chem-ang (ang-ros,niem)",33.85,101.48571428571428,160.6,{"$f":"IF('Wynik 2022r.'!$B$3>='Licea ogólnokształcące 2022r.'!B330,1,\"\")","v":1}]
["1LO/H [O] hist-ang-pol (ang-ros,niem)",41.6,101.575,150.75,{"$f":"IF('Wynik 2022r.'!$B$3>='Licea ogólnokształcące 2022r.'!B331,1,\"\")","v":1}]
["II Liceum Ogólnokształcące z Oddziałami Dwujęzycznymi im. S. Żeromskiego  w Sieradzu",131.4,157.07095238095246,193,{"$f":"IF('Wynik 2022r.'!$B$3>='Licea ogólnokształcące 2022r.'!B332,1,\"\")","v":""}]
["1a medialno-kult.",131.5,151.86357142857145,177.55,{"$f":"IF('Wynik 2022r.'!$B$3>='Licea ogólnokształcące 2022r.'!B333,1,\"\")","v":""}]
["1b mat.-fiz.",156.69999999999999,168.84714285714287,193,{"$f":"IF('Wynik 2022r.'!$B$3>='Licea ogólnokształcące 2022r.'!B334,1,\"\")","v":""}]
["1c bio.-chem.",131.4,154.18642857142859,188.45,{"$f":"IF('Wynik 2022r.'!$B$3>='Licea ogólnokształcące 2022r.'!B335,1,\"\")","v":""}]
["1d mat.-geo.",148.65,161.47857142857146,185.9,{"$f":"IF('Wynik 2022r.'!$B$3>='Licea ogólnokształcące 2022r.'!B336,1,\"\")","v":""}]
["II Liceum Ogólnoszktałcące (ZS2 Koluszki)",66.400000000000006,104.11666666666669,167.55,{"$f":"IF('Wynik 2022r.'!$B$3>='Licea ogólnokształcące 2022r.'!B337,1,\"\")","v":1}]
["1PP policyjno-pożarnicza",66.400000000000006,104.11666666666669,167.55,{"$f":"IF('Wynik 2022r.'!$B$3>='Licea ogólnokształcące 2022r.'!B338,1,\"\")","v":1}]
["III Liceum Ogólnokształcące (ZS Karsznice) w Zduńskiej Woli",1,1,1,{"$f":"IF('Wynik 2022r.'!$B$3>='Licea ogólnokształcące 2022r.'!B339,1,\"\")","v":1}]
["1LW [PW] hist-ang-pol (ang-niem)",1,1,1,{"$f":"IF('Wynik 2022r.'!$B$3>='Licea ogólnokształcące 2022r.'!B340,1,\"\")","v":1}]
["III Liceum Ogólnokształcące (ZS Nr 1 im. St. Staszica w Kutnie)",65.599999999999994,119.39210526315789,172.85,{"$f":"IF('Wynik 2022r.'!$B$3>='Licea ogólnokształcące 2022r.'!B341,1,\"\")","v":1}]
["1A [O] geogr-ang-mat (ang-fra,niem,ros,hisz)",115.25,139.23666666666665,172.85,{"$f":"IF('Wynik 2022r.'!$B$3>='Licea ogólnokształcące 2022r.'!B342,1,\"\")","v":""}]
["1D [O] hist-pol-wos (ang-fra,ros,niem,hisz)",65.599999999999994,96.311538461538476,139.4,{"$f":"IF('Wynik 2022r.'!$B$3>='Licea ogólnokształcące 2022r.'!B343,1,\"\")","v":1}]
["1E [O] biol-chem-ang (ang-hisz,fra,niem,ros)",112.4,138.29375000000002,169.15,{"$f":"IF('Wynik 2022r.'!$B$3>='Licea ogólnokształcące 2022r.'!B344,1,\"\")","v":""}]
["III Liceum Ogólnokształcące (ZS Nr 3 w Pabianicach)",51.9,83.865624999999994,147.1,{"$f":"IF('Wynik 2022r.'!$B$3>='Licea ogólnokształcące 2022r.'!B345,1,\"\")","v":1}]
["1LOs LO profil socjalny",51.9,83.865624999999994,147.1,{"$f":"IF('Wynik 2022r.'!$B$3>='Licea ogólnokształcące 2022r.'!B346,1,\"\")","v":1}]
["III Liceum Ogólnokształcące (ZSP nr 1 w Radomsku)",59.95,100.21161616161613,165.7,{"$f":"IF('Wynik 2022r.'!$B$3>='Licea ogólnokształcące 2022r.'!B347,1,\"\")","v":1}]
["1LM mundurowa",59.95,95.46615384615383,165.7,{"$f":"IF('Wynik 2022r.'!$B$3>='Licea ogólnokształcące 2022r.'!B348,1,\"\")","v":1}]
["1LZ rehabilitacyjno-zdrowotna",73.8,109.28382352941176,156.94999999999999,{"$f":"IF('Wynik 2022r.'!$B$3>='Licea ogólnokształcące 2022r.'!B349,1,\"\")","v":1}]
["III Liceum Ogólnokształcące im. Jakuba Stefana Cezaka w Zgierzu",0,64.885294117647064,129.9,{"$f":"IF('Wynik 2022r.'!$B$3>='Licea ogólnokształcące 2022r.'!B350,1,\"\")","v":1}]
["1LO [I-o] biol-pol-mat (ang-niem*)",61.65,91.920833333333348,129.9,{"$f":"IF('Wynik 2022r.'!$B$3>='Licea ogólnokształcące 2022r.'!B351,1,\"\")","v":1}]
["1LOi [I-i] biol-pol-mat (ang-niem*)",0,0,0,{"$f":"IF('Wynik 2022r.'!$B$3>='Licea ogólnokształcące 2022r.'!B352,1,\"\")","v":1}]
["III Liceum Ogólnokształcące im. S. Hojnowskiego (ZSP8 Tomaszów Mazowiecki)",64.400000000000006,106.61304347826081,153.69999999999999,{"$f":"IF('Wynik 2022r.'!$B$3>='Licea ogólnokształcące 2022r.'!B353,1,\"\")","v":1}]
["1A [O] geogr-ang-wos (ang*-niem*)",64.400000000000006,105.37343749999995,153.69999999999999,{"$f":"IF('Wynik 2022r.'!$B$3>='Licea ogólnokształcące 2022r.'!B354,1,\"\")","v":1}]
["1B [O] hist-ang-pol (ang*-niem*)",66.2,102.02,136.85,{"$f":"IF('Wynik 2022r.'!$B$3>='Licea ogólnokształcące 2022r.'!B355,1,\"\")","v":1}]
["1C [O] biol-chem-ang (ang*-niem*)",65.150000000000006,105.62916666666666,147.85,{"$f":"IF('Wynik 2022r.'!$B$3>='Licea ogólnokształcące 2022r.'!B356,1,\"\")","v":1}]
["1P [O] geogr-ang-wos (ang*-niem*)",95.3,114.75967741935482,152.65,{"$f":"IF('Wynik 2022r.'!$B$3>='Licea ogólnokształcące 2022r.'!B357,1,\"\")","v":1}]
["III Liceum Ogólnokształcące w Bełchatowie",0,100.93425925925928,166.45,{"$f":"IF('Wynik 2022r.'!$B$3>='Licea ogólnokształcące 2022r.'!B358,1,\"\")","v":1}]
["1A mistrzostwa sportowego",75.05,110.94999999999999,149.94999999999999,{"$f":"IF('Wynik 2022r.'!$B$3>='Licea ogólnokształcące 2022r.'!B359,1,\"\")","v":1}]
["1B psychologiczno-społeczna",91.75,105.05882352941175,122.85,{"$f":"IF('Wynik 2022r.'!$B$3>='Licea ogólnokształcące 2022r.'!B360,1,\"\")","v":1}]
["1Bi psychologiczno-społeczna (integracyjna)",0,0,0,{"$f":"IF('Wynik 2022r.'!$B$3>='Licea ogólnokształcące 2022r.'!B361,1,\"\")","v":1}]
["1C humanistyczno-językowa ",70,93.404166666666654,150.69999999999999,{"$f":"IF('Wynik 2022r.'!$B$3>='Licea ogólnokształcące 2022r.'!B362,1,\"\")","v":1}]
["1D informatyczno-geograficzna",30,84.011764705882356,148.44999999999999,{"$f":"IF('Wynik 2022r.'!$B$3>='Licea ogólnokształcące 2022r.'!B363,1,\"\")","v":1}]
["1E ratownictwo medyczne",87.35,115.925,166.45,{"$f":"IF('Wynik 2022r.'!$B$3>='Licea ogólnokształcące 2022r.'!B364,1,\"\")","v":1}]
["III Liceum Ogólnokształcące w Sieradzu",30,69.035714285714292,92,{"$f":"IF('Wynik 2022r.'!$B$3>='Licea ogólnokształcące 2022r.'!B365,1,\"\")","v":1}]
["1S [S] biol-geogr-ang (ang-wlo)",30,69.035714285714292,92,{"$f":"IF('Wynik 2022r.'!$B$3>='Licea ogólnokształcące 2022r.'!B366,1,\"\")","v":1}]
["IV Liceum Ogólnokształcące (ZSP Nr 1 w Bełchatów)",51.25,88.683620689655186,146.30000000000001,{"$f":"IF('Wynik 2022r.'!$B$3>='Licea ogólnokształcące 2022r.'!B367,1,\"\")","v":1}]
["1PSW/P profil ogólny tzw. klasa policyjna",51.25,84.660344827586201,146.30000000000001,{"$f":"IF('Wynik 2022r.'!$B$3>='Licea ogólnokształcące 2022r.'!B368,1,\"\")","v":1}]
["1PSW/W profil ogólny tzw. klasa wojskowa",54.75,92.706896551724157,140.1,{"$f":"IF('Wynik 2022r.'!$B$3>='Licea ogólnokształcące 2022r.'!B369,1,\"\")","v":1}]
["Katolickie Liceum Ogólnokształcące SPSK im. Błogosławionej Matki Teresy z Kalkuty w Łodzi",86,127.15000000000002,162.35,{"$f":"IF('Wynik 2022r.'!$B$3>='Licea ogólnokształcące 2022r.'!B370,1,\"\")","v":1}]
["1a humanistyczna",86,125.01111111111112,162.35,{"$f":"IF('Wynik 2022r.'!$B$3>='Licea ogólnokształcące 2022r.'!B371,1,\"\")","v":1}]
["1C biologiczno-chemiczna",117.7,133.56666666666669,151.1,{"$f":"IF('Wynik 2022r.'!$B$3>='Licea ogólnokształcące 2022r.'!B372,1,\"\")","v":""}]
["Katolickie Liceum Ogólnokształcące SPSK im. św. Stanisława Kostki w Kutnie",43.4,78.039285714285725,110.3,{"$f":"IF('Wynik 2022r.'!$B$3>='Licea ogólnokształcące 2022r.'!B373,1,\"\")","v":1}]
["1A Profil humanistyczny",67.25,84.283333333333346,104.7,{"$f":"IF('Wynik 2022r.'!$B$3>='Licea ogólnokształcące 2022r.'!B374,1,\"\")","v":1}]
["1B Profil biologiczno-chemiczny",43.4,80.421428571428564,110.3,{"$f":"IF('Wynik 2022r.'!$B$3>='Licea ogólnokształcące 2022r.'!B375,1,\"\")","v":1}]
["1D Profil językowo-turystyczny",80.099999999999994,80.099999999999994,80.099999999999994,{"$f":"IF('Wynik 2022r.'!$B$3>='Licea ogólnokształcące 2022r.'!B376,1,\"\")","v":1}]
["1E Profil biologia-język polski",46.45,65.55,79.7,{"$f":"IF('Wynik 2022r.'!$B$3>='Licea ogólnokształcące 2022r.'!B377,1,\"\")","v":1}]
["Katolickie Liceum Ogólnokształcące w Wieluniu",90.5,117.27500000000002,159.1,{"$f":"IF('Wynik 2022r.'!$B$3>='Licea ogólnokształcące 2022r.'!B378,1,\"\")","v":1}]
["1a językowo-krajoznawcza",104,122.7375,159.1,{"$f":"IF('Wynik 2022r.'!$B$3>='Licea ogólnokształcące 2022r.'!B379,1,\"\")","v":""}]
["1b humanistyczno-psychologiczna",108.65,128.75,150.30000000000001,{"$f":"IF('Wynik 2022r.'!$B$3>='Licea ogólnokształcące 2022r.'!B380,1,\"\")","v":""}]
["1c biologiczno-chemiczna  z el. ratownictwa med.",90.5,110.49999999999997,137.69999999999999,{"$f":"IF('Wynik 2022r.'!$B$3>='Licea ogólnokształcące 2022r.'!B381,1,\"\")","v":1}]
["Katolickie Technikum SPSK w Łodzi",44.5,78.650000000000006,131.5,{"$f":"IF('Wynik 2022r.'!$B$3>='Licea ogólnokształcące 2022r.'!B382,1,\"\")","v":1}]
["1AT technik informatyk",49.25,69.183333333333337,81,{"$f":"IF('Wynik 2022r.'!$B$3>='Licea ogólnokształcące 2022r.'!B383,1,\"\")","v":1}]
["1BT technik logistyk",44.5,92.85,131.5,{"$f":"IF('Wynik 2022r.'!$B$3>='Licea ogólnokształcące 2022r.'!B384,1,\"\")","v":1}]
["Liceum Ogólnokształcące  (ZSP w Brzezinach)",37.299999999999997,86.006410256410234,167.5,{"$f":"IF('Wynik 2022r.'!$B$3>='Licea ogólnokształcące 2022r.'!B385,1,\"\")","v":1}]
["1aPolicyjno-prawna LO",55.4,84.695454545454552,112.85,{"$f":"IF('Wynik 2022r.'!$B$3>='Licea ogólnokształcące 2022r.'!B386,1,\"\")","v":1}]
["1bSportowa LO",37.299999999999997,86.638636363636365,167.5,{"$f":"IF('Wynik 2022r.'!$B$3>='Licea ogólnokształcące 2022r.'!B387,1,\"\")","v":1}]
["1d Promedyczny",37.9,86.091666666666654,113,{"$f":"IF('Wynik 2022r.'!$B$3>='Licea ogólnokształcące 2022r.'!B388,1,\"\")","v":1}]
["Liceum Ogólnokształcące (Zs Nr 2 w Pabianicach)",77.5,100.88333333333333,140.80000000000001,{"$f":"IF('Wynik 2022r.'!$B$3>='Licea ogólnokształcące 2022r.'!B389,1,\"\")","v":1}]
["1LOp [O] biol-pol-wos (ang-niem*)",80,105.81153846153846,133.94999999999999,{"$f":"IF('Wynik 2022r.'!$B$3>='Licea ogólnokształcące 2022r.'!B390,1,\"\")","v":1}]
["1LOw [O] geogr-pol-wos (ang-niem)",77.5,97.68,140.80000000000001,{"$f":"IF('Wynik 2022r.'!$B$3>='Licea ogólnokształcące 2022r.'!B391,1,\"\")","v":1}]
["Liceum Ogólnokształcące (ZS nr 4) w Skierniewicach",71.8,100.64833333333334,150.75,{"$f":"IF('Wynik 2022r.'!$B$3>='Licea ogólnokształcące 2022r.'!B392,1,\"\")","v":1}]
["1La WOJSKOWA",81.099999999999994,106.56,150.75,{"$f":"IF('Wynik 2022r.'!$B$3>='Licea ogólnokształcące 2022r.'!B393,1,\"\")","v":1}]
["1Lb POLICYJNA",78.349999999999994,101.30666666666666,123.45,{"$f":"IF('Wynik 2022r.'!$B$3>='Licea ogólnokształcące 2022r.'!B394,1,\"\")","v":1}]
["1Lc KOSMETYCZNA",71.8,88.166666666666671,125.7,{"$f":"IF('Wynik 2022r.'!$B$3>='Licea ogólnokształcące 2022r.'!B395,1,\"\")","v":1}]
["Liceum Ogólnokształcące (ZS w Bolimowie)",36.549999999999997,82.058064516129022,150.15,{"$f":"IF('Wynik 2022r.'!$B$3>='Licea ogólnokształcące 2022r.'!B396,1,\"\")","v":1}]
["1pol policyjna",46.6,80.36,139.85,{"$f":"IF('Wynik 2022r.'!$B$3>='Licea ogólnokształcące 2022r.'!B397,1,\"\")","v":1}]
["1rat ratownictwo medyczne",36.549999999999997,93.125,150.15,{"$f":"IF('Wynik 2022r.'!$B$3>='Licea ogólnokształcące 2022r.'!B398,1,\"\")","v":1}]
["1straz strażacka",37.049999999999997,64.775000000000006,98.2,{"$f":"IF('Wynik 2022r.'!$B$3>='Licea ogólnokształcące 2022r.'!B399,1,\"\")","v":1}]
["1woj wojskowa",38.700000000000003,81.103703703703715,129.05000000000001,{"$f":"IF('Wynik 2022r.'!$B$3>='Licea ogólnokształcące 2022r.'!B400,1,\"\")","v":1}]
["Liceum Ogólnokształcące (ZSCKZ w Bujnach)",12,54.793220338983062,138.15,{"$f":"IF('Wynik 2022r.'!$B$3>='Licea ogólnokształcące 2022r.'!B401,1,\"\")","v":1}]
["1LOpp klasa policyjna",20.95,78.071739130434793,138.15,{"$f":"IF('Wynik 2022r.'!$B$3>='Licea ogólnokształcące 2022r.'!B402,1,\"\")","v":1}]
["1LOsp klasa strażacka",33,72.164285714285725,126.5,{"$f":"IF('Wynik 2022r.'!$B$3>='Licea ogólnokształcące 2022r.'!B403,1,\"\")","v":1}]
["1OPW Oddział Przygotowania Wojskowego",12,32.137931034482762,64,{"$f":"IF('Wynik 2022r.'!$B$3>='Licea ogólnokształcące 2022r.'!B404,1,\"\")","v":1}]
["Liceum Ogólnokształcące (ZSMT w Ostrowie)",33.9,86.831168831168853,234.6,{"$f":"IF('Wynik 2022r.'!$B$3>='Licea ogólnokształcące 2022r.'!B405,1,\"\")","v":1}]
["1LOa(wojskowa) [O] geogr-ang-pol (ang-niem)",33.9,71.081034482758611,131.5,{"$f":"IF('Wynik 2022r.'!$B$3>='Licea ogólnokształcące 2022r.'!B406,1,\"\")","v":1}]
["1LOb(policyjna) [O] hist-ang-pol (ang-niem)",43.3,87.361538461538458,154.05000000000001,{"$f":"IF('Wynik 2022r.'!$B$3>='Licea ogólnokształcące 2022r.'!B407,1,\"\")","v":1}]
["1LOc(pożarn-ratow) [O] geogr-ang-mat (ang-niem)",93.5,155.49642857142857,234.6,{"$f":"IF('Wynik 2022r.'!$B$3>='Licea ogólnokształcące 2022r.'!B408,1,\"\")","v":1}]
["1LOd(mistrz.sport) 1L0SMS",60,65.400000000000006,76,{"$f":"IF('Wynik 2022r.'!$B$3>='Licea ogólnokształcące 2022r.'!B409,1,\"\")","v":1}]
["1LOe(wojskowaOPW) [PW] geogr-ang-pol (ang-niem)",51,61.5625,73,{"$f":"IF('Wynik 2022r.'!$B$3>='Licea ogólnokształcące 2022r.'!B410,1,\"\")","v":1}]
["Liceum Ogólnokształcące (ZSO w Łasku-Kolumnie)",54.5,122.04396551724136,182.25,{"$f":"IF('Wynik 2022r.'!$B$3>='Licea ogólnokształcące 2022r.'!B411,1,\"\")","v":1}]
["1a humanistyczno-językowa",54.5,120.26166666666667,177.15,{"$f":"IF('Wynik 2022r.'!$B$3>='Licea ogólnokształcące 2022r.'!B412,1,\"\")","v":1}]
["1b biologiczno-chemiczna",69.2,125.8423076923077,167,{"$f":"IF('Wynik 2022r.'!$B$3>='Licea ogólnokształcące 2022r.'!B413,1,\"\")","v":1}]
["1c matematyczno-informatyczna",56,122.31666666666665,182.25,{"$f":"IF('Wynik 2022r.'!$B$3>='Licea ogólnokształcące 2022r.'!B414,1,\"\")","v":1}]
["Liceum Ogólnokształcące (ZSP im. W. Reymonta w Rawie Mazowieckiej)",86.7,137.99531250000007,189,{"$f":"IF('Wynik 2022r.'!$B$3>='Licea ogólnokształcące 2022r.'!B415,1,\"\")","v":1}]
["1A [O] pol-obcy (ang*-niem*,ros*)",86.7,118.46875,189,{"$f":"IF('Wynik 2022r.'!$B$3>='Licea ogólnokształcące 2022r.'!B416,1,\"\")","v":1}]
["1B [O] mat-obcy (ang*-niem*,ros*)",111.5,152.07968750000001,177.4,{"$f":"IF('Wynik 2022r.'!$B$3>='Licea ogólnokształcące 2022r.'!B417,1,\"\")","v":""}]
["1C [O] biol-obcy (ang*-niem*,ros*)",106.95,143.43749999999997,182,{"$f":"IF('Wynik 2022r.'!$B$3>='Licea ogólnokształcące 2022r.'!B418,1,\"\")","v":""}]
["Liceum Ogólnokształcące (ZSP w Białej Rawskiej)",93.3,118.03333333333332,158.94999999999999,{"$f":"IF('Wynik 2022r.'!$B$3>='Licea ogólnokształcące 2022r.'!B419,1,\"\")","v":1}]
["1LO LO ogólny",93.3,118.03333333333332,158.94999999999999,{"$f":"IF('Wynik 2022r.'!$B$3>='Licea ogólnokształcące 2022r.'!B420,1,\"\")","v":1}]
["Liceum Ogólnokształcące (ZSP w Przedborzu)",34.200000000000003,111.61568627450983,167.7,{"$f":"IF('Wynik 2022r.'!$B$3>='Licea ogólnokształcące 2022r.'!B421,1,\"\")","v":1}]
["1a humanistyczno-językowa",56.85,122.61499999999998,167.7,{"$f":"IF('Wynik 2022r.'!$B$3>='Licea ogólnokształcące 2022r.'!B422,1,\"\")","v":1}]
["1B Rehabilitacyjno-sportowa",34.200000000000003,104.51935483870965,164.1,{"$f":"IF('Wynik 2022r.'!$B$3>='Licea ogólnokształcące 2022r.'!B423,1,\"\")","v":1}]
["Liceum Ogólnokształcące (ZSP w Szczercowie)",42.7,109.35444444444443,173.2,{"$f":"IF('Wynik 2022r.'!$B$3>='Licea ogólnokształcące 2022r.'!B424,1,\"\")","v":1}]
["1a pol-hist-j.ang.humanistyczna",42.7,95.534999999999997,134.69999999999999,{"$f":"IF('Wynik 2022r.'!$B$3>='Licea ogólnokształcące 2022r.'!B425,1,\"\")","v":1}]
["1b biol-chem-mat.medyczna",64.25,126.23999999999998,173.2,{"$f":"IF('Wynik 2022r.'!$B$3>='Licea ogólnokształcące 2022r.'!B426,1,\"\")","v":1}]
["1d geog-j.ang/j.obcy. lingwistyczno-menadżerska",75.650000000000006,116.52333333333334,163.9,{"$f":"IF('Wynik 2022r.'!$B$3>='Licea ogólnokształcące 2022r.'!B427,1,\"\")","v":1}]
["Liceum Ogólnokształcące (ZSRCKU Wojsławice, Zduńska Wola)",45.75,85.673611111111128,123.15,{"$f":"IF('Wynik 2022r.'!$B$3>='Licea ogólnokształcące 2022r.'!B428,1,\"\")","v":1}]
["1LO LO Mundurowe",45.75,85.673611111111128,123.15,{"$f":"IF('Wynik 2022r.'!$B$3>='Licea ogólnokształcące 2022r.'!B429,1,\"\")","v":1}]
["Liceum Ogólnokształcące im. Adama Mickiewicza w Żychlinie",45.55,101.83157894736841,170.4,{"$f":"IF('Wynik 2022r.'!$B$3>='Licea ogólnokształcące 2022r.'!B430,1,\"\")","v":1}]
["1a profil biologiczno-chemiczny",61.45,106.94285714285715,170.4,{"$f":"IF('Wynik 2022r.'!$B$3>='Licea ogólnokształcące 2022r.'!B431,1,\"\")","v":1}]
["1b profil humanistyczny",45.55,97.3125,161.19999999999999,{"$f":"IF('Wynik 2022r.'!$B$3>='Licea ogólnokształcące 2022r.'!B432,1,\"\")","v":1}]
["1c profil matematyczno - fizyczny",64.150000000000006,101.925,131.30000000000001,{"$f":"IF('Wynik 2022r.'!$B$3>='Licea ogólnokształcące 2022r.'!B433,1,\"\")","v":1}]
["Liceum Ogólnokształcące im. B. Prusa w Skierniewicach",119.45,158.87750000000008,194.45,{"$f":"IF('Wynik 2022r.'!$B$3>='Licea ogólnokształcące 2022r.'!B434,1,\"\")","v":""}]
["1a profil medyczny",156.19999999999999,167.26166666666666,183.4,{"$f":"IF('Wynik 2022r.'!$B$3>='Licea ogólnokształcące 2022r.'!B435,1,\"\")","v":""}]
["1b profil dziennikarsko-prawny",140.5,157.35166666666663,173.55,{"$f":"IF('Wynik 2022r.'!$B$3>='Licea ogólnokształcące 2022r.'!B436,1,\"\")","v":""}]
["1c profil społeczny",135.80000000000001,153.26166666666666,175.65,{"$f":"IF('Wynik 2022r.'!$B$3>='Licea ogólnokształcące 2022r.'!B437,1,\"\")","v":""}]
["1d profil ekonomiczny",157.1,168.58166666666665,194.45,{"$f":"IF('Wynik 2022r.'!$B$3>='Licea ogólnokształcące 2022r.'!B438,1,\"\")","v":""}]
["1e profil politechniczny",157.19999999999999,170.43666666666667,192.1,{"$f":"IF('Wynik 2022r.'!$B$3>='Licea ogólnokształcące 2022r.'!B439,1,\"\")","v":""}]
["1f profil ekologiczny",119.45,136.37166666666664,159.44999999999999,{"$f":"IF('Wynik 2022r.'!$B$3>='Licea ogólnokształcące 2022r.'!B440,1,\"\")","v":""}]
["Liceum Ogólnokształcące im. J. Iwaszkiewicza w Brzezinach",90.05,127.88166666666669,174.05,{"$f":"IF('Wynik 2022r.'!$B$3>='Licea ogólnokształcące 2022r.'!B441,1,\"\")","v":1}]
["1B [O] biol-chem-ang (ang-niem,ros)",90.05,125.93437499999999,161.6,{"$f":"IF('Wynik 2022r.'!$B$3>='Licea ogólnokształcące 2022r.'!B442,1,\"\")","v":1}]
["1C [O] ang-pol-wos (ang-niem,ros)",93.25,130.10714285714286,174.05,{"$f":"IF('Wynik 2022r.'!$B$3>='Licea ogólnokształcące 2022r.'!B443,1,\"\")","v":1}]
["Liceum Ogólnokształcące im. Jana Pawła II w Tuszynie",38.799999999999997,105.65333333333336,165.35,{"$f":"IF('Wynik 2022r.'!$B$3>='Licea ogólnokształcące 2022r.'!B444,1,\"\")","v":1}]
["1a1 politechniczna (ang-mat-geogr)",48.95,121.14000000000001,160.80000000000001,{"$f":"IF('Wynik 2022r.'!$B$3>='Licea ogólnokształcące 2022r.'!B445,1,\"\")","v":1}]
["1a2 turystyczna (ang-hist-geogr)",40.799999999999997,95.69285714285715,160.85,{"$f":"IF('Wynik 2022r.'!$B$3>='Licea ogólnokształcące 2022r.'!B446,1,\"\")","v":1}]
["1b1 zdrowotna (ang-pol-biol)",54.2,99.891666666666652,152.85,{"$f":"IF('Wynik 2022r.'!$B$3>='Licea ogólnokształcące 2022r.'!B447,1,\"\")","v":1}]
["1b2 humanistyczna (ang-pol-wos)",38.799999999999997,111.62222222222222,165.35,{"$f":"IF('Wynik 2022r.'!$B$3>='Licea ogólnokształcące 2022r.'!B448,1,\"\")","v":1}]
["Liceum Ogólnokształcące im. M. Skłodowskiej-Curie w Rawie Mazowieckiej",90.15,144.41956521739124,187.45,{"$f":"IF('Wynik 2022r.'!$B$3>='Licea ogólnokształcące 2022r.'!B449,1,\"\")","v":1}]
["1A mat-inf/fiz-ang/inf",107.2,152.54999999999998,187.45,{"$f":"IF('Wynik 2022r.'!$B$3>='Licea ogólnokształcące 2022r.'!B450,1,\"\")","v":""}]
["1B biol-chem/geo-ang/mat",90.15,144.53299999999999,179.15,{"$f":"IF('Wynik 2022r.'!$B$3>='Licea ogólnokształcące 2022r.'!B451,1,\"\")","v":1}]
["1C pol-wos/geo-his/ang",90.7,133.60172413793106,171.6,{"$f":"IF('Wynik 2022r.'!$B$3>='Licea ogólnokształcące 2022r.'!B452,1,\"\")","v":1}]
["1D geo-mat/wos-ang",114.45,147.64571428571432,183.2,{"$f":"IF('Wynik 2022r.'!$B$3>='Licea ogólnokształcące 2022r.'!B453,1,\"\")","v":""}]
["Liceum Ogólnokształcące im. Marii Konopnickiej w Poddębicach",25.1,129.23184523809519,180.45,{"$f":"IF('Wynik 2022r.'!$B$3>='Licea ogólnokształcące 2022r.'!B454,1,\"\")","v":1}]
["1ab politechniczna (fizyka/informatyka/geografia)",99.05,142.47357142857149,172.55,{"$f":"IF('Wynik 2022r.'!$B$3>='Licea ogólnokształcące 2022r.'!B455,1,\"\")","v":1}]
["1c medyczna/biologiczno-chemiczna (matematyka/j.obcy)",105.8,141.2657142857143,180.45,{"$f":"IF('Wynik 2022r.'!$B$3>='Licea ogólnokształcące 2022r.'!B456,1,\"\")","v":""}]
["1de dziennikarsko-prawnicza (historia/WOS)",25.1,107.83333333333334,174.75,{"$f":"IF('Wynik 2022r.'!$B$3>='Licea ogólnokształcące 2022r.'!B457,1,\"\")","v":1}]
["Liceum Ogólnokształcące im. Mikołaja Kopernika w Wieruszowie",74.2,127.40724637681163,183.95,{"$f":"IF('Wynik 2022r.'!$B$3>='Licea ogólnokształcące 2022r.'!B458,1,\"\")","v":1}]
["1a profil politechniczny",74.849999999999994,141.48846153846156,181.4,{"$f":"IF('Wynik 2022r.'!$B$3>='Licea ogólnokształcące 2022r.'!B459,1,\"\")","v":1}]
["1pb profil medyczny",91.95,126.22272727272725,164.15,{"$f":"IF('Wynik 2022r.'!$B$3>='Licea ogólnokształcące 2022r.'!B460,1,\"\")","v":1}]
["1pc profil społeczny",74.2,123.62888888888885,183.95,{"$f":"IF('Wynik 2022r.'!$B$3>='Licea ogólnokształcące 2022r.'!B461,1,\"\")","v":1}]
["Liceum Ogólnokształcące im.W.Szymborskiej  w Skierniewicach (ZS nr 3)",118.85,146.46382978723403,178.6,{"$f":"IF('Wynik 2022r.'!$B$3>='Licea ogólnokształcące 2022r.'!B462,1,\"\")","v":""}]
["1A Profil społeczny",128.4,140.85468750000001,164.75,{"$f":"IF('Wynik 2022r.'!$B$3>='Licea ogólnokształcące 2022r.'!B463,1,\"\")","v":""}]
["1B Profil medyczny",132.9,151.80781249999998,178.6,{"$f":"IF('Wynik 2022r.'!$B$3>='Licea ogólnokształcące 2022r.'!B464,1,\"\")","v":""}]
["1C Profil cybernetyczny",148.25,157.79531249999999,175.85,{"$f":"IF('Wynik 2022r.'!$B$3>='Licea ogólnokształcące 2022r.'!B465,1,\"\")","v":""}]
["1D Profil politechniczny",145.80000000000001,155.90156249999995,178.25,{"$f":"IF('Wynik 2022r.'!$B$3>='Licea ogólnokształcące 2022r.'!B466,1,\"\")","v":""}]
["1J Profil prawno-dziennikarski",118.85,135.52833333333334,174.05,{"$f":"IF('Wynik 2022r.'!$B$3>='Licea ogólnokształcące 2022r.'!B467,1,\"\")","v":""}]
["Liceum Ogólnokształcące w Błaszkach",61.2,107.88676470588237,166.05,{"$f":"IF('Wynik 2022r.'!$B$3>='Licea ogólnokształcące 2022r.'!B468,1,\"\")","v":1}]
["1A/1 hum-med",61.2,94.529411764705884,154.30000000000001,{"$f":"IF('Wynik 2022r.'!$B$3>='Licea ogólnokształcące 2022r.'!B469,1,\"\")","v":1}]
["1A/2 bio-chem",61.2,121.24411764705883,166.05,{"$f":"IF('Wynik 2022r.'!$B$3>='Licea ogólnokształcące 2022r.'!B470,1,\"\")","v":1}]
["Liceum Ogólnokształcące w Bratoszewicach",41.4,88.850000000000009,147.9,{"$f":"IF('Wynik 2022r.'!$B$3>='Licea ogólnokształcące 2022r.'!B471,1,\"\")","v":1}]
["1LO [O] ang-wos (ang-niem*,ros*)",41.4,88.850000000000009,147.9,{"$f":"IF('Wynik 2022r.'!$B$3>='Licea ogólnokształcące 2022r.'!B472,1,\"\")","v":1}]
["Liceum Ogólnokształcące w Warcie",39.65,85.14,118.85,{"$f":"IF('Wynik 2022r.'!$B$3>='Licea ogólnokształcące 2022r.'!B473,1,\"\")","v":1}]
["1b pedagogiczno-dziennikarska",73.650000000000006,100.11875000000001,118.85,{"$f":"IF('Wynik 2022r.'!$B$3>='Licea ogólnokształcące 2022r.'!B474,1,\"\")","v":1}]
["1bp mund-polic",39.65,78.091176470588238,114,{"$f":"IF('Wynik 2022r.'!$B$3>='Licea ogólnokształcące 2022r.'!B475,1,\"\")","v":1}]
["Liceum Ogólnokształcące w Zelowie",34.75,125.49848484848485,170.7,{"$f":"IF('Wynik 2022r.'!$B$3>='Licea ogólnokształcące 2022r.'!B476,1,\"\")","v":1}]
["1a hum.- język.",34.75,121.98571428571428,170.7,{"$f":"IF('Wynik 2022r.'!$B$3>='Licea ogólnokształcące 2022r.'!B477,1,\"\")","v":1}]
["1b biol.-med.",59.2,125.83611111111112,170.5,{"$f":"IF('Wynik 2022r.'!$B$3>='Licea ogólnokształcące 2022r.'!B478,1,\"\")","v":1}]
["1c polit.",168.6,168.6,168.6,{"$f":"IF('Wynik 2022r.'!$B$3>='Licea ogólnokształcące 2022r.'!B479,1,\"\")","v":""}]
["Liceum Ogólnokształcące w Złoczewie",34,104.06562499999998,153.35,{"$f":"IF('Wynik 2022r.'!$B$3>='Licea ogólnokształcące 2022r.'!B480,1,\"\")","v":1}]
["1_A europejska",67.05,112.61764705882352,153.35,{"$f":"IF('Wynik 2022r.'!$B$3>='Licea ogólnokształcące 2022r.'!B481,1,\"\")","v":1}]
["1a humanistyczna",34,94.373333333333321,132.44999999999999,{"$f":"IF('Wynik 2022r.'!$B$3>='Licea ogólnokształcące 2022r.'!B482,1,\"\")","v":1}]
["Liceum Sztuk Plastycznych im. Stanisława Wyspiańskiego ( ZSP6 Tomaszów Mazowiecki)",27.35,116.35196078431372,182,{"$f":"IF('Wynik 2022r.'!$B$3>='Licea ogólnokształcące 2022r.'!B483,1,\"\")","v":1}]
["1LSP [O] h.szt.-ang (ang-niem)",27.35,116.35196078431372,182,{"$f":"IF('Wynik 2022r.'!$B$3>='Licea ogólnokształcące 2022r.'!B484,1,\"\")","v":1}]
["Publiczne Liceum Ogólnokształcące Politechniki Łódzkiej",154.4,178.4954166666667,194.45,{"$f":"IF('Wynik 2022r.'!$B$3>='Licea ogólnokształcące 2022r.'!B485,1,\"\")","v":""}]
["1A [O] mat-fiz-ang (ang-niem*)",176.4,182.70208333333335,193.7,{"$f":"IF('Wynik 2022r.'!$B$3>='Licea ogólnokształcące 2022r.'!B486,1,\"\")","v":""}]
["1B [O] fiz-ang-mat (ang-fra*)",168.1,176.17499999999998,189.85,{"$f":"IF('Wynik 2022r.'!$B$3>='Licea ogólnokształcące 2022r.'!B487,1,\"\")","v":""}]
["1C_f [O] mat-chem-ang (ang-fra)",168.75,174.19166666666669,188.55,{"$f":"IF('Wynik 2022r.'!$B$3>='Licea ogólnokształcące 2022r.'!B488,1,\"\")","v":""}]
["1C_n [O] chem-ang-mat (ang-niem)",168.35,175.98333333333335,188.3,{"$f":"IF('Wynik 2022r.'!$B$3>='Licea ogólnokształcące 2022r.'!B489,1,\"\")","v":""}]
["1D_h [O] biol-chem-mat (ang-hisz)",161.30000000000001,181.32500000000002,194.45,{"$f":"IF('Wynik 2022r.'!$B$3>='Licea ogólnokształcące 2022r.'!B490,1,\"\")","v":""}]
["1D_n [O] biol-chem-mat (ang-niem)",159.44999999999999,177.08333333333334,184.5,{"$f":"IF('Wynik 2022r.'!$B$3>='Licea ogólnokształcące 2022r.'!B491,1,\"\")","v":""}]
["1E_h [O] inf-ang-mat (ang-hisz)",154.4,174.14999999999998,189.15,{"$f":"IF('Wynik 2022r.'!$B$3>='Licea ogólnokształcące 2022r.'!B492,1,\"\")","v":""}]
["1E_r [O] inf-ang-mat (ang-ros)",176.55,184.46666666666667,193.25,{"$f":"IF('Wynik 2022r.'!$B$3>='Licea ogólnokształcące 2022r.'!B493,1,\"\")","v":""}]
["Publiczne Liceum Ogólnokształcące Uniwersytetu Łódzkiego",108.4,166.67935779816517,187,{"$f":"IF('Wynik 2022r.'!$B$3>='Licea ogólnokształcące 2022r.'!B494,1,\"\")","v":""}]
["1A-1 klasa humanistyczna (I połowa)",144.15,156.00714285714284,183.55,{"$f":"IF('Wynik 2022r.'!$B$3>='Licea ogólnokształcące 2022r.'!B495,1,\"\")","v":""}]
["1A-2 klasa humanistyczna (II połowa)",149.1,166.04642857142855,180.8,{"$f":"IF('Wynik 2022r.'!$B$3>='Licea ogólnokształcące 2022r.'!B496,1,\"\")","v":""}]
["1B klasa humanistyczna dwujęzyczna",108.4,157.26200000000003,187,{"$f":"IF('Wynik 2022r.'!$B$3>='Licea ogólnokształcące 2022r.'!B497,1,\"\")","v":""}]
["1C klasa nauk ścisłych",164.5,170.02678571428572,176.7,{"$f":"IF('Wynik 2022r.'!$B$3>='Licea ogólnokształcące 2022r.'!B498,1,\"\")","v":""}]
["1D klasa chemii i nauk o życiu",170.3,177.39285714285714,186.3,{"$f":"IF('Wynik 2022r.'!$B$3>='Licea ogólnokształcące 2022r.'!B499,1,\"\")","v":""}]
["Samorządowe  Liceum Ogólnokształcące im. Romualda Traugutta w Zgierzu",119.85,151.98656249999999,196.15,{"$f":"IF('Wynik 2022r.'!$B$3>='Licea ogólnokształcące 2022r.'!B500,1,\"\")","v":""}]
["1A biologiczno-chemiczna",137.85,161.10624999999996,178.9,{"$f":"IF('Wynik 2022r.'!$B$3>='Licea ogólnokształcące 2022r.'!B501,1,\"\")","v":""}]
["1B ekonomiczno-językowa",125.45,152.41249999999997,196.15,{"$f":"IF('Wynik 2022r.'!$B$3>='Licea ogólnokształcące 2022r.'!B502,1,\"\")","v":""}]
["1C matematyczno-fizyczna",133.30000000000001,156.28125000000003,183.85,{"$f":"IF('Wynik 2022r.'!$B$3>='Licea ogólnokształcące 2022r.'!B503,1,\"\")","v":""}]
["1D Humanistyczna",119.85,137.72031250000001,171.75,{"$f":"IF('Wynik 2022r.'!$B$3>='Licea ogólnokształcące 2022r.'!B504,1,\"\")","v":""}]

{"sheet":"Technika 2022r.","index":4,"n_rows":477,"n_cols":5,"rows_kept":477,"cut":false,"hidden":false,"merged":[]}
["Nazwa szkoły/oddziału","Minimalna  liczba punktów z jaką kandydat został zakwalifikowany","Średnia  liczba punktów z jaką kandydat został zakwalifikowany","Maksymalnaliczba punktów z jaką kandydat został zakwalifikowany","sprawdzenie"]
["Technikum nr 01 (ZSETH w Łodzi)",32.35,96.358571428571452,166.55,{"$f":"IF('Wynik 2022r.'!$B$3>='Technika 2022r.'!$B2,1,\"\")","v":1}]
["1ab [O] Technik ekonomista (ang-niem*)",45.5,108.86499999999999,164.3,{"$f":"IF('Wynik 2022r.'!$B$3>='Technika 2022r.'!$B3,1,\"\")","v":1}]
["1c [O] Technik rachunkowości (ang-niem*)",50.3,110.61666666666667,165.65,{"$f":"IF('Wynik 2022r.'!$B$3>='Technika 2022r.'!$B4,1,\"\")","v":1}]
["1d [O] Technik hotelarstwa (ang-fra*)",44.15,83.659615384615392,148.6,{"$f":"IF('Wynik 2022r.'!$B$3>='Technika 2022r.'!$B5,1,\"\")","v":1}]
["1e [O] Technik hotelarstwa (ang-niem*)",32.35,82.160256410256423,156.85,{"$f":"IF('Wynik 2022r.'!$B$3>='Technika 2022r.'!$B6,1,\"\")","v":1}]
["1f [O] Technik organizacji turystyki (ang-fra)",45,102.25106382978726,155.25,{"$f":"IF('Wynik 2022r.'!$B$3>='Technika 2022r.'!$B7,1,\"\")","v":1}]
["1g [O] Technik eksploatacji portów i terminali (ang-fra)",44.25,99.24761904761904,166.55,{"$f":"IF('Wynik 2022r.'!$B$3>='Technika 2022r.'!$B8,1,\"\")","v":1}]
["Technikum nr 02 (ZSEiU w Łodzi)",34.35,104.71523437500005,162.6,{"$f":"IF('Wynik 2022r.'!$B$3>='Technika 2022r.'!$B9,1,\"\")","v":1}]
["1aTE [O] Technik ekonomista (ang*-niem*)",64.8,121.42352941176472,162.25,{"$f":"IF('Wynik 2022r.'!$B$3>='Technika 2022r.'!$B10,1,\"\")","v":1}]
["1bTL [O] Technik logistyk (ang*-niem*)",72.95,110.91250000000001,162.6,{"$f":"IF('Wynik 2022r.'!$B$3>='Technika 2022r.'!$B11,1,\"\")","v":1}]
["1cTR [O] Technik reklamy (ang*-niem*)",51.95,95.005769230769218,157,{"$f":"IF('Wynik 2022r.'!$B$3>='Technika 2022r.'!$B12,1,\"\")","v":1}]
["1dTT [O] Technik organizacji turystyki (ang*-niem*)",34.35,88.578000000000017,147.44999999999999,{"$f":"IF('Wynik 2022r.'!$B$3>='Technika 2022r.'!$B13,1,\"\")","v":1}]
["Technikum nr 03",33.5,91.78944099378883,162.4,{"$f":"IF('Wynik 2022r.'!$B$3>='Technika 2022r.'!$B14,1,\"\")","v":1}]
["1TCHiK [O] Technik chłodnictwa i klimatyzacji (niem-ang)",33.5,73.646666666666675,118.1,{"$f":"IF('Wynik 2022r.'!$B$3>='Technika 2022r.'!$B15,1,\"\")","v":1}]
["1TEO [O] Technik urządzeń i systemów energetyki odnawialnej (niem-ang)",45.65,87.040540540540547,135.19999999999999,{"$f":"IF('Wynik 2022r.'!$B$3>='Technika 2022r.'!$B16,1,\"\")","v":1}]
["1TGAZ [O] Technik gazownictwa (niem-ang)",33.700000000000003,69.265000000000001,128.85,{"$f":"IF('Wynik 2022r.'!$B$3>='Technika 2022r.'!$B17,1,\"\")","v":1}]
["1TIS [O] Technik inżynierii sanitarnej (niem-ang)",36.6,90.37,148.65,{"$f":"IF('Wynik 2022r.'!$B$3>='Technika 2022r.'!$B18,1,\"\")","v":1}]
["1TLOG [O] Technik logistyk (ang-niem)",78.900000000000006,108.41186440677969,162.4,{"$f":"IF('Wynik 2022r.'!$B$3>='Technika 2022r.'!$B19,1,\"\")","v":1}]
["Technikum nr 04 (ZSG w Łodzi)",32.85,93.156969696969711,181.15,{"$f":"IF('Wynik 2022r.'!$B$3>='Technika 2022r.'!$B20,1,\"\")","v":1}]
["1Agr.1 [O] Technik usług kelnerskich (ang-fra)",32.85,56.573076923076925,77.099999999999994,{"$f":"IF('Wynik 2022r.'!$B$3>='Technika 2022r.'!$B21,1,\"\")","v":1}]
["1Agr.2 [O] Technik żywienia i usług gastronomicznych (ang-fra)",95.9,129.77000000000001,170.95,{"$f":"IF('Wynik 2022r.'!$B$3>='Technika 2022r.'!$B22,1,\"\")","v":1}]
["1BC [O] Technik żywienia i usług gastronomicznych (ang-fra)",59.6,88.69074074074075,181.15,{"$f":"IF('Wynik 2022r.'!$B$3>='Technika 2022r.'!$B23,1,\"\")","v":1}]
["1D [O] Technik żywienia i usług gastronomicznych (ang-fra)",65.150000000000006,89.178571428571431,120.35,{"$f":"IF('Wynik 2022r.'!$B$3>='Technika 2022r.'!$B24,1,\"\")","v":1}]
["1E [O] Technik żywienia i usług gastronomicznych (ang-fra)",77.599999999999994,113.77666666666666,153.85,{"$f":"IF('Wynik 2022r.'!$B$3>='Technika 2022r.'!$B25,1,\"\")","v":1}]
["1FG [O] Technik żywienia i usług gastronomicznych (ang-fra)",50.8,79.572000000000003,140.25,{"$f":"IF('Wynik 2022r.'!$B$3>='Technika 2022r.'!$B26,1,\"\")","v":1}]
["Technikum nr 05 (ZSP nr 5 w Łodzi)",60,100.65705128205126,166,{"$f":"IF('Wynik 2022r.'!$B$3>='Technika 2022r.'!$B27,1,\"\")","v":1}]
["1a [O] Technik transportu kolejowego (ang*-niem*)",60.4,101.97500000000002,166,{"$f":"IF('Wynik 2022r.'!$B$3>='Technika 2022r.'!$B28,1,\"\")","v":1}]
["1b_1 [O] Technik ekonomista (ang*-fra*)",92.2,119.26666666666665,162.19999999999999,{"$f":"IF('Wynik 2022r.'!$B$3>='Technika 2022r.'!$B29,1,\"\")","v":1}]
["1b_2 [O] Technik rachunkowości (ang*-fra*)",86.1,103.44999999999999,120.8,{"$f":"IF('Wynik 2022r.'!$B$3>='Technika 2022r.'!$B30,1,\"\")","v":1}]
["1c_1 [O] Technik logistyk (ang*-niem*)",60,100.08269230769233,157.05000000000001,{"$f":"IF('Wynik 2022r.'!$B$3>='Technika 2022r.'!$B31,1,\"\")","v":1}]
["1c_2 [O] Technik spedytor (ang*-fra*)",68.650000000000006,99.2,141.35,{"$f":"IF('Wynik 2022r.'!$B$3>='Technika 2022r.'!$B32,1,\"\")","v":1}]
["1d_2 [O] Technik handlowiec (ang*-niem*)",64.05,85.449999999999989,125.85,{"$f":"IF('Wynik 2022r.'!$B$3>='Technika 2022r.'!$B33,1,\"\")","v":1}]
["Technikum nr 06 (ZSPS w Łodzi)",35.950000000000003,81.064864864864873,144.65,{"$f":"IF('Wynik 2022r.'!$B$3>='Technika 2022r.'!$B34,1,\"\")","v":1}]
["1ta1tb [O] Technik technologii żywności (ang*-niem*)",35.950000000000003,83.424999999999997,144.65,{"$f":"IF('Wynik 2022r.'!$B$3>='Technika 2022r.'!$B35,1,\"\")","v":1}]
["1tc [O] Technik technologii żywności (ang*-niem*)",56.6,80.116666666666674,106.9,{"$f":"IF('Wynik 2022r.'!$B$3>='Technika 2022r.'!$B36,1,\"\")","v":1}]
["1td [O] Technik kontroli jakości i bezpieczeństwa żywności (ang*-niem*)",56.25,73.900000000000006,93.1,{"$f":"IF('Wynik 2022r.'!$B$3>='Technika 2022r.'!$B37,1,\"\")","v":1}]
["Technikum nr 07 (ZSS w Łodzi)",70.75,99.777272727272759,150.4,{"$f":"IF('Wynik 2022r.'!$B$3>='Technika 2022r.'!$B38,1,\"\")","v":1}]
["1ac [O] Technik pojazdów samochodowych (ang-niem*)",70.75,99.68,124.5,{"$f":"IF('Wynik 2022r.'!$B$3>='Technika 2022r.'!$B39,1,\"\")","v":1}]
["1bd [O] Technik pojazdów samochodowych (ang-niem*)",71.95,103.38888888888887,150.4,{"$f":"IF('Wynik 2022r.'!$B$3>='Technika 2022r.'!$B40,1,\"\")","v":1}]
["1m [O] Technik mechatronik (ang-niem*)",76.2,89.266666666666666,130.75,{"$f":"IF('Wynik 2022r.'!$B$3>='Technika 2022r.'!$B41,1,\"\")","v":1}]
["Technikum nr 09 (ZS Polit w Łodzi)",23.45,137.53664772727271,179.3,{"$f":"IF('Wynik 2022r.'!$B$3>='Technika 2022r.'!$B42,1,\"\")","v":1}]
["1A-Gr.1 [O] Technik elektronik (ang-niem)",95,130.9733333333333,165.85,{"$f":"IF('Wynik 2022r.'!$B$3>='Technika 2022r.'!$B43,1,\"\")","v":1}]
["1A-Gr.2 [O] Technik automatyk (ang-niem)",106.15,129.57666666666668,152.30000000000001,{"$f":"IF('Wynik 2022r.'!$B$3>='Technika 2022r.'!$B44,1,\"\")","v":""}]
["1B-Gr.1 [O] Technik energetyk (ang-niem)",57.4,88.157692307692315,143.6,{"$f":"IF('Wynik 2022r.'!$B$3>='Technika 2022r.'!$B45,1,\"\")","v":1}]
["1B-Gr.2 [O] Technik elektryk (ang-niem)",98.15,123.46333333333335,150.65,{"$f":"IF('Wynik 2022r.'!$B$3>='Technika 2022r.'!$B46,1,\"\")","v":1}]
["1C [O] Technik mechatronik (ang-niem)",131.4,147.04666666666665,172.75,{"$f":"IF('Wynik 2022r.'!$B$3>='Technika 2022r.'!$B47,1,\"\")","v":""}]
["1D [O] Technik informatyk (ang-niem)",136.69999999999999,150.76833333333337,176.8,{"$f":"IF('Wynik 2022r.'!$B$3>='Technika 2022r.'!$B48,1,\"\")","v":""}]
["1E [O] Technik programista (ang-niem)",156.5,165.82499999999999,179.3,{"$f":"IF('Wynik 2022r.'!$B$3>='Technika 2022r.'!$B49,1,\"\")","v":""}]
["1F-Gr.1 [O] Technik informatyk (ang-niem)",123.4,137.33333333333334,154.6,{"$f":"IF('Wynik 2022r.'!$B$3>='Technika 2022r.'!$B50,1,\"\")","v":""}]
["1F-Gr.2 [O] Technik realizacji nagrań (ang-niem)",23.45,102.38461538461539,136,{"$f":"IF('Wynik 2022r.'!$B$3>='Technika 2022r.'!$B51,1,\"\")","v":1}]
["Technikum nr 10 (ZSEI w Łodzi)",72.849999999999994,145.46687499999996,177.5,{"$f":"IF('Wynik 2022r.'!$B$3>='Technika 2022r.'!$B52,1,\"\")","v":1}]
["1e [O] Technik elektronik (ang-niem*)",97.15,126.09687500000001,176.7,{"$f":"IF('Wynik 2022r.'!$B$3>='Technika 2022r.'!$B53,1,\"\")","v":1}]
["1if [O] Technik informatyk (ang-fra)",137.85,147.33437500000002,172.6,{"$f":"IF('Wynik 2022r.'!$B$3>='Technika 2022r.'!$B54,1,\"\")","v":""}]
["1in [O] Technik informatyk (ang-niem)",142.44999999999999,156.69218749999999,175.85,{"$f":"IF('Wynik 2022r.'!$B$3>='Technika 2022r.'!$B55,1,\"\")","v":""}]
["1m [O] Technik mechatronik (ang-niem)",151.25,158.44999999999999,170.5,{"$f":"IF('Wynik 2022r.'!$B$3>='Technika 2022r.'!$B56,1,\"\")","v":""}]
["1mn [O] Technik mechatronik (ang-niem*)",106.65,135.49375000000001,164.95,{"$f":"IF('Wynik 2022r.'!$B$3>='Technika 2022r.'!$B57,1,\"\")","v":""}]
["1p [O] Technik programista (ang-niem*)",158,167.75468750000002,177.5,{"$f":"IF('Wynik 2022r.'!$B$3>='Technika 2022r.'!$B58,1,\"\")","v":""}]
["1t [O] Technik teleinformatyk (ang-niem*)",72.849999999999994,102.90625000000003,151.4,{"$f":"IF('Wynik 2022r.'!$B$3>='Technika 2022r.'!$B59,1,\"\")","v":1}]
["Technikum nr 12 (ZSPM w Łodzi)",65.5,112.57814569536426,169.55,{"$f":"IF('Wynik 2022r.'!$B$3>='Technika 2022r.'!$B60,1,\"\")","v":1}]
["1a [O] Technik przemysłu mody (ang*-niem)",86.5,113.08666666666669,156.44999999999999,{"$f":"IF('Wynik 2022r.'!$B$3>='Technika 2022r.'!$B61,1,\"\")","v":1}]
["1c [O] Technik grafiki i poligrafii cyfrowej (ang*-niem)",93.75,122.58152173913039,169.55,{"$f":"IF('Wynik 2022r.'!$B$3>='Technika 2022r.'!$B62,1,\"\")","v":1}]
["1f [O] Technik fotografii i multimediów (ang*-niem)",86.95,113.66666666666667,164.95,{"$f":"IF('Wynik 2022r.'!$B$3>='Technika 2022r.'!$B63,1,\"\")","v":1}]
["1s [O] Technik stylista (ang*-niem)",65.5,95.098333333333329,138.30000000000001,{"$f":"IF('Wynik 2022r.'!$B$3>='Technika 2022r.'!$B64,1,\"\")","v":1}]
["Technikum nr 13 (ZSG-T w Łodzi)",49,109.2410256410256,170.15,{"$f":"IF('Wynik 2022r.'!$B$3>='Technika 2022r.'!$B65,1,\"\")","v":1}]
["1A [O] Technik geodeta (ang-hisz,niem)",49,116.32631578947367,170,{"$f":"IF('Wynik 2022r.'!$B$3>='Technika 2022r.'!$B66,1,\"\")","v":1}]
["1B1 [O] Technik informatyk (ang-hisz,niem)",77.7,105.41071428571429,136,{"$f":"IF('Wynik 2022r.'!$B$3>='Technika 2022r.'!$B67,1,\"\")","v":1}]
["1B2 [O] Technik informatyk (ang-hisz,niem)",88.15,120.28035714285716,170.15,{"$f":"IF('Wynik 2022r.'!$B$3>='Technika 2022r.'!$B68,1,\"\")","v":1}]
["1C [O] Technik leśnik (ang-hisz,niem)",49.85,88.758695652173913,144,{"$f":"IF('Wynik 2022r.'!$B$3>='Technika 2022r.'!$B69,1,\"\")","v":1}]
["Technikum nr 15 (ZSBT w Łodzi)",32.25,79.491011235955028,152.80000000000001,{"$f":"IF('Wynik 2022r.'!$B$3>='Technika 2022r.'!$B70,1,\"\")","v":1}]
["1aT,1bT [O] Technik budownictwa (ang-niem*)",48,90.082812499999989,152.80000000000001,{"$f":"IF('Wynik 2022r.'!$B$3>='Technika 2022r.'!$B71,1,\"\")","v":1}]
["1cT/1 [O] Technik robót wykończeniowych w budownictwie (ang-niem*)",34.35,64.211904761904762,113.95,{"$f":"IF('Wynik 2022r.'!$B$3>='Technika 2022r.'!$B72,1,\"\")","v":1}]
["1dT [O] Technik technologii drewna (ang-niem*)",55.45,85.947222222222223,112.9,{"$f":"IF('Wynik 2022r.'!$B$3>='Technika 2022r.'!$B73,1,\"\")","v":1}]
["1eT/1 [O] Technik urządzeń i systemów energetyki odnawialnej (ang-niem*)",32.25,62.894999999999996,80.55,{"$f":"IF('Wynik 2022r.'!$B$3>='Technika 2022r.'!$B74,1,\"\")","v":1}]
["1eT/2 [O] Technik ochrony środowiska (ang-niem*)",50.55,83.45,113.15,{"$f":"IF('Wynik 2022r.'!$B$3>='Technika 2022r.'!$B75,1,\"\")","v":1}]
["Technikum nr 17 (ZSTI)",66.8,129.36513761467887,173,{"$f":"IF('Wynik 2022r.'!$B$3>='Technika 2022r.'!$B76,1,\"\")","v":1}]
["1TI [O] Technik informatyk (ang-niem*)",127.25,140.59259259259261,169.5,{"$f":"IF('Wynik 2022r.'!$B$3>='Technika 2022r.'!$B77,1,\"\")","v":""}]
["1tm [O] Technik mechatronik (ang-niem*)",90.9,119.27000000000001,164,{"$f":"IF('Wynik 2022r.'!$B$3>='Technika 2022r.'!$B78,1,\"\")","v":1}]
["1tmm [O] Technik mechanik (ang-niem*)",66.8,81.108333333333334,114.9,{"$f":"IF('Wynik 2022r.'!$B$3>='Technika 2022r.'!$B79,1,\"\")","v":1}]
["1TP [O] Technik programista (ang-niem*)",141.19999999999999,152.02333333333337,173,{"$f":"IF('Wynik 2022r.'!$B$3>='Technika 2022r.'!$B80,1,\"\")","v":""}]
["Technikum nr 18 Poligraficzne (ZSPol w Łodzi)",27.55,88.179629629629645,152.6,{"$f":"IF('Wynik 2022r.'!$B$3>='Technika 2022r.'!$B81,1,\"\")","v":1}]
["1ga,gb,gc [O] Technik grafiki i poligrafii cyfrowej (ang-niem)",27.55,87.259322033898329,152.6,{"$f":"IF('Wynik 2022r.'!$B$3>='Technika 2022r.'!$B82,1,\"\")","v":1}]
["1gd [O] Technik procesów drukowania (ang-niem)",41.3,97.931818181818187,148.05000000000001,{"$f":"IF('Wynik 2022r.'!$B$3>='Technika 2022r.'!$B83,1,\"\")","v":1}]
["1gr [O] Technik reklamy (ang-niem)",59.15,83.36363636363636,139.4,{"$f":"IF('Wynik 2022r.'!$B$3>='Technika 2022r.'!$B84,1,\"\")","v":1}]
["Technikum nr 19 (CKZiU w Łodzi)",46.1,117.14600000000004,178.7,{"$f":"IF('Wynik 2022r.'!$B$3>='Technika 2022r.'!$B85,1,\"\")","v":1}]
["1TF [O] Technik fotografii i multimediów (ang-niem*)",90.75,114.27333333333335,162.30000000000001,{"$f":"IF('Wynik 2022r.'!$B$3>='Technika 2022r.'!$B86,1,\"\")","v":1}]
["1Ti [O] Technik informatyk (ang*-niem*)",110.8,121.19,151.94999999999999,{"$f":"IF('Wynik 2022r.'!$B$3>='Technika 2022r.'!$B87,1,\"\")","v":""}]
["1TL [O] Technik logistyk (ang*-niem*)",96.9,123.20166666666667,157.15,{"$f":"IF('Wynik 2022r.'!$B$3>='Technika 2022r.'!$B88,1,\"\")","v":1}]
["1TP [O] Technik programista (ang-niem*)",121.55,139.03166666666667,167.3,{"$f":"IF('Wynik 2022r.'!$B$3>='Technika 2022r.'!$B89,1,\"\")","v":""}]
["1TPT1 [O] Technik tekstronik (ang-niem*)",46.1,88.424999999999983,116.25,{"$f":"IF('Wynik 2022r.'!$B$3>='Technika 2022r.'!$B90,1,\"\")","v":1}]
["1TPT2 [O] Technik projektant tekstyliów (ang-niem*)",50.75,69.2,82.75,{"$f":"IF('Wynik 2022r.'!$B$3>='Technika 2022r.'!$B91,1,\"\")","v":1}]
["1TSA_1 [O] Technik analityk (ang*-niem*)",74.099999999999994,117.72000000000001,178.7,{"$f":"IF('Wynik 2022r.'!$B$3>='Technika 2022r.'!$B92,1,\"\")","v":1}]
["1TSA_2 [O] Technik spedytor (ang*-niem*)",74,88.913333333333341,130.30000000000001,{"$f":"IF('Wynik 2022r.'!$B$3>='Technika 2022r.'!$B93,1,\"\")","v":1}]
["1TWe [O] Technik weterynarii (ang*-niem*)",84.9,118.28666666666666,168.2,{"$f":"IF('Wynik 2022r.'!$B$3>='Technika 2022r.'!$B94,1,\"\")","v":1}]
["Technikum nr 20 (ZSET w Łodzi)",60.2,106.62429906542057,170.6,{"$f":"IF('Wynik 2022r.'!$B$3>='Technika 2022r.'!$B95,1,\"\")","v":1}]
["1ed1 [O] Technik elektryk (ang-niem*)",78.45,109.90833333333333,170.6,{"$f":"IF('Wynik 2022r.'!$B$3>='Technika 2022r.'!$B96,1,\"\")","v":1}]
["1ed2 [O] Technik urządzeń dźwigowych (ang-niem*)",69.400000000000006,83.77000000000001,108,{"$f":"IF('Wynik 2022r.'!$B$3>='Technika 2022r.'!$B97,1,\"\")","v":1}]
["1in [O] Technik informatyk (ang-niem*)",107.5,128.53166666666667,169.2,{"$f":"IF('Wynik 2022r.'!$B$3>='Technika 2022r.'!$B98,1,\"\")","v":""}]
["1m [O] Technik mechatronik (ang-niem*)",81.25,110.57400000000001,159.6,{"$f":"IF('Wynik 2022r.'!$B$3>='Technika 2022r.'!$B99,1,\"\")","v":1}]
["1om1 [O] Technik urządzeń i systemów energetyki odnawialnej (ang-niem*)",72.05,95.605555555555554,136.55000000000001,{"$f":"IF('Wynik 2022r.'!$B$3>='Technika 2022r.'!$B100,1,\"\")","v":1}]
["1om2 [O] Technik mechanik (ang-niem*)",60.2,76.542500000000018,101.2,{"$f":"IF('Wynik 2022r.'!$B$3>='Technika 2022r.'!$B101,1,\"\")","v":1}]
["Technikum nr 21 (ZSR w Łodzi)",22.95,77.821022727272705,156.65,{"$f":"IF('Wynik 2022r.'!$B$3>='Technika 2022r.'!$B102,1,\"\")","v":1}]
["1TA [O] Technik architektury krajobrazu (ang-niem)",38.549999999999997,80.902941176470577,131.1,{"$f":"IF('Wynik 2022r.'!$B$3>='Technika 2022r.'!$B103,1,\"\")","v":1}]
["1tf [O] Technik usług fryzjerskich (ang-niem)",22.95,64.494736842105269,114,{"$f":"IF('Wynik 2022r.'!$B$3>='Technika 2022r.'!$B104,1,\"\")","v":1}]
["1TFF [O] Technik usług fryzjerskich (ang-niem)",42.4,81.69285714285715,105.6,{"$f":"IF('Wynik 2022r.'!$B$3>='Technika 2022r.'!$B105,1,\"\")","v":1}]
["1TH [O] Technik hodowca koni (ang-niem)",34.950000000000003,83.030000000000015,144.9,{"$f":"IF('Wynik 2022r.'!$B$3>='Technika 2022r.'!$B106,1,\"\")","v":1}]
["1TO [O] Technik ogrodnik (ang-niem)",37.35,74.828571428571422,156.65,{"$f":"IF('Wynik 2022r.'!$B$3>='Technika 2022r.'!$B107,1,\"\")","v":1}]
["1TP [O] Technik optyk (ang-niem)",39,82.618750000000006,110.75,{"$f":"IF('Wynik 2022r.'!$B$3>='Technika 2022r.'!$B108,1,\"\")","v":1}]
["Technikum nr 22 (ZSSiM w Łodzi)",25.55,76.810747663551439,157.05000000000001,{"$f":"IF('Wynik 2022r.'!$B$3>='Technika 2022r.'!$B109,1,\"\")","v":1}]
["1Tm [O] Technik mechatronik (ang*-niem*)",36.6,86.753999999999991,129.4,{"$f":"IF('Wynik 2022r.'!$B$3>='Technika 2022r.'!$B110,1,\"\")","v":1}]
["1TSE [O] Technik pojazdów samochodowych (ang*-niem*)",25.55,67.413750000000007,144.44999999999999,{"$f":"IF('Wynik 2022r.'!$B$3>='Technika 2022r.'!$B111,1,\"\")","v":1}]
["1TSM [O] Technik pojazdów samochodowych (ang*-niem*)",29.3,79.841666666666669,157.05000000000001,{"$f":"IF('Wynik 2022r.'!$B$3>='Technika 2022r.'!$B112,1,\"\")","v":1}]
["Technikum",18.45,56.783333333333353,148.19999999999999,{"$f":"IF('Wynik 2022r.'!$B$3>='Technika 2022r.'!$B113,1,\"\")","v":1}]
["1tmp Technik mechanizacji rolnictwa i agrotroniki (ang-",18.45,49.603571428571435,148.19999999999999,{"$f":"IF('Wynik 2022r.'!$B$3>='Technika 2022r.'!$B114,1,\"\")","v":1}]
["1trp Technik rolnik (ang*-niem*,ros*)",24.4,50.561111111111103,134.1,{"$f":"IF('Wynik 2022r.'!$B$3>='Technika 2022r.'!$B115,1,\"\")","v":1}]
["1tżp  Technik żywienia i usług gastronomicznych (ang-ni",48.2,79.142857142857139,98.65,{"$f":"IF('Wynik 2022r.'!$B$3>='Technika 2022r.'!$B116,1,\"\")","v":1}]
["Technikum  im. Jana Pawła II (w ZSP) w Poddębicach",24.15,91.005405405405412,174.8,{"$f":"IF('Wynik 2022r.'!$B$3>='Technika 2022r.'!$B117,1,\"\")","v":1}]
["1TE [O] Technik ekonomista (ang-niem)",78.099999999999994,113.60714285714286,174.8,{"$f":"IF('Wynik 2022r.'!$B$3>='Technika 2022r.'!$B118,1,\"\")","v":1}]
["1TEL [O] Technik elektryk (ang-niem)",53.6,85.4,150.5,{"$f":"IF('Wynik 2022r.'!$B$3>='Technika 2022r.'!$B119,1,\"\")","v":1}]
["1THT [O] Technik hotelarstwa (ang-niem)",64.55,88.74166666666666,127.65,{"$f":"IF('Wynik 2022r.'!$B$3>='Technika 2022r.'!$B120,1,\"\")","v":1}]
["1Ti [O] Technik informatyk (ang-niem)",61.85,90.618333333333325,161.80000000000001,{"$f":"IF('Wynik 2022r.'!$B$3>='Technika 2022r.'!$B121,1,\"\")","v":1}]
["1Tl [O] Technik logistyk (ang-niem)",82.75,116.78166666666668,160.9,{"$f":"IF('Wynik 2022r.'!$B$3>='Technika 2022r.'!$B122,1,\"\")","v":1}]
["1TTW [O] Technik turystyki na obszarach wiejskich (ang-niem)",24.15,52.412499999999994,80.2,{"$f":"IF('Wynik 2022r.'!$B$3>='Technika 2022r.'!$B123,1,\"\")","v":1}]
["1TŻ [O] Technik żywienia i usług gastronomicznych (ang-niem)",48.4,70.081666666666678,115.05,{"$f":"IF('Wynik 2022r.'!$B$3>='Technika 2022r.'!$B124,1,\"\")","v":1}]
["Technikum  Mech.-Bud. (ZSP nr 1 w Radomsku)",24.4,78.262068965517244,151.9,{"$f":"IF('Wynik 2022r.'!$B$3>='Technika 2022r.'!$B125,1,\"\")","v":1}]
["1TB Technik budownictwa",31.6,62.421875,135.5,{"$f":"IF('Wynik 2022r.'!$B$3>='Technika 2022r.'!$B126,1,\"\")","v":1}]
["1TG technik geodeta",37.35,94.444117647058832,150.19999999999999,{"$f":"IF('Wynik 2022r.'!$B$3>='Technika 2022r.'!$B127,1,\"\")","v":1}]
["1TM technik mechanik",24.4,80.352500000000006,151.9,{"$f":"IF('Wynik 2022r.'!$B$3>='Technika 2022r.'!$B128,1,\"\")","v":1}]
["1TS technik pojazdów samochodowych",42.85,76.395588235294127,134.4,{"$f":"IF('Wynik 2022r.'!$B$3>='Technika 2022r.'!$B129,1,\"\")","v":1}]
["Technikum (ZS CKU w Czarnocinie)",22.95,77.654629629629653,151.35,{"$f":"IF('Wynik 2022r.'!$B$3>='Technika 2022r.'!$B130,1,\"\")","v":1}]
["1TA [O] Technik architektury krajobrazu (ang*-niem)",43.35,101.96111111111112,151.35,{"$f":"IF('Wynik 2022r.'!$B$3>='Technika 2022r.'!$B131,1,\"\")","v":1}]
["1TI [O] Technik informatyk (ang*-niem)",43.65,83.974999999999994,143.15,{"$f":"IF('Wynik 2022r.'!$B$3>='Technika 2022r.'!$B132,1,\"\")","v":1}]
["1TR [O] Technik rolnik (ang*-niem)",22.95,67.655263157894737,150.65,{"$f":"IF('Wynik 2022r.'!$B$3>='Technika 2022r.'!$B133,1,\"\")","v":1}]
["1TZ [O] Technik żywienia i usług gastronomicznych (ang*-niem)",30.25,64.664999999999992,102.7,{"$f":"IF('Wynik 2022r.'!$B$3>='Technika 2022r.'!$B134,1,\"\")","v":1}]
["Technikum (ZS nr 1 w Pabianicach)",81.099999999999994,111.40909090909092,169.5,{"$f":"IF('Wynik 2022r.'!$B$3>='Technika 2022r.'!$B135,1,\"\")","v":1}]
["1TB/p Technik budownictwa i architektury wnętrz (ang/nie",84.3,108.7529411764706,169.5,{"$f":"IF('Wynik 2022r.'!$B$3>='Technika 2022r.'!$B136,1,\"\")","v":1}]
["1TMT/p [O] Technik mechatronik/Tech.Mechatr. e-sport",84,111.12833333333333,154.15,{"$f":"IF('Wynik 2022r.'!$B$3>='Technika 2022r.'!$B137,1,\"\")","v":1}]
["1TPS/p(ang) [O] Technik pojazdów samochodowych (ang*-niem*)",81.099999999999994,118.10625,158.25,{"$f":"IF('Wynik 2022r.'!$B$3>='Technika 2022r.'!$B138,1,\"\")","v":1}]
["Technikum (ZS nr 4) w Skierniewicach",64.55,104.17055555555558,171.7,{"$f":"IF('Wynik 2022r.'!$B$3>='Technika 2022r.'!$B139,1,\"\")","v":1}]
["1Ta Technik logistyk",81.8,100.35833333333335,140.30000000000001,{"$f":"IF('Wynik 2022r.'!$B$3>='Technika 2022r.'!$B140,1,\"\")","v":1}]
["1Tb Technik grafiki i poligrafii cyfrowej",93.45,121.85333333333334,171.7,{"$f":"IF('Wynik 2022r.'!$B$3>='Technika 2022r.'!$B141,1,\"\")","v":1}]
["1Tc Technik transportu kolejowego",64.55,90.299999999999983,161.25,{"$f":"IF('Wynik 2022r.'!$B$3>='Technika 2022r.'!$B142,1,\"\")","v":1}]
["Technikum (ZS nr1 w Wieluniu)",81.8,119.93676470588234,178.1,{"$f":"IF('Wynik 2022r.'!$B$3>='Technika 2022r.'!$B143,1,\"\")","v":1}]
["1TA [O] Technik architektury krajobrazu (ang,niem-niem,ang)",82.8,108.2029411764706,171.85,{"$f":"IF('Wynik 2022r.'!$B$3>='Technika 2022r.'!$B144,1,\"\")","v":1}]
["1TB [O] Technik budownictwa (ang,niem-ang,niem)",81.8,110.58235294117645,164.75,{"$f":"IF('Wynik 2022r.'!$B$3>='Technika 2022r.'!$B145,1,\"\")","v":1}]
["1TE [O] Technik ekonomista (ang,niem-ang,niem)",118.25,142.3235294117647,166.75,{"$f":"IF('Wynik 2022r.'!$B$3>='Technika 2022r.'!$B146,1,\"\")","v":""}]
["1TL [O] Technik logistyk (ang,niem-ang,niem)",102,127.73676470588236,171.7,{"$f":"IF('Wynik 2022r.'!$B$3>='Technika 2022r.'!$B147,1,\"\")","v":""}]
["1TR [O] Technik rachunkowości (ang,niem-ang,niem)",90.5,128.0735294117647,172.2,{"$f":"IF('Wynik 2022r.'!$B$3>='Technika 2022r.'!$B148,1,\"\")","v":1}]
["1TW [O] Technik robót wykończeniowych w budownictwie (ang*-niem*)",86.9,120.28088235294116,178.1,{"$f":"IF('Wynik 2022r.'!$B$3>='Technika 2022r.'!$B149,1,\"\")","v":1}]
["1TZ [O] Technik żywienia i usług gastronomicznych (ang,niem-ang,niem)",82.3,106.29117647058823,169.6,{"$f":"IF('Wynik 2022r.'!$B$3>='Technika 2022r.'!$B150,1,\"\")","v":1}]
["Technikum (ZS nr2 w Wieluniu)",76.2,115.90288888888885,173.45,{"$f":"IF('Wynik 2022r.'!$B$3>='Technika 2022r.'!$B151,1,\"\")","v":1}]
["1Te [O] Technik elektryk (ang-niem)",81,106.36617647058824,173.15,{"$f":"IF('Wynik 2022r.'!$B$3>='Technika 2022r.'!$B152,1,\"\")","v":1}]
["1Tg [O] Technik grafiki i poligrafii cyfrowej (ang-niem)",83.1,118.6546153846154,169.85,{"$f":"IF('Wynik 2022r.'!$B$3>='Technika 2022r.'!$B153,1,\"\")","v":1}]
["1Ti [O] Technik informatyk (ang-niem)",80.8,114.91544117647061,169.9,{"$f":"IF('Wynik 2022r.'!$B$3>='Technika 2022r.'!$B154,1,\"\")","v":1}]
["1Tm [O] Technik mechatronik (ang-niem)",104.7,134.64852941176471,173.45,{"$f":"IF('Wynik 2022r.'!$B$3>='Technika 2022r.'!$B155,1,\"\")","v":""}]
["1Ts [O] Technik pojazdów samochodowych (ang-niem)",76.2,98.202083333333334,142.55000000000001,{"$f":"IF('Wynik 2022r.'!$B$3>='Technika 2022r.'!$B156,1,\"\")","v":1}]
["Technikum (ZS nr3 w Wieluniu)",77.95,110.71985294117654,177.75,{"$f":"IF('Wynik 2022r.'!$B$3>='Technika 2022r.'!$B157,1,\"\")","v":1}]
["1Th [O] Technik handlowiec (ang-niem*,ros)",77.95,88.623529411764707,125.95,{"$f":"IF('Wynik 2022r.'!$B$3>='Technika 2022r.'!$B158,1,\"\")","v":1}]
["1Tp [O] Technik programista (ang-niem*,ros)",88.6,124.66617647058823,177.75,{"$f":"IF('Wynik 2022r.'!$B$3>='Technika 2022r.'!$B159,1,\"\")","v":1}]
["1Ts [O] Technik spedytor (ang-niem*,ros)",84.6,104.92352941176468,163.30000000000001,{"$f":"IF('Wynik 2022r.'!$B$3>='Technika 2022r.'!$B160,1,\"\")","v":1}]
["Technikum (ZSCKR Dobryszyce)",39.200000000000003,90.268918918918914,161.5,{"$f":"IF('Wynik 2022r.'!$B$3>='Technika 2022r.'!$B161,1,\"\")","v":1}]
["1BT [O] Technik mechanizacji rolnictwa i agrotroniki (ang-niem)",39.200000000000003,84.057499999999976,143,{"$f":"IF('Wynik 2022r.'!$B$3>='Technika 2022r.'!$B162,1,\"\")","v":1}]
["1HT [O] Technik architektury krajobrazu (ang-niem)",42.1,92.23888888888888,120.4,{"$f":"IF('Wynik 2022r.'!$B$3>='Technika 2022r.'!$B163,1,\"\")","v":1}]
["1LT [O] Technik weterynarii (ang-niem)",42.65,91.936666666666696,147.9,{"$f":"IF('Wynik 2022r.'!$B$3>='Technika 2022r.'!$B164,1,\"\")","v":1}]
["1PT [O] Technik żywienia i usług gastronomicznych (ang-niem)",54.6,94.033333333333346,161.5,{"$f":"IF('Wynik 2022r.'!$B$3>='Technika 2022r.'!$B165,1,\"\")","v":1}]
["Technikum (ZSCKU w Wolborzu)",18.649999999999999,73.708955223880636,155.19999999999999,{"$f":"IF('Wynik 2022r.'!$B$3>='Technika 2022r.'!$B166,1,\"\")","v":1}]
["1thk [O] Technik hodowca koni (ang-niem)",27.75,89.632692307692295,155.19999999999999,{"$f":"IF('Wynik 2022r.'!$B$3>='Technika 2022r.'!$B167,1,\"\")","v":1}]
["1Ti [O] Technik informatyk (ang-niem)",18.649999999999999,64.625,88.65,{"$f":"IF('Wynik 2022r.'!$B$3>='Technika 2022r.'!$B168,1,\"\")","v":1}]
["1Tl [O] Technik logistyk (ang-niem)",27.9,62.661111111111119,108.5,{"$f":"IF('Wynik 2022r.'!$B$3>='Technika 2022r.'!$B169,1,\"\")","v":1}]
["1tmria [O] Technik mechanizacji rolnictwa i agrotroniki (ang-niem)",26.1,71.590624999999989,114.3,{"$f":"IF('Wynik 2022r.'!$B$3>='Technika 2022r.'!$B170,1,\"\")","v":1}]
["1tps [O] Technik pojazdów samochodowych (ang-niem)",25.8,53.345833333333339,114.1,{"$f":"IF('Wynik 2022r.'!$B$3>='Technika 2022r.'!$B171,1,\"\")","v":1}]
["Technikum (ZSCKZ w Bujnach)",26.9,83.174528301886781,144.75,{"$f":"IF('Wynik 2022r.'!$B$3>='Technika 2022r.'!$B172,1,\"\")","v":1}]
["1TLp [O] Technik leśnik (ang*-niem*)",38.75,87.008333333333312,140.80000000000001,{"$f":"IF('Wynik 2022r.'!$B$3>='Technika 2022r.'!$B173,1,\"\")","v":1}]
["1TRp [O] Technik rolnik (ang*-niem*)",26.9,59.404166666666669,130.30000000000001,{"$f":"IF('Wynik 2022r.'!$B$3>='Technika 2022r.'!$B174,1,\"\")","v":1}]
["1TWp [O] Technik weterynarii (ang*-niem*)",51.1,96.273684210526312,144.75,{"$f":"IF('Wynik 2022r.'!$B$3>='Technika 2022r.'!$B175,1,\"\")","v":1}]
["1TŻp [O] Technik żywienia i usług gastronomicznych (ang*-niem*)",34.799999999999997,75.012500000000003,132.05000000000001,{"$f":"IF('Wynik 2022r.'!$B$3>='Technika 2022r.'!$B176,1,\"\")","v":1}]
["Technikum (ZSE w Radomsku)",46.05,104.86985294117653,169.8,{"$f":"IF('Wynik 2022r.'!$B$3>='Technika 2022r.'!$B177,1,\"\")","v":1}]
["1a [O] Technik ekonomista (ang-niem)",66.849999999999994,118.07794117647059,167.75,{"$f":"IF('Wynik 2022r.'!$B$3>='Technika 2022r.'!$B178,1,\"\")","v":1}]
["1b [O] Technik rachunkowości (ang-niem)",51.65,114.70000000000005,167.4,{"$f":"IF('Wynik 2022r.'!$B$3>='Technika 2022r.'!$B179,1,\"\")","v":1}]
["1c [O] Technik fotografii i multimediów (ang-niem)",87,110.15,156,{"$f":"IF('Wynik 2022r.'!$B$3>='Technika 2022r.'!$B180,1,\"\")","v":1}]
["1d [O] Technik hotelarstwa (ang-fra)",65.099999999999994,88.29558823529409,140.5,{"$f":"IF('Wynik 2022r.'!$B$3>='Technika 2022r.'!$B181,1,\"\")","v":1}]
["1e [O] Technik grafiki i poligrafii cyfrowej (ang-niem)",93.85,116.86470588235292,155.44999999999999,{"$f":"IF('Wynik 2022r.'!$B$3>='Technika 2022r.'!$B182,1,\"\")","v":1}]
["1f [O] Technik handlowiec (ang-niem)",46.05,81.1308823529412,169.8,{"$f":"IF('Wynik 2022r.'!$B$3>='Technika 2022r.'!$B183,1,\"\")","v":1}]
["Technikum (ZSMR) w Piątku",28.15,62.684285714285721,155.9,{"$f":"IF('Wynik 2022r.'!$B$3>='Technika 2022r.'!$B184,1,\"\")","v":1}]
["1TLp [O] Technik logistyk (ang,niem-ang,niem*)",29,76.373333333333349,155.9,{"$f":"IF('Wynik 2022r.'!$B$3>='Technika 2022r.'!$B185,1,\"\")","v":1}]
["1TMRp [O] Technik mechanizacji rolnictwa i agrotroniki (ang,niem-ang,niem*)",28.15,52.417499999999997,85.6,{"$f":"IF('Wynik 2022r.'!$B$3>='Technika 2022r.'!$B186,1,\"\")","v":1}]
["Technikum (ZSP im. S.Staszica w Wieruszowie)",40.799999999999997,104.49479999999994,192.25,{"$f":"IF('Wynik 2022r.'!$B$3>='Technika 2022r.'!$B187,1,\"\")","v":1}]
["1TB [O] Technik budownictwa (ang-niem)",40.799999999999997,110.62321428571428,162.94999999999999,{"$f":"IF('Wynik 2022r.'!$B$3>='Technika 2022r.'!$B188,1,\"\")","v":1}]
["1Tek [O] Technik ekonomista (ang-niem)",51.8,121.43823529411769,192.25,{"$f":"IF('Wynik 2022r.'!$B$3>='Technika 2022r.'!$B189,1,\"\")","v":1}]
["1Th [O] Technik handlowiec (ang-niem)",55.4,87.552500000000009,155.65,{"$f":"IF('Wynik 2022r.'!$B$3>='Technika 2022r.'!$B190,1,\"\")","v":1}]
["1Tho [O] Technik hotelarstwa (ang-niem)",46.55,78.900000000000006,123.45,{"$f":"IF('Wynik 2022r.'!$B$3>='Technika 2022r.'!$B191,1,\"\")","v":1}]
["1Ti [O] Technik informatyk (ang-niem)",50.65,113.4448717948718,177.75,{"$f":"IF('Wynik 2022r.'!$B$3>='Technika 2022r.'!$B192,1,\"\")","v":1}]
["1Tl [O] Technik logistyk (ang-niem)",41.2,93.231159420289828,163.80000000000001,{"$f":"IF('Wynik 2022r.'!$B$3>='Technika 2022r.'!$B193,1,\"\")","v":1}]
["1Tt [O] Technik mechatronik (ang-niem)",47.65,104.10757575757579,162.6,{"$f":"IF('Wynik 2022r.'!$B$3>='Technika 2022r.'!$B194,1,\"\")","v":1}]
["Technikum (ZSP nr 3 w Pabianicach)",27.05,87.252262443438909,174.15,{"$f":"IF('Wynik 2022r.'!$B$3>='Technika 2022r.'!$B195,1,\"\")","v":1}]
["1TE Technik ekonomista",103.6,131.06874999999999,171.85,{"$f":"IF('Wynik 2022r.'!$B$3>='Technika 2022r.'!$B196,1,\"\")","v":""}]
["1TF Technik usług fryzjerskich",27.05,62.868965517241378,131.44999999999999,{"$f":"IF('Wynik 2022r.'!$B$3>='Technika 2022r.'!$B197,1,\"\")","v":1}]
["1TFo Technik fotografii i multimediów",50.7,85.980468750000028,174.15,{"$f":"IF('Wynik 2022r.'!$B$3>='Technika 2022r.'!$B198,1,\"\")","v":1}]
["1TH Technik hotelarstwa",60.35,95.270312499999989,156.9,{"$f":"IF('Wynik 2022r.'!$B$3>='Technika 2022r.'!$B199,1,\"\")","v":1}]
["1TL Technik logistyk",53.15,94.65000000000002,170.15,{"$f":"IF('Wynik 2022r.'!$B$3>='Technika 2022r.'!$B200,1,\"\")","v":1}]
["1TR Technik reklamy",36,70.870312499999983,124.2,{"$f":"IF('Wynik 2022r.'!$B$3>='Technika 2022r.'!$B201,1,\"\")","v":1}]
["Technikum (ZSP w Brzezinach) ",31.15,87.853246753246751,156.75,{"$f":"IF('Wynik 2022r.'!$B$3>='Technika 2022r.'!$B202,1,\"\")","v":1}]
["1R Rolnik",31.15,75.566666666666677,125.8,{"$f":"IF('Wynik 2022r.'!$B$3>='Technika 2022r.'!$B203,1,\"\")","v":1}]
["1Tekonomista TE",62.9,107.44333333333331,145.35,{"$f":"IF('Wynik 2022r.'!$B$3>='Technika 2022r.'!$B204,1,\"\")","v":1}]
["1Tlogistyk TL",33.85,84.955172413793093,128,{"$f":"IF('Wynik 2022r.'!$B$3>='Technika 2022r.'!$B205,1,\"\")","v":1}]
["1Treklamy TR",62.1,97.290909090909096,156.75,{"$f":"IF('Wynik 2022r.'!$B$3>='Technika 2022r.'!$B206,1,\"\")","v":1}]
["1Tżywienia TŻ",35.799999999999997,72.859375,127.3,{"$f":"IF('Wynik 2022r.'!$B$3>='Technika 2022r.'!$B207,1,\"\")","v":1}]
["Technikum (ZSRCKU Wojsławice, Zduńska Wola)",39.75,75.770588235294127,115.9,{"$f":"IF('Wynik 2022r.'!$B$3>='Technika 2022r.'!$B208,1,\"\")","v":1}]
["1TMRiA [O] Technik mechanizacji rolnictwa i agrotroniki (ang-niem*)",39.75,57.81666666666667,79.099999999999994,{"$f":"IF('Wynik 2022r.'!$B$3>='Technika 2022r.'!$B209,1,\"\")","v":1}]
["1TR [O] Technik rolnik (ang*-niem*)",60,79.972727272727283,107.55,{"$f":"IF('Wynik 2022r.'!$B$3>='Technika 2022r.'!$B210,1,\"\")","v":1}]
["1TŻiUG [O] Technik żywienia i usług gastronomicznych (ang*-niem*)",67.5,91.154545454545442,115.9,{"$f":"IF('Wynik 2022r.'!$B$3>='Technika 2022r.'!$B211,1,\"\")","v":1}]
["Technikum (ZSZ nr 1) w Skierniewicach",48.15,97.694166666666675,170.95,{"$f":"IF('Wynik 2022r.'!$B$3>='Technika 2022r.'!$B212,1,\"\")","v":1}]
["1TAK Technik architektury krajobrazu (ang-niem,ros)",87.9,105.00833333333331,144.75,{"$f":"IF('Wynik 2022r.'!$B$3>='Technika 2022r.'!$B213,1,\"\")","v":1}]
["1TB Technik budownictwa (ang-niem,ros)",64.8,95.355000000000047,170.95,{"$f":"IF('Wynik 2022r.'!$B$3>='Technika 2022r.'!$B214,1,\"\")","v":1}]
["1TEO Technik urządzeń i systemów energetyki odnawialnej (ang-niem,ros)",61.55,101.24666666666667,148.55000000000001,{"$f":"IF('Wynik 2022r.'!$B$3>='Technika 2022r.'!$B215,1,\"\")","v":1}]
["1TR Technik reklamy (ang-niem,ros)",88.1,105.19333333333333,134.75,{"$f":"IF('Wynik 2022r.'!$B$3>='Technika 2022r.'!$B216,1,\"\")","v":1}]
["1TUF Technik usług fryzjerskich (ang-niem,ros)",48.15,69.193333333333342,102.95,{"$f":"IF('Wynik 2022r.'!$B$3>='Technika 2022r.'!$B217,1,\"\")","v":1}]
["Technikum (ZSZ nr 2) w Skierniewicach",22.55,90.788529411764728,158.85,{"$f":"IF('Wynik 2022r.'!$B$3>='Technika 2022r.'!$B218,1,\"\")","v":1}]
["1ea Technik elektryk (ang-niem,ros)",49.7,85.751666666666679,135.5,{"$f":"IF('Wynik 2022r.'!$B$3>='Technika 2022r.'!$B219,1,\"\")","v":1}]
["1fa Technik fotografii i multimediów (ang-niem,ros)",57.05,86.148888888888877,153.19999999999999,{"$f":"IF('Wynik 2022r.'!$B$3>='Technika 2022r.'!$B220,1,\"\")","v":1}]
["1ia Technik informatyk (ang-niem,ros)",93.85,118.95666666666668,158.85,{"$f":"IF('Wynik 2022r.'!$B$3>='Technika 2022r.'!$B221,1,\"\")","v":1}]
["1ma Technik mechanik (ang-niem,ros)",22.55,65.585000000000008,150.85,{"$f":"IF('Wynik 2022r.'!$B$3>='Technika 2022r.'!$B222,1,\"\")","v":1}]
["1pa Technik pojazdów samochodowych (ang-niem)",39.85,77.334999999999994,133.35,{"$f":"IF('Wynik 2022r.'!$B$3>='Technika 2022r.'!$B223,1,\"\")","v":1}]
["Technikum Drzewne i Ochr. Śr (ZSDiOŚ w Radomsku)",25.7,78.958695652173915,158.94999999999999,{"$f":"IF('Wynik 2022r.'!$B$3>='Technika 2022r.'!$B224,1,\"\")","v":1}]
["1A [O] Technik logistyk (ang-niem,ros)",56.2,88.381250000000023,144.35,{"$f":"IF('Wynik 2022r.'!$B$3>='Technika 2022r.'!$B225,1,\"\")","v":1}]
["1B [O] Technik usług fryzjerskich (ang-niem,ros)",33.4,75.909259259259244,158.94999999999999,{"$f":"IF('Wynik 2022r.'!$B$3>='Technika 2022r.'!$B226,1,\"\")","v":1}]
["1C [O] Technik żywienia i usług gastronomicznych (ang-niem,ros)",31.4,63.150000000000006,133.69999999999999,{"$f":"IF('Wynik 2022r.'!$B$3>='Technika 2022r.'!$B227,1,\"\")","v":1}]
["1D [O] Technik technologii drewna (ang-niem,ros)",25.7,80.643333333333331,151.1,{"$f":"IF('Wynik 2022r.'!$B$3>='Technika 2022r.'!$B228,1,\"\")","v":1}]
["Technikum Ekonomiczno-Hotelarskie (TE-H w ZSP Nr 2 w Bełchatowie)",63.2,98.199999999999946,162.30000000000001,{"$f":"IF('Wynik 2022r.'!$B$3>='Technika 2022r.'!$B229,1,\"\")","v":1}]
["1a Technik ekonomista",94.25,117.33333333333333,159.94999999999999,{"$f":"IF('Wynik 2022r.'!$B$3>='Technika 2022r.'!$B230,1,\"\")","v":1}]
["1d Technik geodeta",80.95,118.36521739130433,162.30000000000001,{"$f":"IF('Wynik 2022r.'!$B$3>='Technika 2022r.'!$B231,1,\"\")","v":1}]
["1f Technik usług fryzjerskich",63.2,92.956249999999983,132,{"$f":"IF('Wynik 2022r.'!$B$3>='Technika 2022r.'!$B232,1,\"\")","v":1}]
["1g Technik żywienia i usług gastronomicznych",66.150000000000006,84.73833333333333,119.7,{"$f":"IF('Wynik 2022r.'!$B$3>='Technika 2022r.'!$B233,1,\"\")","v":1}]
["1h Technik hotelarstwa",66.25,95.896428571428558,150,{"$f":"IF('Wynik 2022r.'!$B$3>='Technika 2022r.'!$B234,1,\"\")","v":1}]
["1l Technik logistyk",64.2,94.411666666666676,133.4,{"$f":"IF('Wynik 2022r.'!$B$3>='Technika 2022r.'!$B235,1,\"\")","v":1}]
["1r Technik reklamy",64.8,98.12166666666667,153.6,{"$f":"IF('Wynik 2022r.'!$B$3>='Technika 2022r.'!$B236,1,\"\")","v":1}]
["Technikum Elektr.- Elektron. (ZSEE w Radomsku)",75.650000000000006,124.13798283261805,188.55,{"$f":"IF('Wynik 2022r.'!$B$3>='Technika 2022r.'!$B237,1,\"\")","v":1}]
["1a [O] Technik elektronik (ang-niem)",75.650000000000006,107.41029411764708,172.5,{"$f":"IF('Wynik 2022r.'!$B$3>='Technika 2022r.'!$B238,1,\"\")","v":1}]
["1b [O] Technik informatyk (ang-niem)",104.45,127.92985074626864,188.55,{"$f":"IF('Wynik 2022r.'!$B$3>='Technika 2022r.'!$B239,1,\"\")","v":""}]
["1c [O] Technik elektryk (ang-niem)",88.85,110.76969696969698,164.3,{"$f":"IF('Wynik 2022r.'!$B$3>='Technika 2022r.'!$B240,1,\"\")","v":1}]
["1f [O] Technik reklamy (ang-niem)",82.3,108.05454545454548,149.1,{"$f":"IF('Wynik 2022r.'!$B$3>='Technika 2022r.'!$B241,1,\"\")","v":1}]
["1l [O] Technik programista (ang-niem)",116.9,143.6318181818182,173.95,{"$f":"IF('Wynik 2022r.'!$B$3>='Technika 2022r.'!$B242,1,\"\")","v":""}]
["Technikum Elektroniczne im. Bohaterów Września 1939 roku (ZS w Żychlinie)",26.1,87.146874999999994,167.6,{"$f":"IF('Wynik 2022r.'!$B$3>='Technika 2022r.'!$B243,1,\"\")","v":1}]
["1TE/A [O] Technik analityk (ang-niem,ros)",26.45,90.742857142857133,166.6,{"$f":"IF('Wynik 2022r.'!$B$3>='Technika 2022r.'!$B244,1,\"\")","v":1}]
["1TE/G [O] Technik grafiki i poligrafii cyfrowej (ang-ros,niem)",37.950000000000003,87.667307692307674,167.6,{"$f":"IF('Wynik 2022r.'!$B$3>='Technika 2022r.'!$B245,1,\"\")","v":1}]
["1TE/I [O] Technik informatyk (ang-ros,niem)",26.1,99.62,154,{"$f":"IF('Wynik 2022r.'!$B$3>='Technika 2022r.'!$B246,1,\"\")","v":1}]
["1TE/S [O] Technik pojazdów samochodowych (ang-ros,niem)",32.35,62.1,115.05,{"$f":"IF('Wynik 2022r.'!$B$3>='Technika 2022r.'!$B247,1,\"\")","v":1}]
["Technikum Energetyczne (ZSP Nr 1 w Bełchatowie)",57.45,104.56733333333335,179,{"$f":"IF('Wynik 2022r.'!$B$3>='Technika 2022r.'!$B248,1,\"\")","v":1}]
["1B [O] Technik budownictwa (ang-niem)",72.05,98.796874999999986,147.05000000000001,{"$f":"IF('Wynik 2022r.'!$B$3>='Technika 2022r.'!$B249,1,\"\")","v":1}]
["1C [O] Technik elektronik (ang-niem)",80.650000000000006,109.06666666666666,172.95,{"$f":"IF('Wynik 2022r.'!$B$3>='Technika 2022r.'!$B250,1,\"\")","v":1}]
["1D [O] Technik elektryk (ang-niem)",61.45,102.4344827586207,141.05000000000001,{"$f":"IF('Wynik 2022r.'!$B$3>='Technika 2022r.'!$B251,1,\"\")","v":1}]
["1E [O] Technik urządzeń i systemów energetyki odnawialnej (ang-niem)",81.849999999999994,96.156666666666666,124.25,{"$f":"IF('Wynik 2022r.'!$B$3>='Technika 2022r.'!$B252,1,\"\")","v":1}]
["1H [O] Technik pojazdów samochodowych (ang-niem)",72,85.566666666666677,122.55,{"$f":"IF('Wynik 2022r.'!$B$3>='Technika 2022r.'!$B253,1,\"\")","v":1}]
["1I [O] Technik informatyk (ang-niem)",57.45,111.69,179,{"$f":"IF('Wynik 2022r.'!$B$3>='Technika 2022r.'!$B254,1,\"\")","v":1}]
["Technikum im. majora Henryka Dobrzańskiego \"Hubala\" w Drzewicy",15,73.153749999999974,127.6,{"$f":"IF('Wynik 2022r.'!$B$3>='Technika 2022r.'!$B255,1,\"\")","v":1}]
["1TA [O] Technik logistyk (ang*-niem)",34.450000000000003,71.016666666666666,107.3,{"$f":"IF('Wynik 2022r.'!$B$3>='Technika 2022r.'!$B256,1,\"\")","v":1}]
["1TB [O] Technik informatyk (ang*-niem)",30.6,86.465384615384608,127.55,{"$f":"IF('Wynik 2022r.'!$B$3>='Technika 2022r.'!$B257,1,\"\")","v":1}]
["1TC [O] Technik transportu kolejowego (ang*-niem)",15,63.326666666666675,127.6,{"$f":"IF('Wynik 2022r.'!$B$3>='Technika 2022r.'!$B258,1,\"\")","v":1}]
["Technikum im.W.Szymborskiej w Skierniewicach (ZS nr 3) ",98.1,128.83139534883725,188.75,{"$f":"IF('Wynik 2022r.'!$B$3>='Technika 2022r.'!$B259,1,\"\")","v":1}]
["1F Technik ekonomista",121.4,140.50781249999997,170.05,{"$f":"IF('Wynik 2022r.'!$B$3>='Technika 2022r.'!$B260,1,\"\")","v":""}]
["1G Technik analityk",107.5,133.83541666666665,164.35,{"$f":"IF('Wynik 2022r.'!$B$3>='Technika 2022r.'!$B261,1,\"\")","v":""}]
["1K Technik hotelarstwa",98.1,116.94999999999999,188.75,{"$f":"IF('Wynik 2022r.'!$B$3>='Technika 2022r.'!$B262,1,\"\")","v":1}]
["1L Technik eksploatacji portów i terminali ",107.7,131.08416666666665,171.15,{"$f":"IF('Wynik 2022r.'!$B$3>='Technika 2022r.'!$B263,1,\"\")","v":""}]
["1M Technik żywienia i usług gastronomicznych",104.3,118.35192307692309,147.55000000000001,{"$f":"IF('Wynik 2022r.'!$B$3>='Technika 2022r.'!$B264,1,\"\")","v":""}]
["Technikum Informatyczne (ZSP, Szczerców)",43.9,112.30432098765429,163.9,{"$f":"IF('Wynik 2022r.'!$B$3>='Technika 2022r.'!$B265,1,\"\")","v":1}]
["1TAK Technik architektury krajobrazu",79.7,108.13928571428573,136.5,{"$f":"IF('Wynik 2022r.'!$B$3>='Technika 2022r.'!$B266,1,\"\")","v":1}]
["1TE Technik ekonomista",43.9,84.691666666666663,141.44999999999999,{"$f":"IF('Wynik 2022r.'!$B$3>='Technika 2022r.'!$B267,1,\"\")","v":1}]
["1TI Technik informatyk",62.45,114.11379310344829,163.9,{"$f":"IF('Wynik 2022r.'!$B$3>='Technika 2022r.'!$B268,1,\"\")","v":1}]
["1TP Technik programista",47.4,125.27307692307691,161.65,{"$f":"IF('Wynik 2022r.'!$B$3>='Technika 2022r.'!$B269,1,\"\")","v":1}]
["Technikum Mechaniczne (ZSP w  Zelowie)",30.6,79.549999999999983,143.5,{"$f":"IF('Wynik 2022r.'!$B$3>='Technika 2022r.'!$B270,1,\"\")","v":1}]
["1Ti [O] Technik informatyk (ang-niem)",71.400000000000006,100.27727272727272,143.5,{"$f":"IF('Wynik 2022r.'!$B$3>='Technika 2022r.'!$B271,1,\"\")","v":1}]
["1ts [O] Technik pojazdów samochodowych (ang*-niem*)",30.6,66.88333333333334,136.30000000000001,{"$f":"IF('Wynik 2022r.'!$B$3>='Technika 2022r.'!$B272,1,\"\")","v":1}]
["Technikum nr 1 (ZS Nr 1 im. St. Staszica w Kutnie)",35.75,97.269196428571448,164.65,{"$f":"IF('Wynik 2022r.'!$B$3>='Technika 2022r.'!$B273,1,\"\")","v":1}]
["1e [O] Technik elektronik (ang-niem,ros)",95.25,123.25333333333334,162.55000000000001,{"$f":"IF('Wynik 2022r.'!$B$3>='Technika 2022r.'!$B274,1,\"\")","v":1}]
["1i [O] Technik informatyk (ang-niem,ros)",49.65,99.590909090909122,164.65,{"$f":"IF('Wynik 2022r.'!$B$3>='Technika 2022r.'!$B275,1,\"\")","v":1}]
["1m [O] Technik mechanik (ang-niem,ros)",50.7,83.2,127.8,{"$f":"IF('Wynik 2022r.'!$B$3>='Technika 2022r.'!$B276,1,\"\")","v":1}]
["1s [O] Technik pojazdów samochodowych (ang-niem,ros)",35.75,85.920370370370364,157.75,{"$f":"IF('Wynik 2022r.'!$B$3>='Technika 2022r.'!$B277,1,\"\")","v":1}]
["Technikum Nr 1 (ZS1 Koluszki)",43.25,85.18225806451612,118.7,{"$f":"IF('Wynik 2022r.'!$B$3>='Technika 2022r.'!$B278,1,\"\")","v":1}]
["1TIp Technik informatyk",59.95,88.98,118.7,{"$f":"IF('Wynik 2022r.'!$B$3>='Technika 2022r.'!$B279,1,\"\")","v":1}]
["1TPSp Technik pojazdów samochodowych",43.25,81.621875000000017,113.15,{"$f":"IF('Wynik 2022r.'!$B$3>='Technika 2022r.'!$B280,1,\"\")","v":1}]
["Technikum nr 1 (ZSP nr 1 w Łasku)",22.65,83.040361445783134,166.9,{"$f":"IF('Wynik 2022r.'!$B$3>='Technika 2022r.'!$B281,1,\"\")","v":1}]
["1E [O] Technik ekonomista (ang-niem)",41.6,92.988888888888894,149.25,{"$f":"IF('Wynik 2022r.'!$B$3>='Technika 2022r.'!$B282,1,\"\")","v":1}]
["1I [O] Technik informatyk (ang-niem)",42.4,83.388095238095246,164.75,{"$f":"IF('Wynik 2022r.'!$B$3>='Technika 2022r.'!$B283,1,\"\")","v":1}]
["1L [O] Technik logistyk (ang-niem)",46.85,96.01666666666668,166.9,{"$f":"IF('Wynik 2022r.'!$B$3>='Technika 2022r.'!$B284,1,\"\")","v":1}]
["1R [O] Technik reklamy (ang-niem)",22.65,73.600000000000009,149.6,{"$f":"IF('Wynik 2022r.'!$B$3>='Technika 2022r.'!$B285,1,\"\")","v":1}]
["Technikum Nr 1 (ZSP nr 1 w Sieradzu)",65.650000000000006,123.41143497757842,187.45,{"$f":"IF('Wynik 2022r.'!$B$3>='Technika 2022r.'!$B286,1,\"\")","v":1}]
["1Tb [O] Technik budownictwa (ang*-niem*)",91,111.80000000000001,161.55000000000001,{"$f":"IF('Wynik 2022r.'!$B$3>='Technika 2022r.'!$B287,1,\"\")","v":1}]
["1Tba [O] Technik geodeta (ang*-niem*)",110.25,137.11874999999995,187.45,{"$f":"IF('Wynik 2022r.'!$B$3>='Technika 2022r.'!$B288,1,\"\")","v":""}]
["1Tbaa [O] Technik architektury krajobrazu (ang*-niem*)",110,128.44696969696972,157.5,{"$f":"IF('Wynik 2022r.'!$B$3>='Technika 2022r.'!$B289,1,\"\")","v":""}]
["1Te [O] Technik elektryk (ang*-niem*)",100.9,118.63750000000002,173.1,{"$f":"IF('Wynik 2022r.'!$B$3>='Technika 2022r.'!$B290,1,\"\")","v":""}]
["1Tem [O] Technik mechanik (ang*-niem*)",75.2,89.58214285714287,131.19999999999999,{"$f":"IF('Wynik 2022r.'!$B$3>='Technika 2022r.'!$B291,1,\"\")","v":1}]
["1Teo [O] Technik urządzeń i systemów energetyki odnawialnej (ang*-niem*)",95.1,106.02142857142857,138.80000000000001,{"$f":"IF('Wynik 2022r.'!$B$3>='Technika 2022r.'!$B292,1,\"\")","v":1}]
["1Ti [O] Technik informatyk (ang*-niem*)",121.9,142.17833333333337,170.15,{"$f":"IF('Wynik 2022r.'!$B$3>='Technika 2022r.'!$B293,1,\"\")","v":""}]
["1Tm [O] Technik mechatronik (ang*-niem*)",108.25,125.95555555555558,158.6,{"$f":"IF('Wynik 2022r.'!$B$3>='Technika 2022r.'!$B294,1,\"\")","v":""}]
["1TP [O] Technik programista (ang*-niem*)",117.8,139.48965517241379,175,{"$f":"IF('Wynik 2022r.'!$B$3>='Technika 2022r.'!$B295,1,\"\")","v":""}]
["1Ts [O] Technik spawalnictwa (ang*-niem*)",65.650000000000006,78.754999999999995,94.4,{"$f":"IF('Wynik 2022r.'!$B$3>='Technika 2022r.'!$B296,1,\"\")","v":1}]
["1TSM [O] Technik pojazdów samochodowych (ang*-niem*)",90.3,114.51388888888889,159,{"$f":"IF('Wynik 2022r.'!$B$3>='Technika 2022r.'!$B297,1,\"\")","v":1}]
["Technikum nr 1 (ZSP1 Tomaszów Mazowiecki)",20.75,96.215254237288164,170.45,{"$f":"IF('Wynik 2022r.'!$B$3>='Technika 2022r.'!$B298,1,\"\")","v":1}]
["1E [O] Technik elektryk (ang-niem*)",81.5,107.83194444444445,159.65,{"$f":"IF('Wynik 2022r.'!$B$3>='Technika 2022r.'!$B299,1,\"\")","v":1}]
["1Et [O] Technik elektronik (ang-niem*)",28.5,85.916176470588212,155.55000000000001,{"$f":"IF('Wynik 2022r.'!$B$3>='Technika 2022r.'!$B300,1,\"\")","v":1}]
["1H [O] Technik hotelarstwa (ang-niem*)",20.75,89.9375,146.69999999999999,{"$f":"IF('Wynik 2022r.'!$B$3>='Technika 2022r.'!$B301,1,\"\")","v":1}]
["1I [O] Technik informatyk (ang-niem*)",104.1,129.02063492063493,166.15,{"$f":"IF('Wynik 2022r.'!$B$3>='Technika 2022r.'!$B302,1,\"\")","v":""}]
["1Iw [PW] Technik informatyk (ang-niem*)",46,53.428571428571431,62,{"$f":"IF('Wynik 2022r.'!$B$3>='Technika 2022r.'!$B303,1,\"\")","v":1}]
["1M [O] Technik mechanik (ang-niem*)",48.2,75.509722222222223,135.4,{"$f":"IF('Wynik 2022r.'!$B$3>='Technika 2022r.'!$B304,1,\"\")","v":1}]
["1Mt [O] Technik mechatronik (ang-niem*)",104.45,131.6764705882353,170.45,{"$f":"IF('Wynik 2022r.'!$B$3>='Technika 2022r.'!$B305,1,\"\")","v":""}]
["1Mtw [PW] Technik mechatronik (ang-niem)",46,54.392857142857146,62,{"$f":"IF('Wynik 2022r.'!$B$3>='Technika 2022r.'!$B306,1,\"\")","v":1}]
["Technikum nr 1 (ZSZ nr 1) w Zduńskiej Woli",23.35,88.737313432835805,159.69999999999999,{"$f":"IF('Wynik 2022r.'!$B$3>='Technika 2022r.'!$B307,1,\"\")","v":1}]
["1TE(ERa) [O] Technik ekonomista (ang*-niem*)",69.650000000000006,110.67500000000001,159.69999999999999,{"$f":"IF('Wynik 2022r.'!$B$3>='Technika 2022r.'!$B308,1,\"\")","v":1}]
["1TL(PL) [O] Technik logistyk (ang*-fra*,niem*)",64.2,100.25394736842105,159.1,{"$f":"IF('Wynik 2022r.'!$B$3>='Technika 2022r.'!$B309,1,\"\")","v":1}]
["1TM(MS) [O] Technik mechanik (ang*-ros*)",23.35,61.703846153846143,99.8,{"$f":"IF('Wynik 2022r.'!$B$3>='Technika 2022r.'!$B310,1,\"\")","v":1}]
["1TR(RLt) [O] Technik reklamy (ang*-fra*)",33.549999999999997,80.797058823529412,122,{"$f":"IF('Wynik 2022r.'!$B$3>='Technika 2022r.'!$B311,1,\"\")","v":1}]
["1TSMOT.02(MS) [O] Technik pojazdów samochodowych (ang*-ros*)",41.55,84.735294117647058,146.65,{"$f":"IF('Wynik 2022r.'!$B$3>='Technika 2022r.'!$B312,1,\"\")","v":1}]
["1TSMOT.05(MS) [O] Technik pojazdów samochodowych (ang*-ros*)",51.5,78.517857142857139,110.65,{"$f":"IF('Wynik 2022r.'!$B$3>='Technika 2022r.'!$B313,1,\"\")","v":1}]
["Technikum Nr 1 im. Jakuba Stefana Cezaka w Zgierzu",42.6,95.793233082706735,175.5,{"$f":"IF('Wynik 2022r.'!$B$3>='Technika 2022r.'!$B314,1,\"\")","v":1}]
["1TC [O] Technik grafiki i poligrafii cyfrowej (ang-niem*)",56.1,87.517187499999991,132.1,{"$f":"IF('Wynik 2022r.'!$B$3>='Technika 2022r.'!$B315,1,\"\")","v":1}]
["1TE [O] Technik ekonomista (ang-niem*)",61.4,97.411764705882334,144.9,{"$f":"IF('Wynik 2022r.'!$B$3>='Technika 2022r.'!$B316,1,\"\")","v":1}]
["1TF [O] Technik fotografii i multimediów (ang-niem*)",62.95,121.42941176470586,175.5,{"$f":"IF('Wynik 2022r.'!$B$3>='Technika 2022r.'!$B317,1,\"\")","v":1}]
["1THOT [O] Technik hotelarstwa (ang-hisz)",42.6,74.255882352941185,155.15,{"$f":"IF('Wynik 2022r.'!$B$3>='Technika 2022r.'!$B318,1,\"\")","v":1}]
["1TOR [O] Technik reklamy (ang-niem*)",49.55,97.206249999999997,156.6,{"$f":"IF('Wynik 2022r.'!$B$3>='Technika 2022r.'!$B319,1,\"\")","v":1}]
["1TOT [O] Technik organizacji turystyki (ang-hisz*)",44.15,88.479411764705858,157.05000000000001,{"$f":"IF('Wynik 2022r.'!$B$3>='Technika 2022r.'!$B320,1,\"\")","v":1}]
["1TUG [O] Technik żywienia i usług gastronomicznych (ang-niem*)",84.3,111.63823529411765,156.19999999999999,{"$f":"IF('Wynik 2022r.'!$B$3>='Technika 2022r.'!$B321,1,\"\")","v":1}]
["Technikum nr 1 im. Kardynała Stefana Wyszyńskiego w Łęczycy (ZSP Nr 1 w Łęczycy)",42.2,100.00791366906469,166.5,{"$f":"IF('Wynik 2022r.'!$B$3>='Technika 2022r.'!$B322,1,\"\")","v":1}]
["1Tg [O] Technik grafiki i poligrafii cyfrowej (ang-niem,ros*)",88.1,117.87555555555552,161,{"$f":"IF('Wynik 2022r.'!$B$3>='Technika 2022r.'!$B323,1,\"\")","v":1}]
["1tm [O] Technik mechanik (ang-niem,ros*)",45.65,96.291666666666643,152.35,{"$f":"IF('Wynik 2022r.'!$B$3>='Technika 2022r.'!$B324,1,\"\")","v":1}]
["1tpr [O] Technik programista (ang-niem,ros*)",95,127.86923076923077,166.5,{"$f":"IF('Wynik 2022r.'!$B$3>='Technika 2022r.'!$B325,1,\"\")","v":1}]
["1tps [O] Technik pojazdów samochodowych (ang-niem,ros*)",58.2,86.137500000000017,136.80000000000001,{"$f":"IF('Wynik 2022r.'!$B$3>='Technika 2022r.'!$B326,1,\"\")","v":1}]
["1ts [O] Technik spedytor (ang-niem,ros*)",48,90.568181818181841,139,{"$f":"IF('Wynik 2022r.'!$B$3>='Technika 2022r.'!$B327,1,\"\")","v":1}]
["1Tżu [O] Technik żywienia i usług gastronomicznych (ang-niem,ros*)",42.2,77.683870967741925,121.65,{"$f":"IF('Wynik 2022r.'!$B$3>='Technika 2022r.'!$B328,1,\"\")","v":1}]
["Technikum Nr 2 (ZS2 Koluszki)",52.05,96.005263157894746,167.8,{"$f":"IF('Wynik 2022r.'!$B$3>='Technika 2022r.'!$B329,1,\"\")","v":1}]
["1AU Technik automatyk",62,104.64000000000001,167.8,{"$f":"IF('Wynik 2022r.'!$B$3>='Technika 2022r.'!$B330,1,\"\")","v":1}]
["1l Technik logistyk",52.05,88.930952380952363,164,{"$f":"IF('Wynik 2022r.'!$B$3>='Technika 2022r.'!$B331,1,\"\")","v":1}]
["1m technik mechatronik",53.45,104.82631578947367,150.75,{"$f":"IF('Wynik 2022r.'!$B$3>='Technika 2022r.'!$B332,1,\"\")","v":1}]
["Technikum nr 2 (ZSE) w Zduńskiej Woli",36.200000000000003,121.01910994764404,186.55,{"$f":"IF('Wynik 2022r.'!$B$3>='Technika 2022r.'!$B333,1,\"\")","v":1}]
["1TA [O] Technik automatyk (ang*-niem*)",50.2,105.83857142857141,173.25,{"$f":"IF('Wynik 2022r.'!$B$3>='Technika 2022r.'!$B334,1,\"\")","v":1}]
["1TE [O] Technik elektronik (ang*-niem*)",89.5,128.04333333333332,186.55,{"$f":"IF('Wynik 2022r.'!$B$3>='Technika 2022r.'!$B335,1,\"\")","v":1}]
["1TG [O] Technik grafiki i poligrafii cyfrowej (ang*-niem*)",36.200000000000003,102.08333333333333,168.6,{"$f":"IF('Wynik 2022r.'!$B$3>='Technika 2022r.'!$B336,1,\"\")","v":1}]
["1Ti [O] Technik informatyk (ang*-niem*)",81.7,118.02457627118642,175.2,{"$f":"IF('Wynik 2022r.'!$B$3>='Technika 2022r.'!$B337,1,\"\")","v":1}]
["1TP [O] Technik programista (ang*-niem*)",121.65,146.07040816326531,175.15,{"$f":"IF('Wynik 2022r.'!$B$3>='Technika 2022r.'!$B338,1,\"\")","v":""}]
["Technikum Nr 2 (ZSP nr 2 w Sieradzu)",70.150000000000006,102.80297029702976,166.75,{"$f":"IF('Wynik 2022r.'!$B$3>='Technika 2022r.'!$B339,1,\"\")","v":1}]
["1A/1 [O] Technik rachunkowości (ang-wlo)",81.8,97.284374999999997,130.55000000000001,{"$f":"IF('Wynik 2022r.'!$B$3>='Technika 2022r.'!$B340,1,\"\")","v":1}]
["1A/2 [O] Technik logistyk (ang-wlo)",105.15,125.45555555555555,166.75,{"$f":"IF('Wynik 2022r.'!$B$3>='Technika 2022r.'!$B341,1,\"\")","v":""}]
["1B/1 [O] Technik żywienia i usług gastronomicznych (ang-wlo)",84.15,100.73676470588236,164.2,{"$f":"IF('Wynik 2022r.'!$B$3>='Technika 2022r.'!$B342,1,\"\")","v":1}]
["1B/2 [O] Technik usług fryzjerskich (ang-wlo)",70.150000000000006,87.429411764705861,125.65,{"$f":"IF('Wynik 2022r.'!$B$3>='Technika 2022r.'!$B343,1,\"\")","v":1}]
["1B/3 [O] Technik hotelarstwa (ang-wlo)",88,103.5625,125.05,{"$f":"IF('Wynik 2022r.'!$B$3>='Technika 2022r.'!$B344,1,\"\")","v":1}]
["Technikum nr 2 (ZSP2 Tomaszów Mazowiecki)",28.4,86.417880794702,167.45,{"$f":"IF('Wynik 2022r.'!$B$3>='Technika 2022r.'!$B345,1,\"\")","v":1}]
["1E [O] Technik ekonomista (ang*-niem*)",42.3,103.36521739130436,145.25,{"$f":"IF('Wynik 2022r.'!$B$3>='Technika 2022r.'!$B346,1,\"\")","v":1}]
["1G [O] Technik żywienia i usług gastronomicznych (ang*-niem*)",28.4,75.148999999999987,127.65,{"$f":"IF('Wynik 2022r.'!$B$3>='Technika 2022r.'!$B347,1,\"\")","v":1}]
["1H [O] Technik handlowiec (ang*-niem*)",33.85,70.547222222222231,105,{"$f":"IF('Wynik 2022r.'!$B$3>='Technika 2022r.'!$B348,1,\"\")","v":1}]
["1Ra [O] Technik rachunkowości (ang*-niem*)",52.35,107.89833333333334,167.45,{"$f":"IF('Wynik 2022r.'!$B$3>='Technika 2022r.'!$B349,1,\"\")","v":1}]
["1Re [O] Technik reklamy (ang*-niem*)",38.1,80.248333333333349,140.65,{"$f":"IF('Wynik 2022r.'!$B$3>='Technika 2022r.'!$B350,1,\"\")","v":1}]
["Technikum Nr 2 im. Jana Pawła II w Zgierzu",36.450000000000003,106.4514204545455,252.95,{"$f":"IF('Wynik 2022r.'!$B$3>='Technika 2022r.'!$B351,1,\"\")","v":1}]
["1TBp Technik budownictwa",59.85,105.61333333333333,169.2,{"$f":"IF('Wynik 2022r.'!$B$3>='Technika 2022r.'!$B352,1,\"\")","v":1}]
["1TEp Technik elektryk",51.35,87.864999999999981,159.44999999999999,{"$f":"IF('Wynik 2022r.'!$B$3>='Technika 2022r.'!$B353,1,\"\")","v":1}]
["1TFp Technik usług fryzjerskich",50.5,76.465000000000003,162,{"$f":"IF('Wynik 2022r.'!$B$3>='Technika 2022r.'!$B354,1,\"\")","v":1}]
["1TIp Technik informatyk",116.1,135.74333333333331,162.85,{"$f":"IF('Wynik 2022r.'!$B$3>='Technika 2022r.'!$B355,1,\"\")","v":""}]
["1TLp Technik logistyk",66.349999999999994,95.646666666666661,138.1,{"$f":"IF('Wynik 2022r.'!$B$3>='Technika 2022r.'!$B356,1,\"\")","v":1}]
["1TPanglojęzyczny Technik programista dwujęzyczny",197.1,222.91,252.95,{"$f":"IF('Wynik 2022r.'!$B$3>='Technika 2022r.'!$B357,1,\"\")","v":""}]
["1TRp Technik robotyk",87.7,123.26666666666665,163.85,{"$f":"IF('Wynik 2022r.'!$B$3>='Technika 2022r.'!$B358,1,\"\")","v":1}]
["1TUp Technikum odnawialnych źródeł energii",36.450000000000003,81.659615384615407,158.6,{"$f":"IF('Wynik 2022r.'!$B$3>='Technika 2022r.'!$B359,1,\"\")","v":1}]
["Technikum Nr 2 w Łęczycy (ZS im. J. Grodzkiej w Łęczycy) ",33.450000000000003,107.6783582089552,184.15,{"$f":"IF('Wynik 2022r.'!$B$3>='Technika 2022r.'!$B360,1,\"\")","v":1}]
["1an [O] Technik analityk (ang,niem,ros-ang,niem,ros)",33.450000000000003,117.00555555555555,184.15,{"$f":"IF('Wynik 2022r.'!$B$3>='Technika 2022r.'!$B361,1,\"\")","v":1}]
["1fot [O] Technik fotografii i multimediów (ang,niem,ros-ang,niem,ros)",35.4,87.062499999999986,147.19999999999999,{"$f":"IF('Wynik 2022r.'!$B$3>='Technika 2022r.'!$B362,1,\"\")","v":1}]
["1tek [O] Technik ekonomista (ang,niem,ros-ang,niem,ros)",66.650000000000006,115.54705882352943,158.69999999999999,{"$f":"IF('Wynik 2022r.'!$B$3>='Technika 2022r.'!$B363,1,\"\")","v":1}]
["1tin [O] Technik informatyk (ang,niem,ros-ang,niem,ros)",53.75,101.98125,160.65,{"$f":"IF('Wynik 2022r.'!$B$3>='Technika 2022r.'!$B364,1,\"\")","v":1}]
["Technikum nr 3 (ZS Karsznice) w Zduńskiej Woli",36.65,84.050480769230788,156.5,{"$f":"IF('Wynik 2022r.'!$B$3>='Technika 2022r.'!$B365,1,\"\")","v":1}]
["1TH [O] Technik hotelarstwa (ang-niem,ros)",36.65,86.272058823529406,155.05000000000001,{"$f":"IF('Wynik 2022r.'!$B$3>='Technika 2022r.'!$B366,1,\"\")","v":1}]
["1TTK [O] Technik transportu kolejowego (ang-niem,ros)",45.65,85.064705882352953,137.55000000000001,{"$f":"IF('Wynik 2022r.'!$B$3>='Technika 2022r.'!$B367,1,\"\")","v":1}]
["1TŻ [O] Technik żywienia i usług gastronomicznych (ang-niem,ros)",47.55,80.99444444444444,156.5,{"$f":"IF('Wynik 2022r.'!$B$3>='Technika 2022r.'!$B368,1,\"\")","v":1}]
["Technikum nr 3 (ZS nr 3 im. Wł. Grabskiego w Kutnie)",61.85,111.12643312101912,175.65,{"$f":"IF('Wynik 2022r.'!$B$3>='Technika 2022r.'!$B369,1,\"\")","v":1}]
["1TE [O] Technik ekonomista (ang-niem,ros)",82.35,120.69259259259259,158,{"$f":"IF('Wynik 2022r.'!$B$3>='Technika 2022r.'!$B370,1,\"\")","v":1}]
["1TH [O] Technik handlowiec (ang-ros)",61.85,92.54285714285713,122.85,{"$f":"IF('Wynik 2022r.'!$B$3>='Technika 2022r.'!$B371,1,\"\")","v":1}]
["1TI [O] Technik informatyk (ang-niem*)",73.599999999999994,106.34642857142856,171.55,{"$f":"IF('Wynik 2022r.'!$B$3>='Technika 2022r.'!$B372,1,\"\")","v":1}]
["1TL [O] Technik logistyk (ang-niem,ros)",71.349999999999994,107.93157894736841,161.94999999999999,{"$f":"IF('Wynik 2022r.'!$B$3>='Technika 2022r.'!$B373,1,\"\")","v":1}]
["1TP [O] Technik programista (ang-niem*)",70.5,124.66458333333333,175.65,{"$f":"IF('Wynik 2022r.'!$B$3>='Technika 2022r.'!$B374,1,\"\")","v":1}]
["1TR [O] Technik reklamy (ang-fra)",71.5,103.83749999999998,164.85,{"$f":"IF('Wynik 2022r.'!$B$3>='Technika 2022r.'!$B375,1,\"\")","v":1}]
["Technikum nr 3 (ZSP3 Tomaszów Mazowiecki)",26.5,70.883720930232542,155.35,{"$f":"IF('Wynik 2022r.'!$B$3>='Technika 2022r.'!$B376,1,\"\")","v":1}]
["1a Technik pojazdów samochodowych-spec.pożarnicza a/n",26.85,63.219696969696955,115.95,{"$f":"IF('Wynik 2022r.'!$B$3>='Technika 2022r.'!$B377,1,\"\")","v":1}]
["1b Technik logistyk-specjalność pożarnicza (ang-niem)",54.65,87.512121212121201,155.35,{"$f":"IF('Wynik 2022r.'!$B$3>='Technika 2022r.'!$B378,1,\"\")","v":1}]
["1c [O] Technik spawalnictwa (ang-niem)",26.5,54.974999999999994,110.95,{"$f":"IF('Wynik 2022r.'!$B$3>='Technika 2022r.'!$B379,1,\"\")","v":1}]
["1e Technik mechanik (ang-niem)",34.25,57.768750000000011,90.3,{"$f":"IF('Wynik 2022r.'!$B$3>='Technika 2022r.'!$B380,1,\"\")","v":1}]
["Technikum nr 5 im. Stanisława Wyspiańskiego (ZSP6 Tomaszów Mazowiecki)",33.6,95.001666666666679,170.4,{"$f":"IF('Wynik 2022r.'!$B$3>='Technika 2022r.'!$B381,1,\"\")","v":1}]
["1F [O] Technik usług fryzjerskich (ang-niem)",33.6,74.228846153846163,161.5,{"$f":"IF('Wynik 2022r.'!$B$3>='Technika 2022r.'!$B382,1,\"\")","v":1}]
["1Fo [O] Technik fotografii i multimediów (ang-niem)",58.2,89.772413793103453,133.65,{"$f":"IF('Wynik 2022r.'!$B$3>='Technika 2022r.'!$B383,1,\"\")","v":1}]
["1G [O] Technik grafiki i poligrafii cyfrowej (ang-niem)",77.099999999999994,114.7657142857143,170.4,{"$f":"IF('Wynik 2022r.'!$B$3>='Technika 2022r.'!$B384,1,\"\")","v":1}]
["Technikum nr 6 (ZSP8 Tomaszów Mazowiecki)",26.95,104.87372881355931,185.4,{"$f":"IF('Wynik 2022r.'!$B$3>='Technika 2022r.'!$B385,1,\"\")","v":1}]
["1AR [O] Technik architektury krajobrazu (ang*-niem*)",26.95,83.32931034482759,174.4,{"$f":"IF('Wynik 2022r.'!$B$3>='Technika 2022r.'!$B386,1,\"\")","v":1}]
["1TAN [O] Technik analityk (ang*-wlo)",46.7,125.70000000000003,185.4,{"$f":"IF('Wynik 2022r.'!$B$3>='Technika 2022r.'!$B387,1,\"\")","v":1}]
["Technikum Stowarzyszenia Przyjaciół Szkół Katolickich w Kutnie",45.75,66.414999999999992,106.2,{"$f":"IF('Wynik 2022r.'!$B$3>='Technika 2022r.'!$B388,1,\"\")","v":1}]
["1T-INF Technik informatyk",60.15,83.174999999999997,106.2,{"$f":"IF('Wynik 2022r.'!$B$3>='Technika 2022r.'!$B389,1,\"\")","v":1}]
["1T-LOG Technik logistyk",47,67.962500000000006,91,{"$f":"IF('Wynik 2022r.'!$B$3>='Technika 2022r.'!$B390,1,\"\")","v":1}]
["1T-REK Technik reklamy",49.4,60.06666666666667,73.5,{"$f":"IF('Wynik 2022r.'!$B$3>='Technika 2022r.'!$B391,1,\"\")","v":1}]
["1T-TUR Technik organizacji turystyki",45.75,45.75,45.75,{"$f":"IF('Wynik 2022r.'!$B$3>='Technika 2022r.'!$B392,1,\"\")","v":1}]
["Technikum Stowarzyszenia Przyjaciół Szkół Katolickich w Wieluniu",76.900000000000006,105.91785714285713,165,{"$f":"IF('Wynik 2022r.'!$B$3>='Technika 2022r.'!$B393,1,\"\")","v":1}]
["1_ta Technik analityk",104,123.19166666666666,165,{"$f":"IF('Wynik 2022r.'!$B$3>='Technika 2022r.'!$B394,1,\"\")","v":""}]
["1_th Technik hotelarstwa",79.3,90.72999999999999,118.05,{"$f":"IF('Wynik 2022r.'!$B$3>='Technika 2022r.'!$B395,1,\"\")","v":1}]
["1_to Technik ochrony środowiska",76.900000000000006,96.683333333333337,120.35,{"$f":"IF('Wynik 2022r.'!$B$3>='Technika 2022r.'!$B396,1,\"\")","v":1}]
["Technikum w Aleksandrowie Łódzkim",58.4,113.66024096385537,169.9,{"$f":"IF('Wynik 2022r.'!$B$3>='Technika 2022r.'!$B397,1,\"\")","v":1}]
["1I 1I TECHNIK INFORMATYK",104.5,125.26666666666665,147.9,{"$f":"IF('Wynik 2022r.'!$B$3>='Technika 2022r.'!$B398,1,\"\")","v":""}]
["1L 1L TECHNIK LOGISTYK",80.400000000000006,108.81000000000002,164.35,{"$f":"IF('Wynik 2022r.'!$B$3>='Technika 2022r.'!$B399,1,\"\")","v":1}]
["1M 1M TECHNIK MECHANIK",58.4,80.881818181818176,107.75,{"$f":"IF('Wynik 2022r.'!$B$3>='Technika 2022r.'!$B400,1,\"\")","v":1}]
["1P 1P TECHNIK PROGRAMISTA",130.85,147.47333333333336,169.9,{"$f":"IF('Wynik 2022r.'!$B$3>='Technika 2022r.'!$B401,1,\"\")","v":""}]
["1R 1R TECHNIK REKLAMY",80.3,101.92647058823532,145.19999999999999,{"$f":"IF('Wynik 2022r.'!$B$3>='Technika 2022r.'!$B402,1,\"\")","v":1}]
["Technikum w Błaszkach",43.4,97.175999999999988,151.19999999999999,{"$f":"IF('Wynik 2022r.'!$B$3>='Technika 2022r.'!$B403,1,\"\")","v":1}]
["1Te ekonomista",43.4,79.956249999999997,134.35,{"$f":"IF('Wynik 2022r.'!$B$3>='Technika 2022r.'!$B404,1,\"\")","v":1}]
["1Ti informatyk",77.25,105.27941176470588,151.19999999999999,{"$f":"IF('Wynik 2022r.'!$B$3>='Technika 2022r.'!$B405,1,\"\")","v":1}]
["Technikum w Bratoszewicach",34.4,84.733653846153842,159.75,{"$f":"IF('Wynik 2022r.'!$B$3>='Technika 2022r.'!$B406,1,\"\")","v":1}]
["1TI [O] Technik informatyk (ang-niem*,ros*)",39,95.940909090909088,141.9,{"$f":"IF('Wynik 2022r.'!$B$3>='Technika 2022r.'!$B407,1,\"\")","v":1}]
["1TL [O] Technik logistyk (ang-niem*,ros*)",39.1,85.44285714285715,159.75,{"$f":"IF('Wynik 2022r.'!$B$3>='Technika 2022r.'!$B408,1,\"\")","v":1}]
["1TŻ [O] Technik żywienia i usług gastronomicznych (ang-niem*,ros*)",34.4,73.723076923076917,134.1,{"$f":"IF('Wynik 2022r.'!$B$3>='Technika 2022r.'!$B409,1,\"\")","v":1}]
["Technikum w Głownie",43.3,86.096808510638297,134.44999999999999,{"$f":"IF('Wynik 2022r.'!$B$3>='Technika 2022r.'!$B410,1,\"\")","v":1}]
["1TI [O] Technik informatyk (ang*-niem*,ros*)",49.15,93.376470588235293,125.65,{"$f":"IF('Wynik 2022r.'!$B$3>='Technika 2022r.'!$B411,1,\"\")","v":1}]
["1TL [O] Technik logistyk (ang*-ros*,niem*)",63.8,88.363333333333316,115.75,{"$f":"IF('Wynik 2022r.'!$B$3>='Technika 2022r.'!$B412,1,\"\")","v":1}]
["1TM [O] Technik mechanik (ang*-niem*,ros*)",43.3,75.579999999999984,134.44999999999999,{"$f":"IF('Wynik 2022r.'!$B$3>='Technika 2022r.'!$B413,1,\"\")","v":1}]
["Technikum w Ksawerowie",42.3,85.836309523809533,158.5,{"$f":"IF('Wynik 2022r.'!$B$3>='Technika 2022r.'!$B414,1,\"\")","v":1}]
["1BT Technikum Mechanizacji Rolnictwa i Agrotroniki",44.6,75.00535714285715,130.75,{"$f":"IF('Wynik 2022r.'!$B$3>='Technika 2022r.'!$B415,1,\"\")","v":1}]
["1HT Technikum Architektury Krajobrazu",42.3,94.434782608695656,158.5,{"$f":"IF('Wynik 2022r.'!$B$3>='Technika 2022r.'!$B416,1,\"\")","v":1}]
["1PT Technikum Żywienia i usług gastronomicznych",46.45,90.201851851851828,155.4,{"$f":"IF('Wynik 2022r.'!$B$3>='Technika 2022r.'!$B417,1,\"\")","v":1}]
["1RT Technikum Urządzeń i systemów energetyki odnawialn",69.75,83.774999999999991,96.3,{"$f":"IF('Wynik 2022r.'!$B$3>='Technika 2022r.'!$B418,1,\"\")","v":1}]
["Technikum w Mroczkowie Gościnnym",24.6,59.138461538461534,113,{"$f":"IF('Wynik 2022r.'!$B$3>='Technika 2022r.'!$B419,1,\"\")","v":1}]
["1A [O] Technik pojazdów samochodowych (ang*-niem*)",24.6,59.138461538461534,113,{"$f":"IF('Wynik 2022r.'!$B$3>='Technika 2022r.'!$B420,1,\"\")","v":1}]
["Technikum w Opocznie",35.5,95.30608552631584,167.25,{"$f":"IF('Wynik 2022r.'!$B$3>='Technika 2022r.'!$B421,1,\"\")","v":1}]
["1TAnal 1AUA",58.5,99.211538461538467,161.6,{"$f":"IF('Wynik 2022r.'!$B$3>='Technika 2022r.'!$B422,1,\"\")","v":1}]
["1TAut 1AUA",79.900000000000006,106.99772727272729,148.05000000000001,{"$f":"IF('Wynik 2022r.'!$B$3>='Technika 2022r.'!$B423,1,\"\")","v":1}]
["1TEkon 1EKŻ",72,113.91964285714288,156.1,{"$f":"IF('Wynik 2022r.'!$B$3>='Technika 2022r.'!$B424,1,\"\")","v":1}]
["1TELek 1EET",46,78.404999999999987,138.15,{"$f":"IF('Wynik 2022r.'!$B$3>='Technika 2022r.'!$B425,1,\"\")","v":1}]
["1TETsz 1EET",42.05,76.324999999999989,129.9,{"$f":"IF('Wynik 2022r.'!$B$3>='Technika 2022r.'!$B426,1,\"\")","v":1}]
["1THand 1HTH",49.4,91.281818181818167,128.35,{"$f":"IF('Wynik 2022r.'!$B$3>='Technika 2022r.'!$B427,1,\"\")","v":1}]
["1THot 1HTH",41,63.959375000000001,113.3,{"$f":"IF('Wynik 2022r.'!$B$3>='Technika 2022r.'!$B428,1,\"\")","v":1}]
["1TInf 1INF",95.65,130.73684210526315,167.25,{"$f":"IF('Wynik 2022r.'!$B$3>='Technika 2022r.'!$B429,1,\"\")","v":1}]
["1TMech MTM",35.5,76.257352941176464,123.6,{"$f":"IF('Wynik 2022r.'!$B$3>='Technika 2022r.'!$B430,1,\"\")","v":1}]
["1TMtr MTM",61.4,109.1779411764706,159.25,{"$f":"IF('Wynik 2022r.'!$B$3>='Technika 2022r.'!$B431,1,\"\")","v":1}]
["1TOtur 1HTH",54.3,91.561363636363637,150.4,{"$f":"IF('Wynik 2022r.'!$B$3>='Technika 2022r.'!$B432,1,\"\")","v":1}]
["1TTŻ 1EKŻ",43.9,77.501724137931021,120.45,{"$f":"IF('Wynik 2022r.'!$B$3>='Technika 2022r.'!$B433,1,\"\")","v":1}]
["Technikum w Ozorkowie",38.5,92.343220338983073,150.1,{"$f":"IF('Wynik 2022r.'!$B$3>='Technika 2022r.'!$B434,1,\"\")","v":1}]
["1_TE [O] Technik ekonomista (ang-niem)",90.05,117.62000000000002,150.1,{"$f":"IF('Wynik 2022r.'!$B$3>='Technika 2022r.'!$B435,1,\"\")","v":1}]
["1_TH [O] Technik handlowiec (ang-niem)",38.5,70.296551724137942,128.75,{"$f":"IF('Wynik 2022r.'!$B$3>='Technika 2022r.'!$B436,1,\"\")","v":1}]
["1_TI [O] Technik informatyk (ang-niem)",95.7,109.68999999999998,122.6,{"$f":"IF('Wynik 2022r.'!$B$3>='Technika 2022r.'!$B437,1,\"\")","v":1}]
["Technikum w Złoczewie",51.8,93.342592592592595,161,{"$f":"IF('Wynik 2022r.'!$B$3>='Technika 2022r.'!$B438,1,\"\")","v":1}]
["1.t technik ekonomista",51.8,101.52,161,{"$f":"IF('Wynik 2022r.'!$B$3>='Technika 2022r.'!$B439,1,\"\")","v":1}]
["1t technik informatyk",63,88.532352941176455,125.2,{"$f":"IF('Wynik 2022r.'!$B$3>='Technika 2022r.'!$B440,1,\"\")","v":1}]
["Technikum w ZS-CEZiU im. M. Kopernika w Rawie Mazowieckiej",27.3,80.895771144278569,161.15,{"$f":"IF('Wynik 2022r.'!$B$3>='Technika 2022r.'!$B441,1,\"\")","v":1}]
["1TB Technik budownictwa",27.5,60.739473684210523,115.5,{"$f":"IF('Wynik 2022r.'!$B$3>='Technika 2022r.'!$B442,1,\"\")","v":1}]
["1TH Technik handlowiec",47.95,76.762500000000003,105.6,{"$f":"IF('Wynik 2022r.'!$B$3>='Technika 2022r.'!$B443,1,\"\")","v":1}]
["1THo Technik hotelarstwa",40.9,79.467857142857142,121.2,{"$f":"IF('Wynik 2022r.'!$B$3>='Technika 2022r.'!$B444,1,\"\")","v":1}]
["1THŻ Technik żywienia i usług gastronomicznych",27.3,82.32073170731708,153,{"$f":"IF('Wynik 2022r.'!$B$3>='Technika 2022r.'!$B445,1,\"\")","v":1}]
["1TI Technik informatyk",49.1,89.25222222222223,161.15,{"$f":"IF('Wynik 2022r.'!$B$3>='Technika 2022r.'!$B446,1,\"\")","v":1}]
["1TM Technik mechatronik",38.200000000000003,102.74814814814816,159.65,{"$f":"IF('Wynik 2022r.'!$B$3>='Technika 2022r.'!$B447,1,\"\")","v":1}]
["1TPS Technik pojazdów samochodowych",33.5,66.655128205128207,121.4,{"$f":"IF('Wynik 2022r.'!$B$3>='Technika 2022r.'!$B448,1,\"\")","v":1}]
["Technikum w ZSP im. W. Reymonta w Rawie Mazowieckiej",70.599999999999994,112.00923913043475,173.4,{"$f":"IF('Wynik 2022r.'!$B$3>='Technika 2022r.'!$B449,1,\"\")","v":1}]
["1A [O] Technik agrobiznesu (ang*-niem*,ros*)",72.8,101.62499999999999,164.4,{"$f":"IF('Wynik 2022r.'!$B$3>='Technika 2022r.'!$B450,1,\"\")","v":1}]
["1B [O] Technik ekonomista (ang*-niem*,ros*)",71,119.96607142857142,173.4,{"$f":"IF('Wynik 2022r.'!$B$3>='Technika 2022r.'!$B451,1,\"\")","v":1}]
["1C [O] Technik logistyk (ang*-niem*,ros*)",70.599999999999994,110.36415094339627,163.75,{"$f":"IF('Wynik 2022r.'!$B$3>='Technika 2022r.'!$B452,1,\"\")","v":1}]
["1D [O] Technik rolnik (ang*-niem*,ros*)",80.25,80.25,80.25,{"$f":"IF('Wynik 2022r.'!$B$3>='Technika 2022r.'!$B453,1,\"\")","v":1}]
["Technikum w ZSP w Białej Rawskiej",60.45,101.77071428571428,164.35,{"$f":"IF('Wynik 2022r.'!$B$3>='Technika 2022r.'!$B454,1,\"\")","v":1}]
["1TAK Technik architektury krajobrazu",60.55,100.81666666666666,123.1,{"$f":"IF('Wynik 2022r.'!$B$3>='Technika 2022r.'!$B455,1,\"\")","v":1}]
["1TE Technik ekonomista",64,98.8342105263158,151.94999999999999,{"$f":"IF('Wynik 2022r.'!$B$3>='Technika 2022r.'!$B456,1,\"\")","v":1}]
["1TH Technik hotelarstwa",60.6,61.2,61.8,{"$f":"IF('Wynik 2022r.'!$B$3>='Technika 2022r.'!$B457,1,\"\")","v":1}]
["1THan Technik handlowiec",61.95,82.462499999999991,102.55,{"$f":"IF('Wynik 2022r.'!$B$3>='Technika 2022r.'!$B458,1,\"\")","v":1}]
["1TI Technik informatyk",60.45,112.26111111111112,164.35,{"$f":"IF('Wynik 2022r.'!$B$3>='Technika 2022r.'!$B459,1,\"\")","v":1}]
["1TO Technik ogrodnik",60.7,97.356666666666655,142.65,{"$f":"IF('Wynik 2022r.'!$B$3>='Technika 2022r.'!$B460,1,\"\")","v":1}]
["Technikum Zawodowe (ZS nr 2 w Pabianicach)",66.650000000000006,113.64547738693474,170.25,{"$f":"IF('Wynik 2022r.'!$B$3>='Technika 2022r.'!$B461,1,\"\")","v":1}]
["1TC [O] Technik grafiki i poligrafii cyfrowej (ang*-hisz*,ros*,niem*)",83.55,117.46171875000003,167.8,{"$f":"IF('Wynik 2022r.'!$B$3>='Technika 2022r.'!$B462,1,\"\")","v":1}]
["1TE [O] Technik elektryk (ang*-niem*,hisz*,ros*)",78.8,99.649999999999991,136.1,{"$f":"IF('Wynik 2022r.'!$B$3>='Technika 2022r.'!$B463,1,\"\")","v":1}]
["1TEl [O] Technik elektronik (ang*-hisz*,ros*,niem*)",66.650000000000006,100.40882352941176,140.5,{"$f":"IF('Wynik 2022r.'!$B$3>='Technika 2022r.'!$B464,1,\"\")","v":1}]
["1Ti [O] Technik informatyk (ang*-hisz*,niem*,ros*)",73.400000000000006,123.15648148148145,170.25,{"$f":"IF('Wynik 2022r.'!$B$3>='Technika 2022r.'!$B465,1,\"\")","v":1}]
["1Tn [O] Technik urządzeń i systemów energetyki odnawialnej (ang*-hisz*,ros*,niem*)",69.849999999999994,104.90769230769229,156.55000000000001,{"$f":"IF('Wynik 2022r.'!$B$3>='Technika 2022r.'!$B466,1,\"\")","v":1}]
["1To [O] Technik ochrony środowiska (ang*-niem*,hisz*,ros*)",69.2,93.360714285714295,122.05,{"$f":"IF('Wynik 2022r.'!$B$3>='Technika 2022r.'!$B467,1,\"\")","v":1}]
["1TŻ [O] Technik technologii żywności (ang*-hisz*,ros*,niem*)",88.05,118.78,146.25,{"$f":"IF('Wynik 2022r.'!$B$3>='Technika 2022r.'!$B468,1,\"\")","v":1}]
["Technikum Zawodowe nr 2 (ZSZ Nr 2 im. dr. A. Troczewskiego w Kutnie)",43.6,84.133823529411757,156.19999999999999,{"$f":"IF('Wynik 2022r.'!$B$3>='Technika 2022r.'!$B469,1,\"\")","v":1}]
["1TH [O] Technik hotelarstwa (ang*-niem*)",43.6,72.511764705882356,144.9,{"$f":"IF('Wynik 2022r.'!$B$3>='Technika 2022r.'!$B470,1,\"\")","v":1}]
["1TL [O] Technik logistyk (ang*-ros*)",64.099999999999994,87.220588235294102,142.75,{"$f":"IF('Wynik 2022r.'!$B$3>='Technika 2022r.'!$B471,1,\"\")","v":1}]
["1TT [O] Technik eksploatacji portów i terminali (ang*-ros*)",62.55,92.811764705882339,140,{"$f":"IF('Wynik 2022r.'!$B$3>='Technika 2022r.'!$B472,1,\"\")","v":1}]
["1Tżug [O] Technik żywienia i usług gastronomicznych (ang*-niem*)",71.900000000000006,99.873529411764707,156.19999999999999,{"$f":"IF('Wynik 2022r.'!$B$3>='Technika 2022r.'!$B473,1,\"\")","v":1}]
["1TŻyw [O] Technik technologii żywności (ang*-niem*)",49.45,79.873529411764707,123.6,{"$f":"IF('Wynik 2022r.'!$B$3>='Technika 2022r.'!$B474,1,\"\")","v":1}]
["Technikum Zawodowe nr 4 (ZS nr 4 im. Z. Balickiego w Kutnie - Azorach)",28.55,67.338709677419359,108.55,{"$f":"IF('Wynik 2022r.'!$B$3>='Technika 2022r.'!$B475,1,\"\")","v":1}]
["1T_KOLEJ [O] Technik transportu kolejowego (ang*-niem*)",44.45,75.071874999999991,108.55,{"$f":"IF('Wynik 2022r.'!$B$3>='Technika 2022r.'!$B476,1,\"\")","v":1}]
["1T_MULTIM [O] Technik fotografii i multimediów (ang*-niem*)",28.55,59.09,98.1,{"$f":"IF('Wynik 2022r.'!$B$3>='Technika 2022r.'!$B477,1,\"\")","v":1}]

{"sheet":"Szkoły branżowe 2022r.","index":5,"n_rows":178,"n_cols":5,"rows_kept":178,"cut":false,"hidden":false,"merged":[]}
["Nazwa szkoły/oddziału","Minimalna  liczba punktów z jaką kandydat został zakwalifikowany","Średnia  liczba punktów z jaką kandydat został zakwalifikowany","Maksymalnaliczba punktów z jaką kandydat został zakwalifikowany","sprawdzenie"]
["Branżowa Szkoła I stopnia nr 04 (ZSG w Łodzi)",19.25,56.067543859649135,124.6,{"$f":"IF('Wynik 2022r.'!$B$3>='Szkoły branżowe 2022r.'!B2,1,\"\")","v":1}]
["1abc [O] Kucharz (ang)",19.25,56.067543859649135,124.6,{"$f":"IF('Wynik 2022r.'!$B$3>='Szkoły branżowe 2022r.'!B3,1,\"\")","v":1}]
["Branżowa Szkoła I stopnia nr 05 (ZSP nr 5 w Łodzi)",21.95,58.618000000000009,100.95,{"$f":"IF('Wynik 2022r.'!$B$3>='Szkoły branżowe 2022r.'!B4,1,\"\")","v":1}]
["1e [O] Magazynier-logistyk (ang*)",35.549999999999997,59.673333333333325,100.95,{"$f":"IF('Wynik 2022r.'!$B$3>='Szkoły branżowe 2022r.'!B5,1,\"\")","v":1}]
["1f_1 [O] Sprzedawca (ang*)",21.95,57.035000000000004,95.9,{"$f":"IF('Wynik 2022r.'!$B$3>='Szkoły branżowe 2022r.'!B6,1,\"\")","v":1}]
["Branżowa Szkoła I stopnia nr 06 (ZSPS w Łodzi)",39.35,66.25645161290322,104,{"$f":"IF('Wynik 2022r.'!$B$3>='Szkoły branżowe 2022r.'!B7,1,\"\")","v":1}]
["1ab1 [O] Cukiernik (niem*)",43.2,66.607692307692304,104,{"$f":"IF('Wynik 2022r.'!$B$3>='Szkoły branżowe 2022r.'!B8,1,\"\")","v":1}]
["1c1 [O] Piekarz (niem*)",39.35,64.430000000000007,81.8,{"$f":"IF('Wynik 2022r.'!$B$3>='Szkoły branżowe 2022r.'!B9,1,\"\")","v":1}]
["Branżowa Szkoła I stopnia nr 07 (ZSS w Łodzi)",43.2,65.8,105,{"$f":"IF('Wynik 2022r.'!$B$3>='Szkoły branżowe 2022r.'!B10,1,\"\")","v":1}]
["1es [O] Elektromechanik pojazdów samochodowych (niem)",53.55,62.071428571428569,74.3,{"$f":"IF('Wynik 2022r.'!$B$3>='Szkoły branżowe 2022r.'!B11,1,\"\")","v":1}]
["1ls [O] Lakiernik samochodowy (ang)",43.2,66.585714285714289,105,{"$f":"IF('Wynik 2022r.'!$B$3>='Szkoły branżowe 2022r.'!B12,1,\"\")","v":1}]
["1ms [O] Mechanik pojazdów samochodowych (ang)",45,66.658333333333331,103.85,{"$f":"IF('Wynik 2022r.'!$B$3>='Szkoły branżowe 2022r.'!B13,1,\"\")","v":1}]
["Branżowa Szkoła I stopnia nr 09 (ZS Polit w Łodzi)",38.4,59.573529411764703,86.85,{"$f":"IF('Wynik 2022r.'!$B$3>='Szkoły branżowe 2022r.'!B14,1,\"\")","v":1}]
["1BA-Gr.1 [O] Elektryk (ang)",38.4,59.84375,86.85,{"$f":"IF('Wynik 2022r.'!$B$3>='Szkoły branżowe 2022r.'!B15,1,\"\")","v":1}]
["1BA-Gr.2 [O] Mechatronik (ang)",40.85,59.333333333333336,82.95,{"$f":"IF('Wynik 2022r.'!$B$3>='Szkoły branżowe 2022r.'!B16,1,\"\")","v":1}]
["Branżowa Szkoła I stopnia nr 15 (ZSBT w Łodzi)",27.1,54.441666666666649,114.3,{"$f":"IF('Wynik 2022r.'!$B$3>='Szkoły branżowe 2022r.'!B17,1,\"\")","v":1}]
["1aB [O] Monter zabudowy i robót wykończeniowych w budownictwie (niem*)",27.1,51.621428571428559,80.400000000000006,{"$f":"IF('Wynik 2022r.'!$B$3>='Szkoły branżowe 2022r.'!B18,1,\"\")","v":1}]
["1bB/1 [O] Monter sieci i instalacji sanitarnych (niem*)",30.45,51.922222222222224,114.3,{"$f":"IF('Wynik 2022r.'!$B$3>='Szkoły branżowe 2022r.'!B19,1,\"\")","v":1}]
["1cB/1 [O] Stolarz (niem*)",37.950000000000003,68.091666666666669,92.65,{"$f":"IF('Wynik 2022r.'!$B$3>='Szkoły branżowe 2022r.'!B20,1,\"\")","v":1}]
["Branżowa Szkoła I stopnia nr 19(CkZiU w Łodzi )",26.55,61.464814814814815,111.9,{"$f":"IF('Wynik 2022r.'!$B$3>='Szkoły branżowe 2022r.'!B21,1,\"\")","v":1}]
["1BFL [O] Magazynier-logistyk (ang)",26.55,50.518181818181823,76.150000000000006,{"$f":"IF('Wynik 2022r.'!$B$3>='Szkoły branżowe 2022r.'!B22,1,\"\")","v":1}]
["1BFL2 [O] Fotograf (ang)",34.25,68.990624999999994,111.9,{"$f":"IF('Wynik 2022r.'!$B$3>='Szkoły branżowe 2022r.'!B23,1,\"\")","v":1}]
["Branżowa Szkoła I stopnia nr 21 (ZSR w Łodzi)",29.35,60.958108108108107,119.25,{"$f":"IF('Wynik 2022r.'!$B$3>='Szkoły branżowe 2022r.'!B24,1,\"\")","v":1}]
["1f [O] Fryzjer (ang*,niem*)",29.35,60.958108108108107,119.25,{"$f":"IF('Wynik 2022r.'!$B$3>='Szkoły branżowe 2022r.'!B25,1,\"\")","v":1}]
["Branżowa Szkoła I stopnia nr 22 (ZSSiM w Łodzi)",21,51.28802816901409,112.7,{"$f":"IF('Wynik 2022r.'!$B$3>='Szkoły branżowe 2022r.'!B26,1,\"\")","v":1}]
["1BM/1 [O] Blacharz samochodowy (ang*)",27.85,51.214285714285715,91.05,{"$f":"IF('Wynik 2022r.'!$B$3>='Szkoły branżowe 2022r.'!B27,1,\"\")","v":1}]
["1BM/2 [O] Mechanik motocyklowy (ang*)",21.25,52.800000000000004,84.15,{"$f":"IF('Wynik 2022r.'!$B$3>='Szkoły branżowe 2022r.'!B28,1,\"\")","v":1}]
["1EM/1 [O] Elektromechanik pojazdów samochodowych (ang*)",33.200000000000003,58.863636363636367,112.7,{"$f":"IF('Wynik 2022r.'!$B$3>='Szkoły branżowe 2022r.'!B29,1,\"\")","v":1}]
["1EM/2 [O] Mechatronik (ang*)",25.55,45.42,62.6,{"$f":"IF('Wynik 2022r.'!$B$3>='Szkoły branżowe 2022r.'!B30,1,\"\")","v":1}]
["1MS [O] Mechanik pojazdów samochodowych (ang*)",21,49.567948717948717,98.65,{"$f":"IF('Wynik 2022r.'!$B$3>='Szkoły branżowe 2022r.'!B31,1,\"\")","v":1}]
[" Branżowa Szkoła I stopnia w Mroczkowie Gościnnym",25.8,45.079166666666673,100,{"$f":"IF('Wynik 2022r.'!$B$3>='Szkoły branżowe 2022r.'!B32,1,\"\")","v":1}]
["1D1 [O] Mechanik-operator pojazdów i maszyn rolniczych (ang*,niem*)",25.8,25.8,25.8,{"$f":"IF('Wynik 2022r.'!$B$3>='Szkoły branżowe 2022r.'!B33,1,\"\")","v":1}]
["2D1 [O] Mechanik pojazdów samochodowych (ang*,niem*)",28.25,48.681249999999999,100,{"$f":"IF('Wynik 2022r.'!$B$3>='Szkoły branżowe 2022r.'!B34,1,\"\")","v":1}]
["2D2 [O] Elektromechanik pojazdów samochodowych (ang*,niem*)",32.5,46.358333333333341,64.099999999999994,{"$f":"IF('Wynik 2022r.'!$B$3>='Szkoły branżowe 2022r.'!B35,1,\"\")","v":1}]
["2D4 [O] Kierowca mechanik (ang*,niem*)",39.799999999999997,39.799999999999997,39.799999999999997,{"$f":"IF('Wynik 2022r.'!$B$3>='Szkoły branżowe 2022r.'!B36,1,\"\")","v":1}]
["4D2 [O] Piekarz (ang*,niem*)",40.65,40.65,40.65,{"$f":"IF('Wynik 2022r.'!$B$3>='Szkoły branżowe 2022r.'!B37,1,\"\")","v":1}]
["4D4 [O] Fryzjer (ang*,niem*)",27.3,44.007142857142853,62.9,{"$f":"IF('Wynik 2022r.'!$B$3>='Szkoły branżowe 2022r.'!B38,1,\"\")","v":1}]
["Branżowa Szkoła I Stopnia (ZS CKU w Sulejowie)",30,49.600000000000009,91.4,{"$f":"IF('Wynik 2022r.'!$B$3>='Szkoły branżowe 2022r.'!B39,1,\"\")","v":1}]
["1wz [O] wielozawodowa (ang)",30,49.600000000000009,91.4,{"$f":"IF('Wynik 2022r.'!$B$3>='Szkoły branżowe 2022r.'!B40,1,\"\")","v":1}]
["Branżowa Szkoła I stopnia (ZS nr 1 w Pabianicach)",21,65.300561797752806,151.1,{"$f":"IF('Wynik 2022r.'!$B$3>='Szkoły branżowe 2022r.'!B41,1,\"\")","v":1}]
["1FR/p [O] Fryzjer (ang*)",54.35,70.696666666666673,103.7,{"$f":"IF('Wynik 2022r.'!$B$3>='Szkoły branżowe 2022r.'!B42,1,\"\")","v":1}]
["1MPS/p [O] Mechanik pojazdów samochodowych (ang)",29.3,58.021666666666668,101.25,{"$f":"IF('Wynik 2022r.'!$B$3>='Szkoły branżowe 2022r.'!B43,1,\"\")","v":1}]
["1MZ/p [O] Stolarz/Instal san./Tapic/Murarz/Elektryk",53.8,77.193333333333328,127.35,{"$f":"IF('Wynik 2022r.'!$B$3>='Szkoły branżowe 2022r.'!B44,1,\"\")","v":1}]
["1Wa [O] Monter zabudowy i robót wykończeniowych w budownictwie (ang*)",21,52.650000000000006,74.599999999999994,{"$f":"IF('Wynik 2022r.'!$B$3>='Szkoły branżowe 2022r.'!B45,1,\"\")","v":1}]
["1Wu [O] Piekarz/Kucharz/Cukiernik/Sprzedawca",45.2,68.944999999999993,151.1,{"$f":"IF('Wynik 2022r.'!$B$3>='Szkoły branżowe 2022r.'!B46,1,\"\")","v":1}]
["Branżowa Szkoła I stopnia (ZS1 Koluszki)",22.5,59.184090909090919,98.6,{"$f":"IF('Wynik 2022r.'!$B$3>='Szkoły branżowe 2022r.'!B47,1,\"\")","v":1}]
["1mp Mechanik pojazdów samochodowych",22.5,49.974999999999994,70.3,{"$f":"IF('Wynik 2022r.'!$B$3>='Szkoły branżowe 2022r.'!B48,1,\"\")","v":1}]
["1wp Wielozawodowa",35.799999999999997,62.637500000000003,98.6,{"$f":"IF('Wynik 2022r.'!$B$3>='Szkoły branżowe 2022r.'!B49,1,\"\")","v":1}]
["Branżowa Szkoła I stopnia (ZSCKR Dobryszyce)",23,53.25952380952382,110,{"$f":"IF('Wynik 2022r.'!$B$3>='Szkoły branżowe 2022r.'!B50,1,\"\")","v":1}]
["1AB [O] Kucharz (niem)",23.8,64.566666666666677,110,{"$f":"IF('Wynik 2022r.'!$B$3>='Szkoły branżowe 2022r.'!B51,1,\"\")","v":1}]
["1BB [O] Mechanik-operator pojazdów i maszyn rolniczych (niem)",23,44.779166666666669,82.1,{"$f":"IF('Wynik 2022r.'!$B$3>='Szkoły branżowe 2022r.'!B52,1,\"\")","v":1}]
["Branżowa Szkoła I Stopnia (ZSCKZ w Bujnach)",26.05,54.828888888888891,122.45,{"$f":"IF('Wynik 2022r.'!$B$3>='Szkoły branżowe 2022r.'!B53,1,\"\")","v":1}]
["1SBoo [O] Operator obrabiarek skrawających (niem*)",26.05,54.828888888888891,122.45,{"$f":"IF('Wynik 2022r.'!$B$3>='Szkoły branżowe 2022r.'!B54,1,\"\")","v":1}]
["Branżowa Szkoła I Stopnia (ZSP im. S.Staszica w Wieruszowie)",17.25,51.504891304347822,120.35,{"$f":"IF('Wynik 2022r.'!$B$3>='Szkoły branżowe 2022r.'!B55,1,\"\")","v":1}]
["1r [O] wielozawodowa (ang)",17.25,51.504891304347822,120.35,{"$f":"IF('Wynik 2022r.'!$B$3>='Szkoły branżowe 2022r.'!B56,1,\"\")","v":1}]
["Branżowa Szkoła I stopnia (ZSP nr 1 w Łasku)",21.2,47.941025641025639,108.75,{"$f":"IF('Wynik 2022r.'!$B$3>='Szkoły branżowe 2022r.'!B57,1,\"\")","v":1}]
["1W [O] wielozawodowa (ang)",21.2,47.941025641025639,108.75,{"$f":"IF('Wynik 2022r.'!$B$3>='Szkoły branżowe 2022r.'!B58,1,\"\")","v":1}]
["Branżowa szkoła I stopnia (ZSZ nr 1) w Skierniewicach",36.950000000000003,62.430555555555557,82.5,{"$f":"IF('Wynik 2022r.'!$B$3>='Szkoły branżowe 2022r.'!B59,1,\"\")","v":1}]
["1f Fryzjer",40.200000000000003,64.816666666666663,79.05,{"$f":"IF('Wynik 2022r.'!$B$3>='Szkoły branżowe 2022r.'!B60,1,\"\")","v":1}]
["1mz  Monter zabudowy i robót wykończeniowych w budownictwie (ang)",36.950000000000003,61.953333333333333,82.5,{"$f":"IF('Wynik 2022r.'!$B$3>='Szkoły branżowe 2022r.'!B61,1,\"\")","v":1}]
["Branżowa Szkoła I stopnia (ZSZ nr 1) w Zduńskiej Woli",24.5,60.383333333333333,99.45,{"$f":"IF('Wynik 2022r.'!$B$3>='Szkoły branżowe 2022r.'!B62,1,\"\")","v":1}]
["1aw(awb) [O] wielozawodowa (ang*)",24.5,59.847368421052629,99.45,{"$f":"IF('Wynik 2022r.'!$B$3>='Szkoły branżowe 2022r.'!B63,1,\"\")","v":1}]
["1b(awb) [O] Operator obrabiarek skrawających (ang*)",48,65.474999999999994,89.05,{"$f":"IF('Wynik 2022r.'!$B$3>='Szkoły branżowe 2022r.'!B64,1,\"\")","v":1}]
["Branżowa szkoła I stopnia (ZSZ nr 2) w Skierniewicach",17.350000000000001,62.241011235955064,112.9,{"$f":"IF('Wynik 2022r.'!$B$3>='Szkoły branżowe 2022r.'!B65,1,\"\")","v":1}]
["1pza Mechanik pojazdów samochodowych (ang)",17.350000000000001,53.284482758620705,104.7,{"$f":"IF('Wynik 2022r.'!$B$3>='Szkoły branżowe 2022r.'!B66,1,\"\")","v":1}]
["1wa wielozawodowa (ang)",38.75,66.570000000000007,112.9,{"$f":"IF('Wynik 2022r.'!$B$3>='Szkoły branżowe 2022r.'!B67,1,\"\")","v":1}]
["Branżowa Szkoła I Stopnia im. Jana Pawła II (w ZSP) w Poddębicach",23.95,51.31845238095238,117.7,{"$f":"IF('Wynik 2022r.'!$B$3>='Szkoły branżowe 2022r.'!B68,1,\"\")","v":1}]
["1A [O] wielozawodowa (ang,niem)",23.95,51.31845238095238,117.7,{"$f":"IF('Wynik 2022r.'!$B$3>='Szkoły branżowe 2022r.'!B69,1,\"\")","v":1}]
["Branżowa Szkoła I stopnia Nr 1 (ZSP nr 1 w Sieradzu)",57.95,74.774193548387103,104.15,{"$f":"IF('Wynik 2022r.'!$B$3>='Szkoły branżowe 2022r.'!B70,1,\"\")","v":1}]
["1ae [O] Elektromechanik pojazdów samochodowych (ang*)",57.95,65.642857142857139,87.85,{"$f":"IF('Wynik 2022r.'!$B$3>='Szkoły branżowe 2022r.'!B71,1,\"\")","v":1}]
["1am [O] Mechanik pojazdów samochodowych (ang*)",59.9,70.850000000000009,78.25,{"$f":"IF('Wynik 2022r.'!$B$3>='Szkoły branżowe 2022r.'!B72,1,\"\")","v":1}]
["1be [O] Elektryk (ang*)",85.25,90.25,104.15,{"$f":"IF('Wynik 2022r.'!$B$3>='Szkoły branżowe 2022r.'!B73,1,\"\")","v":1}]
["1bf [O] Fryzjer (ang*)",74.25,82.862500000000011,95.65,{"$f":"IF('Wynik 2022r.'!$B$3>='Szkoły branżowe 2022r.'!B74,1,\"\")","v":1}]
["1bs [O] Monter sieci i instalacji sanitarnych (ang*)",59.1,69.074999999999989,78.45,{"$f":"IF('Wynik 2022r.'!$B$3>='Szkoły branżowe 2022r.'!B75,1,\"\")","v":1}]
["1bw [O] Monter zabudowy i robót wykończeniowych w budownictwie (ang*)",70.5,74.88000000000001,81.150000000000006,{"$f":"IF('Wynik 2022r.'!$B$3>='Szkoły branżowe 2022r.'!B76,1,\"\")","v":1}]
["Branżowa Szkoła I Stopnia Nr 1 (ZSP Nr 1, Bełchatów)",39.200000000000003,61.397023809523802,128.55000000000001,{"$f":"IF('Wynik 2022r.'!$B$3>='Szkoły branżowe 2022r.'!B77,1,\"\")","v":1}]
["1b [O] Elektryk (ang)",42.55,64.021428571428572,101.2,{"$f":"IF('Wynik 2022r.'!$B$3>='Szkoły branżowe 2022r.'!B78,1,\"\")","v":1}]
["1h [O] Mechanik pojazdów samochodowych (ang)",39.950000000000003,60.90657894736843,123.4,{"$f":"IF('Wynik 2022r.'!$B$3>='Szkoły branżowe 2022r.'!B79,1,\"\")","v":1}]
["1j [O] Monter sieci i instalacji sanitarnych (ang)",42.8,66.662500000000009,109.3,{"$f":"IF('Wynik 2022r.'!$B$3>='Szkoły branżowe 2022r.'!B80,1,\"\")","v":1}]
["1t [O] Monter zabudowy i robót wykończeniowych w budownictwie (ang)",39.200000000000003,58.88750000000001,128.55000000000001,{"$f":"IF('Wynik 2022r.'!$B$3>='Szkoły branżowe 2022r.'!B81,1,\"\")","v":1}]
["Branżowa Szkoła I stopnia nr 1 im. Kardynała Stefana Wyszyńskiego w Łęczycy (ZSP Nr 1 w Łęczycy)",30.8,61.198305084745769,99.75,{"$f":"IF('Wynik 2022r.'!$B$3>='Szkoły branżowe 2022r.'!B82,1,\"\")","v":1}]
["1B [O] Kucharz (ang)",34.85,57.530555555555566,79.650000000000006,{"$f":"IF('Wynik 2022r.'!$B$3>='Szkoły branżowe 2022r.'!B83,1,\"\")","v":1}]
["1C [O] Mechanik pojazdów samochodowych (niem*)",30.8,63.042307692307688,87.1,{"$f":"IF('Wynik 2022r.'!$B$3>='Szkoły branżowe 2022r.'!B84,1,\"\")","v":1}]
["1G [O] Monter zabudowy i robót wykończeniowych w budownictwie (niem*)",40.049999999999997,53.81111111111111,80.05,{"$f":"IF('Wynik 2022r.'!$B$3>='Szkoły branżowe 2022r.'!B85,1,\"\")","v":1}]
["1H [O] Pracownik obsługi hotelowej (ang)",56.5,67.414285714285711,82.45,{"$f":"IF('Wynik 2022r.'!$B$3>='Szkoły branżowe 2022r.'!B86,1,\"\")","v":1}]
["1L [O] Magazynier-logistyk (niem*)",43.8,66.616666666666674,99.75,{"$f":"IF('Wynik 2022r.'!$B$3>='Szkoły branżowe 2022r.'!B87,1,\"\")","v":1}]
["Branżowa Szkoła I stopnia nr 1 w Kutnie (ZS nr 1 im. St. Staszica w Kutnie)",24,49.894827586206887,105.35,{"$f":"IF('Wynik 2022r.'!$B$3>='Szkoły branżowe 2022r.'!B88,1,\"\")","v":1}]
["1k [O] Mechanik pojazdów samochodowych (ang)",24,49.894827586206887,105.35,{"$f":"IF('Wynik 2022r.'!$B$3>='Szkoły branżowe 2022r.'!B89,1,\"\")","v":1}]
["Branżowa Szkoła I stopnia nr 1 w Opocznie",20,56.30441176470589,108.3,{"$f":"IF('Wynik 2022r.'!$B$3>='Szkoły branżowe 2022r.'!B90,1,\"\")","v":1}]
["1BSIS 1BSIS",20,56.30441176470589,108.3,{"$f":"IF('Wynik 2022r.'!$B$3>='Szkoły branżowe 2022r.'!B91,1,\"\")","v":1}]
["Branżowa Szkoła I stopnia Nr 2 (ZSP nr 2 w Sieradzu)",50.35,66.386764705882342,99.8,{"$f":"IF('Wynik 2022r.'!$B$3>='Szkoły branżowe 2022r.'!B92,1,\"\")","v":1}]
["1d [O] wielozawodowa (ang)",50.35,66.386764705882342,99.8,{"$f":"IF('Wynik 2022r.'!$B$3>='Szkoły branżowe 2022r.'!B93,1,\"\")","v":1}]
["Branżowa Szkoła I Stopnia Nr 2 (ZSP Nr 2, Bełchatów)",44.3,68.666666666666671,114.7,{"$f":"IF('Wynik 2022r.'!$B$3>='Szkoły branżowe 2022r.'!B94,1,\"\")","v":1}]
["1f Fryzjer",47.7,70.754999999999995,90.15,{"$f":"IF('Wynik 2022r.'!$B$3>='Szkoły branżowe 2022r.'!B95,1,\"\")","v":1}]
["1k Kucharz",44.3,64.489999999999995,114.7,{"$f":"IF('Wynik 2022r.'!$B$3>='Szkoły branżowe 2022r.'!B96,1,\"\")","v":1}]
["Branżowa Szkoła I Stopnia nr 2 (ZSP2 Tomaszów Mazowiecki)",20.05,53.046551724137935,96.4,{"$f":"IF('Wynik 2022r.'!$B$3>='Szkoły branżowe 2022r.'!B97,1,\"\")","v":1}]
["1B [O] wielozawodowa (niem*)",20.05,53.046551724137935,96.4,{"$f":"IF('Wynik 2022r.'!$B$3>='Szkoły branżowe 2022r.'!B98,1,\"\")","v":1}]
["Branżowa Szkoła I stopnia nr 2 w Kutnie (ZSZ Nr 2 im. dr. A. Troczewskiego w Kutnie)",23.8,53.773275862068942,97,{"$f":"IF('Wynik 2022r.'!$B$3>='Szkoły branżowe 2022r.'!B99,1,\"\")","v":1}]
["1BSkuch [O] Kucharz (ang*)",23.8,45.211999999999996,84.3,{"$f":"IF('Wynik 2022r.'!$B$3>='Szkoły branżowe 2022r.'!B100,1,\"\")","v":1}]
["1BSmag.-logistyk [O] Magazynier-logistyk (ang*)",42.7,60.259090909090901,97,{"$f":"IF('Wynik 2022r.'!$B$3>='Szkoły branżowe 2022r.'!B101,1,\"\")","v":1}]
["Branżowa Szkoła I stopnia nr 3 (ZSDiOŚ w Radomsku)",20.3,55.837878787878793,104.85,{"$f":"IF('Wynik 2022r.'!$B$3>='Szkoły branżowe 2022r.'!B102,1,\"\")","v":1}]
["1a [O] Fryzjer (ang)",24.2,55.209999999999994,103.3,{"$f":"IF('Wynik 2022r.'!$B$3>='Szkoły branżowe 2022r.'!B103,1,\"\")","v":1}]
["1b [O] Stolarz (ang)",31.35,53.004761904761914,104.85,{"$f":"IF('Wynik 2022r.'!$B$3>='Szkoły branżowe 2022r.'!B104,1,\"\")","v":1}]
["1c_d [O] wielozawodowa (ang)",20.3,58.135000000000005,99.85,{"$f":"IF('Wynik 2022r.'!$B$3>='Szkoły branżowe 2022r.'!B105,1,\"\")","v":1}]
["Branżowa Szkoła I Stopnia nr 3 (ZSP3 Tomaszów Mazowiecki)",20.350000000000001,44.609900990099007,99.55,{"$f":"IF('Wynik 2022r.'!$B$3>='Szkoły branżowe 2022r.'!B106,1,\"\")","v":1}]
["1abc 3 oddziały wielozawodowe (ang)",20.350000000000001,44.609900990099007,99.55,{"$f":"IF('Wynik 2022r.'!$B$3>='Szkoły branżowe 2022r.'!B107,1,\"\")","v":1}]
["Branżowa Szkoła I stopnia nr 4 (ZSP nr 1 w Radomsku)",22.3,49.255084745762716,115.2,{"$f":"IF('Wynik 2022r.'!$B$3>='Szkoły branżowe 2022r.'!B108,1,\"\")","v":1}]
["1ZE elektromechanik pojazdów samochodowych",41.5,60.673333333333332,115.2,{"$f":"IF('Wynik 2022r.'!$B$3>='Szkoły branżowe 2022r.'!B109,1,\"\")","v":1}]
["1ZM mechanik-monter maszyn i urządzeń",22.65,46.366666666666667,80.599999999999994,{"$f":"IF('Wynik 2022r.'!$B$3>='Szkoły branżowe 2022r.'!B110,1,\"\")","v":1}]
["1ZS mechanik pojazdów samochodowych",22.3,44.843103448275862,109.8,{"$f":"IF('Wynik 2022r.'!$B$3>='Szkoły branżowe 2022r.'!B111,1,\"\")","v":1}]
["Branżowa Szkoła I stopnia nr 4 w Kutnie-Azorach (ZS nr 4 im. Z. Balickiego w Kutnie - Azorach)",29.2,58.980769230769234,90.1,{"$f":"IF('Wynik 2022r.'!$B$3>='Szkoły branżowe 2022r.'!B112,1,\"\")","v":1}]
["1WA_GR1 [O] Fryzjer (ang*)",48.3,49.7,51.1,{"$f":"IF('Wynik 2022r.'!$B$3>='Szkoły branżowe 2022r.'!B113,1,\"\")","v":1}]
["1WA_GR10 [O] Murarz-tynkarz (ang*)",75.75,75.75,75.75,{"$f":"IF('Wynik 2022r.'!$B$3>='Szkoły branżowe 2022r.'!B114,1,\"\")","v":1}]
["1WA_GR2 [O] Sprzedawca (ang*)",52.15,52.15,52.15,{"$f":"IF('Wynik 2022r.'!$B$3>='Szkoły branżowe 2022r.'!B115,1,\"\")","v":1}]
["1WA_GR3 [O] Magazynier-logistyk (ang*)",29.2,53.795454545454547,90.1,{"$f":"IF('Wynik 2022r.'!$B$3>='Szkoły branżowe 2022r.'!B116,1,\"\")","v":1}]
["1WA_GR4 [O] Cukiernik (ang*)",76.75,80.825000000000003,84.9,{"$f":"IF('Wynik 2022r.'!$B$3>='Szkoły branżowe 2022r.'!B117,1,\"\")","v":1}]
["1WA_GR5 [O] Piekarz (ang*)",44.95,44.95,44.95,{"$f":"IF('Wynik 2022r.'!$B$3>='Szkoły branżowe 2022r.'!B118,1,\"\")","v":1}]
["1WA_GR6 [O] Kucharz (ang*)",47.95,55.7,63.45,{"$f":"IF('Wynik 2022r.'!$B$3>='Szkoły branżowe 2022r.'!B119,1,\"\")","v":1}]
["1WA_GR7 [O] Mechanik pojazdów samochodowych (ang*)",52.75,70.987499999999997,88.35,{"$f":"IF('Wynik 2022r.'!$B$3>='Szkoły branżowe 2022r.'!B120,1,\"\")","v":1}]
["1WA_GR8 [O] Elektryk (ang*)",45.7,56.25,66.8,{"$f":"IF('Wynik 2022r.'!$B$3>='Szkoły branżowe 2022r.'!B121,1,\"\")","v":1}]
["Branżowa Szkoła I stopnia w Błaszkach",34.4,56.894117647058835,107,{"$f":"IF('Wynik 2022r.'!$B$3>='Szkoły branżowe 2022r.'!B122,1,\"\")","v":1}]
["1Z wielozawodowa",34.4,56.894117647058835,107,{"$f":"IF('Wynik 2022r.'!$B$3>='Szkoły branżowe 2022r.'!B123,1,\"\")","v":1}]
["Branżowa Szkoła I stopnia w Ksawerowie",22.75,59.381818181818197,121.75,{"$f":"IF('Wynik 2022r.'!$B$3>='Szkoły branżowe 2022r.'!B124,1,\"\")","v":1}]
["1AB Kucharz",48.05,77.212499999999991,121.75,{"$f":"IF('Wynik 2022r.'!$B$3>='Szkoły branżowe 2022r.'!B125,1,\"\")","v":1}]
["1BB mechanik-operator pojazdów i maszyn rolniczych",22.75,48.297222222222224,90.5,{"$f":"IF('Wynik 2022r.'!$B$3>='Szkoły branżowe 2022r.'!B126,1,\"\")","v":1}]
["1EB Ogrodnik",43.55,54.566666666666663,74.25,{"$f":"IF('Wynik 2022r.'!$B$3>='Szkoły branżowe 2022r.'!B127,1,\"\")","v":1}]
["Branżowa Szkoła I stopnia w Warcie",36.6,60.207142857142856,111.55,{"$f":"IF('Wynik 2022r.'!$B$3>='Szkoły branżowe 2022r.'!B128,1,\"\")","v":1}]
["1b [O] wielozawodowa (niem,ang)",36.6,60.207142857142856,111.55,{"$f":"IF('Wynik 2022r.'!$B$3>='Szkoły branżowe 2022r.'!B129,1,\"\")","v":1}]
["Branżowa Szkoła I stopnia w Wieluniu (ZS nr1)",30.5,66.242696629213484,127.95,{"$f":"IF('Wynik 2022r.'!$B$3>='Szkoły branżowe 2022r.'!B130,1,\"\")","v":1}]
["1Bc [O] Cukiernik (niem)",41.55,63.566666666666663,99.45,{"$f":"IF('Wynik 2022r.'!$B$3>='Szkoły branżowe 2022r.'!B131,1,\"\")","v":1}]
["1Bk [O] Kucharz (niem)",30.5,60.67321428571428,127.95,{"$f":"IF('Wynik 2022r.'!$B$3>='Szkoły branżowe 2022r.'!B132,1,\"\")","v":1}]
["1Bm [O] Monter zabudowy i robót wykończeniowych w budownictwie (niem)",53.8,72.954411764705924,112.25,{"$f":"IF('Wynik 2022r.'!$B$3>='Szkoły branżowe 2022r.'!B133,1,\"\")","v":1}]
["Branżowa Szkoła I stopnia w Wieluniu (ZS nr2)",45,66.740957446808522,113.2,{"$f":"IF('Wynik 2022r.'!$B$3>='Szkoły branżowe 2022r.'!B134,1,\"\")","v":1}]
["1Bk [O] Kierowca mechanik (ang)",51.05,69.067741935483866,108.5,{"$f":"IF('Wynik 2022r.'!$B$3>='Szkoły branżowe 2022r.'!B135,1,\"\")","v":1}]
["1Bm [O] Mechanik-monter maszyn i urządzeń (ang)",49.5,69.541666666666671,113.2,{"$f":"IF('Wynik 2022r.'!$B$3>='Szkoły branżowe 2022r.'!B136,1,\"\")","v":1}]
["1Bs [O] Mechanik pojazdów samochodowych (ang)",45,62.009090909090901,113.15,{"$f":"IF('Wynik 2022r.'!$B$3>='Szkoły branżowe 2022r.'!B137,1,\"\")","v":1}]
["Branżowa Szkoła I stopnia w Wieluniu (ZS nr3)",27.1,60.188235294117646,136.80000000000001,{"$f":"IF('Wynik 2022r.'!$B$3>='Szkoły branżowe 2022r.'!B138,1,\"\")","v":1}]
["1AP 1A_wielozawodowa",27.85,59.196666666666665,136.80000000000001,{"$f":"IF('Wynik 2022r.'!$B$3>='Szkoły branżowe 2022r.'!B139,1,\"\")","v":1}]
["1BP 1B_wielozawodowa",27.1,55.082608695652169,82.15,{"$f":"IF('Wynik 2022r.'!$B$3>='Szkoły branżowe 2022r.'!B140,1,\"\")","v":1}]
["1CP 1C_wielozawodowa",29.1,70,119.9,{"$f":"IF('Wynik 2022r.'!$B$3>='Szkoły branżowe 2022r.'!B141,1,\"\")","v":1}]
["Branżowa Szkoła I Stopnia w Zelowie (ZSP, Zelów)",33.65,57.678333333333335,118.7,{"$f":"IF('Wynik 2022r.'!$B$3>='Szkoły branżowe 2022r.'!B142,1,\"\")","v":1}]
["1c [O] Mechanik pojazdów samochodowych (ang*)",33.65,49.04999999999999,74.05,{"$f":"IF('Wynik 2022r.'!$B$3>='Szkoły branżowe 2022r.'!B143,1,\"\")","v":1}]
["1w [O] wielozawodowa (ang*)",33.85,66.306666666666672,118.7,{"$f":"IF('Wynik 2022r.'!$B$3>='Szkoły branżowe 2022r.'!B144,1,\"\")","v":1}]
["Branżowa Szkoła I stopnia w Złoczewie",24.4,55.440000000000019,107.1,{"$f":"IF('Wynik 2022r.'!$B$3>='Szkoły branżowe 2022r.'!B145,1,\"\")","v":1}]
["1br wielozawodowa",24.4,55.440000000000019,107.1,{"$f":"IF('Wynik 2022r.'!$B$3>='Szkoły branżowe 2022r.'!B146,1,\"\")","v":1}]
["Branżowa Szkoła I stopnia w ZS-CEZiU w Rawie Mazowieckiej",16.3,50.087209302325583,119,{"$f":"IF('Wynik 2022r.'!$B$3>='Szkoły branżowe 2022r.'!B147,1,\"\")","v":1}]
["1B_EMPS Elektromechanik pojazdów samochodowych",46.95,57.4375,67.55,{"$f":"IF('Wynik 2022r.'!$B$3>='Szkoły branżowe 2022r.'!B148,1,\"\")","v":1}]
["1B_MPS Mechanik pojazdów samochodowych",21.6,48.226315789473681,117.8,{"$f":"IF('Wynik 2022r.'!$B$3>='Szkoły branżowe 2022r.'!B149,1,\"\")","v":1}]
["1B_WZ Wielozawodowa",16.3,48.992307692307698,119,{"$f":"IF('Wynik 2022r.'!$B$3>='Szkoły branżowe 2022r.'!B150,1,\"\")","v":1}]
["1B-KCH Kucharz",43,48.7,58.05,{"$f":"IF('Wynik 2022r.'!$B$3>='Szkoły branżowe 2022r.'!B151,1,\"\")","v":1}]
["1B-SP Sprzedawca",43.8,63.65,83.5,{"$f":"IF('Wynik 2022r.'!$B$3>='Szkoły branżowe 2022r.'!B152,1,\"\")","v":1}]
["Branżowa Szkoła I stopnia w ZSP w Białej Rawskiej",30.25,50.769999999999996,68.8,{"$f":"IF('Wynik 2022r.'!$B$3>='Szkoły branżowe 2022r.'!B153,1,\"\")","v":1}]
["1Og Ogrodnik",30.25,34.774999999999999,39.299999999999997,{"$f":"IF('Wynik 2022r.'!$B$3>='Szkoły branżowe 2022r.'!B154,1,\"\")","v":1}]
["1Spr Sprzedawca",47.5,61.433333333333337,68.8,{"$f":"IF('Wynik 2022r.'!$B$3>='Szkoły branżowe 2022r.'!B155,1,\"\")","v":1}]
["Branżowa Szkoła I stopnia w Żarnowie",16.100000000000001,51.436363636363623,93.6,{"$f":"IF('Wynik 2022r.'!$B$3>='Szkoły branżowe 2022r.'!B156,1,\"\")","v":1}]
["1BSIs Wielozawodowa",16.100000000000001,51.436363636363623,93.6,{"$f":"IF('Wynik 2022r.'!$B$3>='Szkoły branżowe 2022r.'!B157,1,\"\")","v":1}]
["Szkoła Branżowa I Stopnia (Głuchów)",68.400000000000006,68.400000000000006,68.400000000000006,{"$f":"IF('Wynik 2022r.'!$B$3>='Szkoły branżowe 2022r.'!B158,1,\"\")","v":1}]
["1rp  Rolnik (ang*,niem*,ros*)",68.400000000000006,68.400000000000006,68.400000000000006,{"$f":"IF('Wynik 2022r.'!$B$3>='Szkoły branżowe 2022r.'!B159,1,\"\")","v":1}]
["Szkoła Branżowa I stopnia (ZSP w Brzezinach)",29.15,61.680000000000021,108.2,{"$f":"IF('Wynik 2022r.'!$B$3>='Szkoły branżowe 2022r.'!B160,1,\"\")","v":1}]
["1 Wielozawodowa",29.15,61.680000000000021,108.2,{"$f":"IF('Wynik 2022r.'!$B$3>='Szkoły branżowe 2022r.'!B161,1,\"\")","v":1}]
["Szkoła Branżowa I Stopnia (ZSP, Szczerców)",39.950000000000003,59.292000000000009,88,{"$f":"IF('Wynik 2022r.'!$B$3>='Szkoły branżowe 2022r.'!B162,1,\"\")","v":1}]
["1BS BS wielozawodowa",39.950000000000003,59.292000000000009,88,{"$f":"IF('Wynik 2022r.'!$B$3>='Szkoły branżowe 2022r.'!B163,1,\"\")","v":1}]
["Szkoła Branżowa I Stopnia Nr 1 im. Jakuba Stefana Cezaka w Zgierzu",43.15,64.67352941176469,94.6,{"$f":"IF('Wynik 2022r.'!$B$3>='Szkoły branżowe 2022r.'!B164,1,\"\")","v":1}]
["1BH [O] Pracownik obsługi hotelowej (ang)",48,66.457142857142856,92.2,{"$f":"IF('Wynik 2022r.'!$B$3>='Szkoły branżowe 2022r.'!B165,1,\"\")","v":1}]
["1BK [O] Kucharz (ang)",43.15,63.42499999999999,94.6,{"$f":"IF('Wynik 2022r.'!$B$3>='Szkoły branżowe 2022r.'!B166,1,\"\")","v":1}]
["Szkoła Branżowa I Stopnia Nr 2 im. Jana Pawła II w Zgierzu",28.25,58.811206896551738,127.55,{"$f":"IF('Wynik 2022r.'!$B$3>='Szkoły branżowe 2022r.'!B167,1,\"\")","v":1}]
["1mp Mechanik pojazdów samochodowych",28.25,54.623214285714276,91.8,{"$f":"IF('Wynik 2022r.'!$B$3>='Szkoły branżowe 2022r.'!B168,1,\"\")","v":1}]
["1tp Monter zabudowy i robót wykończeniowych w bud.",37,52.366666666666667,89.9,{"$f":"IF('Wynik 2022r.'!$B$3>='Szkoły branżowe 2022r.'!B169,1,\"\")","v":1}]
["1wp Klasa wielozawodowa",42.7,67.157142857142858,127.55,{"$f":"IF('Wynik 2022r.'!$B$3>='Szkoły branżowe 2022r.'!B170,1,\"\")","v":1}]
["Szkoła Branżowa I Stopnia w Ozorkowie",37.75,61.540277777777796,140.15,{"$f":"IF('Wynik 2022r.'!$B$3>='Szkoły branżowe 2022r.'!B171,1,\"\")","v":1}]
["1_BR_ml [O] Magazynier-logistyk (ang,niem)",37.75,64.718181818181833,89.35,{"$f":"IF('Wynik 2022r.'!$B$3>='Szkoły branżowe 2022r.'!B172,1,\"\")","v":1}]
["1_BR_mps [O] Mechanik pojazdów samochodowych (ang,niem)",39.450000000000003,52.561764705882354,76.349999999999994,{"$f":"IF('Wynik 2022r.'!$B$3>='Szkoły branżowe 2022r.'!B173,1,\"\")","v":1}]
["1_BR_wz [O] wielozawodowa (ang,niem)",39.4,76.25,140.15,{"$f":"IF('Wynik 2022r.'!$B$3>='Szkoły branżowe 2022r.'!B174,1,\"\")","v":1}]
["Szkoła Mistrzostwa Sportowego - Liceum Ogólnokształcące im. Mikołaja Kopernika w Aleksandrowie Łódzkim",58,127.24214285714281,176.7,{"$f":"IF('Wynik 2022r.'!$B$3>='Szkoły branżowe 2022r.'!B175,1,\"\")","v":1}]
["1A [MS] pol-mat (ang-niem,ros)",58,85.272727272727266,100,{"$f":"IF('Wynik 2022r.'!$B$3>='Szkoły branżowe 2022r.'!B176,1,\"\")","v":1}]
["1B [O] pol-mat (ang-niem,ros)",101.4,126.86896551724139,164.8,{"$f":"IF('Wynik 2022r.'!$B$3>='Szkoły branżowe 2022r.'!B177,1,\"\")","v":""}]
["1C [O] pol-mat (ang-niem,ros)",108.15,142.99166666666667,176.7,{"$f":"IF('Wynik 2022r.'!$B$3>='Szkoły branżowe 2022r.'!B178,1,\"\")","v":""}]

{"sheet":"Licea ogólnokształcące 2021r.","index":6,"n_rows":167,"n_cols":5,"rows_kept":167,"cut":false,"hidden":false,"merged":[]}
["Nazwa szkoły/oddziału","Minimalna  liczba punktów z jaką kandydat został zakwalifikowany","Średnia  liczba punktów z jaką kandydat został zakwalifikowany","Maksymalnaliczba punktów z jaką kandydat został zakwalifikowany","sprawdzenie"]
["I Liceum Ogólnokształcące w Łodzi",151.65,176.61859504132227,196.85,{"$f":"IF('Wynik 2021r.'!$B$3>='Licea ogólnokształcące 2021r.'!$B2,1,\"\")","v":""}]
["1_A1_GEO-MAT-ANG [O] geogr-ang-mat (ang-fra*,niem*)",151.65,175.35333333333332,188.55,{"$f":"IF('Wynik 2021r.'!$B$3>='Licea ogólnokształcące 2021r.'!$B3,1,\"\")","v":""}]
["1_A2_POL-HIS-ANG [O] hist-ang-pol (ang-fra*,niem*)",166.4,173.84,188.85,{"$f":"IF('Wynik 2021r.'!$B$3>='Licea ogólnokształcące 2021r.'!$B4,1,\"\")","v":""}]
["1_B_MAT-FIZ-INF [O] fiz-inf-mat (ang-fra*,niem*)",168.45,175.2370967741935,191.6,{"$f":"IF('Wynik 2021r.'!$B$3>='Licea ogólnokształcące 2021r.'!$B5,1,\"\")","v":""}]
["1_C1_CHEM-FIZ-MAT [O] chem-fiz-mat (ang-niem*,fra*)",167.85,175.89333333333332,196.85,{"$f":"IF('Wynik 2021r.'!$B$3>='Licea ogólnokształcące 2021r.'!$B6,1,\"\")","v":""}]
["1_C2_BIOL-CHEM-MAT [O] biol-chem-mat (ang-fra*,niem*)",170.7,179.44666666666669,195.2,{"$f":"IF('Wynik 2021r.'!$B$3>='Licea ogólnokształcące 2021r.'!$B7,1,\"\")","v":""}]
["1_D_BIOL-CHEM-MAT [O] biol-chem-mat (ang-niem*,fra*)",154.4,179.01666666666671,193.6,{"$f":"IF('Wynik 2021r.'!$B$3>='Licea ogólnokształcące 2021r.'!$B8,1,\"\")","v":""}]
["II Liceum Ogólnokształcące w Łodzi",77.349999999999994,137.37107438016534,183.3,{"$f":"IF('Wynik 2021r.'!$B$3>='Licea ogólnokształcące 2021r.'!$B9,1,\"\")","v":1}]
["1A-gr1 [O] geogr-ang-wos (ang-niem)",136.4,145.15000000000003,183.3,{"$f":"IF('Wynik 2021r.'!$B$3>='Licea ogólnokształcące 2021r.'!$B10,1,\"\")","v":""}]
["1A-gr2 [O] geogr-ang-wos (ang-fra)",77.349999999999994,145.60333333333335,170.95,{"$f":"IF('Wynik 2021r.'!$B$3>='Licea ogólnokształcące 2021r.'!$B11,1,\"\")","v":1}]
["1B-gr1 [O] hist-ang-pol (ang-niem)",110.6,120.98999999999998,136.35,{"$f":"IF('Wynik 2021r.'!$B$3>='Licea ogólnokształcące 2021r.'!$B12,1,\"\")","v":""}]
["1B-gr2 [O] hist-ang-pol (ang-fra)",113.45,126.65333333333335,148.85,{"$f":"IF('Wynik 2021r.'!$B$3>='Licea ogólnokształcące 2021r.'!$B13,1,\"\")","v":""}]
["1C-gr1 [O] biol-chem-ang (ang-niem)",119.8,137.5,153.65,{"$f":"IF('Wynik 2021r.'!$B$3>='Licea ogólnokształcące 2021r.'!$B14,1,\"\")","v":""}]
["1C-gr2 [O] biol-chem-ang (ang-fra)",128.69999999999999,141.58333333333334,166.9,{"$f":"IF('Wynik 2021r.'!$B$3>='Licea ogólnokształcące 2021r.'!$B15,1,\"\")","v":""}]
["1D-gr1 [O] h.szt.-ang-pol (ang-niem)",119.75,132.90625,159.6,{"$f":"IF('Wynik 2021r.'!$B$3>='Licea ogólnokształcące 2021r.'!$B16,1,\"\")","v":""}]
["1D-gr2 [O] h.szt.-ang-pol (ang-fra)",137.4,148.88,166.5,{"$f":"IF('Wynik 2021r.'!$B$3>='Licea ogólnokształcące 2021r.'!$B17,1,\"\")","v":""}]
["III Liceum Ogólnokształcące w Łodzi",155.19999999999999,167.77299999999997,195.15,{"$f":"IF('Wynik 2021r.'!$B$3>='Licea ogólnokształcące 2021r.'!$B18,1,\"\")","v":""}]
["1a pol-hist-geo",156.9,161.505,178.85,{"$f":"IF('Wynik 2021r.'!$B$3>='Licea ogólnokształcące 2021r.'!$B19,1,\"\")","v":""}]
["1b biol-chem-mat",166.4,173.04166666666663,195.15,{"$f":"IF('Wynik 2021r.'!$B$3>='Licea ogólnokształcące 2021r.'!$B20,1,\"\")","v":""}]
["1c biol-chem-mat ",155.5,163.91666666666666,181.35,{"$f":"IF('Wynik 2021r.'!$B$3>='Licea ogólnokształcące 2021r.'!$B21,1,\"\")","v":""}]
["1d geogr-ang-mat ",167.5,172.11500000000004,182.95,{"$f":"IF('Wynik 2021r.'!$B$3>='Licea ogólnokształcące 2021r.'!$B22,1,\"\")","v":""}]
["1e fiz-ang-mat",155.19999999999999,168.28666666666666,180.7,{"$f":"IF('Wynik 2021r.'!$B$3>='Licea ogólnokształcące 2021r.'!$B23,1,\"\")","v":""}]
["IV Liceum Ogólnokształcące w Łodzi",119.4,161.85086956521738,181.85,{"$f":"IF('Wynik 2021r.'!$B$3>='Licea ogólnokształcące 2021r.'!$B24,1,\"\")","v":""}]
["1A [O] fiz-mat (ang-fra,hisz*,niem)",146.69999999999999,155.80333333333334,168.75,{"$f":"IF('Wynik 2021r.'!$B$3>='Licea ogólnokształcące 2021r.'!$B25,1,\"\")","v":""}]
["1ApreIB [D] fiz-ang-mat (ang-fra,hisz*,niem)",159.30000000000001,168.61538461538461,179.4,{"$f":"IF('Wynik 2021r.'!$B$3>='Licea ogólnokształcące 2021r.'!$B26,1,\"\")","v":""}]
["1BpreIB [D] hist-ang-pol (ang-fra,hisz*,niem)",121.2,157.92586206896547,176.75,{"$f":"IF('Wynik 2021r.'!$B$3>='Licea ogólnokształcące 2021r.'!$B27,1,\"\")","v":""}]
["1CpreIB [D] geogr-ang-pol (ang-hisz*,fra,niem)",119.4,159.44499999999999,181,{"$f":"IF('Wynik 2021r.'!$B$3>='Licea ogólnokształcące 2021r.'!$B28,1,\"\")","v":""}]
["1D [O] biol-chem (ang-fra,hisz*,niem)",157.15,165.68928571428572,175.35,{"$f":"IF('Wynik 2021r.'!$B$3>='Licea ogólnokształcące 2021r.'!$B29,1,\"\")","v":""}]
["1DpreIB [D] biol-chem-ang (ang-fra,niem,hisz*)",162.30000000000001,171.49642857142859,181.85,{"$f":"IF('Wynik 2021r.'!$B$3>='Licea ogólnokształcące 2021r.'!$B30,1,\"\")","v":""}]
["IX Liceum Ogólnokształcące w Łodzi",105.4,135.20991735537191,170.2,{"$f":"IF('Wynik 2021r.'!$B$3>='Licea ogólnokształcące 2021r.'!$B31,1,\"\")","v":""}]
["1a [O] mat-inf-ang (ang-niem*,hisz)",131.75,145.51833333333332,170.2,{"$f":"IF('Wynik 2021r.'!$B$3>='Licea ogólnokształcące 2021r.'!$B32,1,\"\")","v":""}]
["1b [O] biol-chem-ang (ang-niem*,hisz)",105.4,130.03166666666667,155,{"$f":"IF('Wynik 2021r.'!$B$3>='Licea ogólnokształcące 2021r.'!$B33,1,\"\")","v":""}]
["1c pol-wos-ang (ang-niem*,hisz)",117.7,132.72096774193548,159.9,{"$f":"IF('Wynik 2021r.'!$B$3>='Licea ogólnokształcące 2021r.'!$B34,1,\"\")","v":""}]
["1d geogr-ang-hisz (ang-hisz)",114.3,132.65166666666667,161.44999999999999,{"$f":"IF('Wynik 2021r.'!$B$3>='Licea ogólnokształcące 2021r.'!$B35,1,\"\")","v":""}]
["VI Liceum Ogólnokształcące w Łodzi",106.4,140.59600000000006,189.6,{"$f":"IF('Wynik 2021r.'!$B$3>='Licea ogólnokształcące 2021r.'!$B36,1,\"\")","v":""}]
["1a turystyczno-krajoznawcza",125.9,139.44999999999999,171.2,{"$f":"IF('Wynik 2021r.'!$B$3>='Licea ogólnokształcące 2021r.'!$B37,1,\"\")","v":""}]
["1b teatralna",109.8,152.68666666666667,189.6,{"$f":"IF('Wynik 2021r.'!$B$3>='Licea ogólnokształcące 2021r.'!$B38,1,\"\")","v":""}]
["1c nowe media",121.2,136.82999999999998,166.2,{"$f":"IF('Wynik 2021r.'!$B$3>='Licea ogólnokształcące 2021r.'!$B39,1,\"\")","v":""}]
["1e taneczna",106.4,126.94500000000001,164.65,{"$f":"IF('Wynik 2021r.'!$B$3>='Licea ogólnokształcące 2021r.'!$B40,1,\"\")","v":""}]
["1f filmowa",108,128.72499999999999,168.75,{"$f":"IF('Wynik 2021r.'!$B$3>='Licea ogólnokształcące 2021r.'!$B41,1,\"\")","v":""}]
["1z prozdrowotna",127.85,145.88166666666669,166.25,{"$f":"IF('Wynik 2021r.'!$B$3>='Licea ogólnokształcące 2021r.'!$B42,1,\"\")","v":""}]
["VIII Liceum Ogólnokształcące w Łodzi",68.5,147.0611888111888,184.85,{"$f":"IF('Wynik 2021r.'!$B$3>='Licea ogólnokształcące 2021r.'!$B43,1,\"\")","v":1}]
["0w 0 wstępna",118.2,142.90333333333334,171.1,{"$f":"IF('Wynik 2021r.'!$B$3>='Licea ogólnokształcące 2021r.'!$B44,1,\"\")","v":""}]
["1A1 dwujęzyczny biol-chem",112.8,148.23750000000001,162.30000000000001,{"$f":"IF('Wynik 2021r.'!$B$3>='Licea ogólnokształcące 2021r.'!$B45,1,\"\")","v":""}]
["1A2 dwujęzyczny mat - geo",68.5,149.48684210526315,184.85,{"$f":"IF('Wynik 2021r.'!$B$3>='Licea ogólnokształcące 2021r.'!$B46,1,\"\")","v":1}]
["1B 1B lingwistyczna",128.19999999999999,147.88166666666666,171.9,{"$f":"IF('Wynik 2021r.'!$B$3>='Licea ogólnokształcące 2021r.'!$B47,1,\"\")","v":""}]
["1C 1C humanistyczna",133.15,147.65833333333333,163,{"$f":"IF('Wynik 2021r.'!$B$3>='Licea ogólnokształcące 2021r.'!$B48,1,\"\")","v":""}]
["1D 1D biol-chem-mat",138.80000000000001,148.10833333333332,179.7,{"$f":"IF('Wynik 2021r.'!$B$3>='Licea ogólnokształcące 2021r.'!$B49,1,\"\")","v":""}]
["XI Liceum Ogólnokształcące w Łodzi",73.849999999999994,131.50000000000009,185.2,{"$f":"IF('Wynik 2021r.'!$B$3>='Licea ogólnokształcące 2021r.'!$B50,1,\"\")","v":1}]
["0W [DW] (fra-ang)",73.849999999999994,127.8972222222222,165.4,{"$f":"IF('Wynik 2021r.'!$B$3>='Licea ogólnokształcące 2021r.'!$B51,1,\"\")","v":1}]
["1Agrupa1 [D] hist-geogr-pol (ang-hisz)",122.65,145.54642857142858,170.2,{"$f":"IF('Wynik 2021r.'!$B$3>='Licea ogólnokształcące 2021r.'!$B52,1,\"\")","v":""}]
["1Bgrupa1 [O] geogr-hist-ang (ang-fra)",100,120.54285714285713,163.05000000000001,{"$f":"IF('Wynik 2021r.'!$B$3>='Licea ogólnokształcące 2021r.'!$B53,1,\"\")","v":1}]
["1Bgrupa2 [O] geogr-hist-ang (ang-niem)",112.6,129.16071428571428,149.4,{"$f":"IF('Wynik 2021r.'!$B$3>='Licea ogólnokształcące 2021r.'!$B54,1,\"\")","v":""}]
["1Cgrupa1 [O] inf-ang-mat (ang-fra)",96.45,132.53214285714284,163.1,{"$f":"IF('Wynik 2021r.'!$B$3>='Licea ogólnokształcące 2021r.'!$B55,1,\"\")","v":1}]
["1Cgrupa2 [O] inf-ang-mat (ang-niem)",98.95,132.92499999999998,185.2,{"$f":"IF('Wynik 2021r.'!$B$3>='Licea ogólnokształcące 2021r.'!$B56,1,\"\")","v":1}]
["XII Liceum Ogólnokształcące w Łodzi",152.15,165.74041666666665,187.6,{"$f":"IF('Wynik 2021r.'!$B$3>='Licea ogólnokształcące 2021r.'!$B57,1,\"\")","v":""}]
["1A mat-fiz-ang",164.7,172.81,183.3,{"$f":"IF('Wynik 2021r.'!$B$3>='Licea ogólnokształcące 2021r.'!$B58,1,\"\")","v":""}]
["1B mat-fiz",152.15,160.45333333333335,177.75,{"$f":"IF('Wynik 2021r.'!$B$3>='Licea ogólnokształcące 2021r.'!$B59,1,\"\")","v":""}]
["1C mat-biol-chem",154.69999999999999,164.39500000000001,187.6,{"$f":"IF('Wynik 2021r.'!$B$3>='Licea ogólnokształcące 2021r.'!$B60,1,\"\")","v":""}]
["1D mat-geo-ang",155.80000000000001,165.30333333333331,183.45,{"$f":"IF('Wynik 2021r.'!$B$3>='Licea ogólnokształcące 2021r.'!$B61,1,\"\")","v":""}]
["XIII Liceum Ogólnokształcące w Łodzi",126.15,152.63958333333338,188.3,{"$f":"IF('Wynik 2021r.'!$B$3>='Licea ogólnokształcące 2021r.'!$B62,1,\"\")","v":""}]
["0w [DW] (fra-ang,wlo)",126.15,150.46,188.3,{"$f":"IF('Wynik 2021r.'!$B$3>='Licea ogólnokształcące 2021r.'!$B63,1,\"\")","v":""}]
["1a [O] hist-pol-wos (ang-niem,fra,wlo)",140.6,150.08000000000001,173.5,{"$f":"IF('Wynik 2021r.'!$B$3>='Licea ogólnokształcące 2021r.'!$B64,1,\"\")","v":""}]
["1b [O] biol-chem-mat (ang-fra,wlo,niem)",145.1,156.10499999999996,187.55,{"$f":"IF('Wynik 2021r.'!$B$3>='Licea ogólnokształcące 2021r.'!$B65,1,\"\")","v":""}]
["1c [O] fiz-ang-mat (ang-fra,wlo,niem)",142.30000000000001,153.91333333333333,176.25,{"$f":"IF('Wynik 2021r.'!$B$3>='Licea ogólnokształcące 2021r.'!$B66,1,\"\")","v":""}]
["XLII Liceum Ogólnokształcące",42.65,99.774712643678171,169.45,{"$f":"IF('Wynik 2021r.'!$B$3>='Licea ogólnokształcące 2021r.'!$B67,1,\"\")","v":1}]
["1A Straż Graniczna",67.349999999999994,97.891666666666637,154.19999999999999,{"$f":"IF('Wynik 2021r.'!$B$3>='Licea ogólnokształcące 2021r.'!$B68,1,\"\")","v":1}]
["1Bo ogólna",42.65,91.080769230769221,127.3,{"$f":"IF('Wynik 2021r.'!$B$3>='Licea ogólnokształcące 2021r.'!$B69,1,\"\")","v":1}]
["1Bp Policyjna",69.05,99.986666666666679,163.30000000000001,{"$f":"IF('Wynik 2021r.'!$B$3>='Licea ogólnokształcące 2021r.'!$B70,1,\"\")","v":1}]
["1Cd dziennikarsko-filmowa",83.2,112.21333333333334,165.85,{"$f":"IF('Wynik 2021r.'!$B$3>='Licea ogólnokształcące 2021r.'!$B71,1,\"\")","v":1}]
["1Cf klasa filologiczna",51.35,98.328571428571422,169.45,{"$f":"IF('Wynik 2021r.'!$B$3>='Licea ogólnokształcące 2021r.'!$B72,1,\"\")","v":1}]
["XLIII Liceum Ogólnokształcące",45,59.551470588235297,122.1,{"$f":"IF('Wynik 2021r.'!$B$3>='Licea ogólnokształcące 2021r.'!$B73,1,\"\")","v":1}]
["1a humanistyczna",47.3,85.395833333333329,122.1,{"$f":"IF('Wynik 2021r.'!$B$3>='Licea ogólnokształcące 2021r.'!$B74,1,\"\")","v":1}]
["1B Sportowa Biologiczno-chemiczna(piłka ręczna /LA)",45,47.61904761904762,50,{"$f":"IF('Wynik 2021r.'!$B$3>='Licea ogólnokształcące 2021r.'!$B75,1,\"\")","v":1}]
["XLVII Liceum Ogólnokształcące",40,75.473404255319167,161.94999999999999,{"$f":"IF('Wynik 2021r.'!$B$3>='Licea ogólnokształcące 2021r.'!$B76,1,\"\")","v":1}]
["1A [O] mat-ang (ang-hisz*,niem*,ros*)",46.2,94.390000000000015,161.94999999999999,{"$f":"IF('Wynik 2021r.'!$B$3>='Licea ogólnokształcące 2021r.'!$B77,1,\"\")","v":1}]
["1B [S] ang-biol (ang-hisz*,niem*,ros*)",50,57.962962962962962,60,{"$f":"IF('Wynik 2021r.'!$B$3>='Licea ogólnokształcące 2021r.'!$B78,1,\"\")","v":1}]
["1C [O] wos-geogr-pol (ang-hisz*,niem*,ros*)",52.1,91.275000000000006,144.44999999999999,{"$f":"IF('Wynik 2021r.'!$B$3>='Licea ogólnokształcące 2021r.'!$B79,1,\"\")","v":1}]
["1D [S] ang-biol (ang-hisz*,niem*,ros*)",40,57.157894736842103,60,{"$f":"IF('Wynik 2021r.'!$B$3>='Licea ogólnokształcące 2021r.'!$B80,1,\"\")","v":1}]
["XV Liceum Ogólnokształcące w Łodzi",118.55,138.99252873563225,171.1,{"$f":"IF('Wynik 2021r.'!$B$3>='Licea ogólnokształcące 2021r.'!$B81,1,\"\")","v":""}]
["1a [O] hist-ang-pol (ang-wlo,niem)",127.4,137.95166666666668,159.19999999999999,{"$f":"IF('Wynik 2021r.'!$B$3>='Licea ogólnokształcące 2021r.'!$B82,1,\"\")","v":""}]
["1b [O] geogr-ang-mat (ang-ros,wlo)",129.75,142.82142857142858,165.9,{"$f":"IF('Wynik 2021r.'!$B$3>='Licea ogólnokształcące 2021r.'!$B83,1,\"\")","v":""}]
["1c [O] biol-chem-ang (ang-niem,ros)",118.55,136.37241379310345,171.1,{"$f":"IF('Wynik 2021r.'!$B$3>='Licea ogólnokształcące 2021r.'!$B84,1,\"\")","v":""}]
["XVIII Liceum Ogólnokształcące w Łodzi",47.25,101.73888888888889,160.85,{"$f":"IF('Wynik 2021r.'!$B$3>='Licea ogólnokształcące 2021r.'!$B85,1,\"\")","v":1}]
["1a/polic.krym. 1a",61.45,114.27333333333333,160.85,{"$f":"IF('Wynik 2021r.'!$B$3>='Licea ogólnokształcące 2021r.'!$B86,1,\"\")","v":1}]
["1b/polic.prawn. 1b",47.25,87.378333333333316,145.30000000000001,{"$f":"IF('Wynik 2021r.'!$B$3>='Licea ogólnokształcące 2021r.'!$B87,1,\"\")","v":1}]
["1c/wojsk.ratow. 1c",78.8,103.56500000000001,149.1,{"$f":"IF('Wynik 2021r.'!$B$3>='Licea ogólnokształcące 2021r.'!$B88,1,\"\")","v":1}]
["XX Liceum Ogólnokształcące w Łodzi",78.75,117.71833333333331,192.6,{"$f":"IF('Wynik 2021r.'!$B$3>='Licea ogólnokształcące 2021r.'!$B89,1,\"\")","v":1}]
["1a-1 [O] geogr-ang-pol (ang-hisz,niem,ros)",122.7,139.84666666666666,192.6,{"$f":"IF('Wynik 2021r.'!$B$3>='Licea ogólnokształcące 2021r.'!$B90,1,\"\")","v":""}]
["1a-2 [O] hist-ang-pol (ang-hisz,niem,ros)",108.35,125.58666666666666,149.80000000000001,{"$f":"IF('Wynik 2021r.'!$B$3>='Licea ogólnokształcące 2021r.'!$B91,1,\"\")","v":""}]
["1b [O] biol-ang-chem (ang-hisz,niem,ros)",92.05,116.41166666666666,150.19999999999999,{"$f":"IF('Wynik 2021r.'!$B$3>='Licea ogólnokształcące 2021r.'!$B92,1,\"\")","v":1}]
["1c [O] pol-hist-wos (ang-hisz,niem,ros)",78.75,104.02666666666667,139.94999999999999,{"$f":"IF('Wynik 2021r.'!$B$3>='Licea ogólnokształcące 2021r.'!$B93,1,\"\")","v":1}]
["XXI Liceum Ogólnokształcące w Łodzi",82.65,161.30199999999996,192.15,{"$f":"IF('Wynik 2021r.'!$B$3>='Licea ogólnokształcące 2021r.'!$B94,1,\"\")","v":1}]
["1A [O] hist-ang-pol (ang-fra*,hisz*,niem)",127.55,168.97499999999997,186.15,{"$f":"IF('Wynik 2021r.'!$B$3>='Licea ogólnokształcące 2021r.'!$B95,1,\"\")","v":""}]
["1B [O] biol-chem-mat (ang-fra*,hisz*,niem)",157,168.95333333333329,192.15,{"$f":"IF('Wynik 2021r.'!$B$3>='Licea ogólnokształcące 2021r.'!$B96,1,\"\")","v":""}]
["1C [O] mat-geogr-ang (ang-fra*,hisz*,niem)",160.94999999999999,169.52166666666668,180.2,{"$f":"IF('Wynik 2021r.'!$B$3>='Licea ogólnokształcące 2021r.'!$B97,1,\"\")","v":""}]
["1D1 [O] biol-chem-mat (ang-fra*,hisz*,niem)",152.85,158.76666666666668,173,{"$f":"IF('Wynik 2021r.'!$B$3>='Licea ogólnokształcące 2021r.'!$B98,1,\"\")","v":""}]
["1D2 [O] chem-fiz-mat (ang-fra*,hisz*,niem)",151.5,165.21999999999997,186.2,{"$f":"IF('Wynik 2021r.'!$B$3>='Licea ogólnokształcące 2021r.'!$B99,1,\"\")","v":""}]
["1E1 [O] franc-pol (ang,fra-hisz)",124.25,138.315,173,{"$f":"IF('Wynik 2021r.'!$B$3>='Licea ogólnokształcące 2021r.'!$B100,1,\"\")","v":""}]
["1E2 [O] hiszp-pol (ang,hisz-fra)",82.65,136.44249999999997,174.55,{"$f":"IF('Wynik 2021r.'!$B$3>='Licea ogólnokształcące 2021r.'!$B101,1,\"\")","v":1}]
["XXIII Liceum Ogólnokształcące w Łodzi",33.450000000000003,99.951807228915641,149.5,{"$f":"IF('Wynik 2021r.'!$B$3>='Licea ogólnokształcące 2021r.'!$B102,1,\"\")","v":1}]
["1M 1M medialno-dziennikarska",44,86.975000000000009,139.94999999999999,{"$f":"IF('Wynik 2021r.'!$B$3>='Licea ogólnokształcące 2021r.'!$B103,1,\"\")","v":1}]
["1PC 1PC przyrodnicza - biologia i chemia",57.5,105.18214285714286,149.5,{"$f":"IF('Wynik 2021r.'!$B$3>='Licea ogólnokształcące 2021r.'!$B104,1,\"\")","v":1}]
["1PG 1PG przyrodnicza - biologia i geografia",58,100.87000000000002,142.4,{"$f":"IF('Wynik 2021r.'!$B$3>='Licea ogólnokształcące 2021r.'!$B105,1,\"\")","v":1}]
["1SA 1SA społeczna z językiem angielskim",33.450000000000003,102.52407407407409,148.30000000000001,{"$f":"IF('Wynik 2021r.'!$B$3>='Licea ogólnokształcące 2021r.'!$B106,1,\"\")","v":1}]
["1SG 1SG społeczna z geografią",77.099999999999994,101.89230769230768,135.75,{"$f":"IF('Wynik 2021r.'!$B$3>='Licea ogólnokształcące 2021r.'!$B107,1,\"\")","v":1}]
["XXIV Liceum Ogólnokształcące w Łodzi",57.5,118.2953389830508,181,{"$f":"IF('Wynik 2021r.'!$B$3>='Licea ogólnokształcące 2021r.'!$B108,1,\"\")","v":1}]
["1A [O] ang-pol-wos (ang-hisz*,niem,ros*)",90.1,117.60499999999999,160,{"$f":"IF('Wynik 2021r.'!$B$3>='Licea ogólnokształcące 2021r.'!$B109,1,\"\")","v":1}]
["1B [O] geogr-ang-hiszp (ang-hisz*)",88.45,118.92333333333336,165.8,{"$f":"IF('Wynik 2021r.'!$B$3>='Licea ogólnokształcące 2021r.'!$B110,1,\"\")","v":1}]
["1C [O] biol-mat (ang-hisz*,niem,ros*)",57.5,118.74655172413794,181,{"$f":"IF('Wynik 2021r.'!$B$3>='Licea ogólnokształcące 2021r.'!$B111,1,\"\")","v":1}]
["1D [O] geogr-ang-mat (ang-niem,ros*,hisz*)",60.25,117.90862068965518,166.95,{"$f":"IF('Wynik 2021r.'!$B$3>='Licea ogólnokształcące 2021r.'!$B112,1,\"\")","v":1}]
["XXIX Liceum Ogólnokształcące w Łodzi",135.4,149.08208333333334,170.55,{"$f":"IF('Wynik 2021r.'!$B$3>='Licea ogólnokształcące 2021r.'!$B113,1,\"\")","v":""}]
["1a matematyczno - fizyczna",135.4,144.24500000000003,170.55,{"$f":"IF('Wynik 2021r.'!$B$3>='Licea ogólnokształcące 2021r.'!$B114,1,\"\")","v":""}]
["1b społeczno - prawna",138.69999999999999,149.465,167,{"$f":"IF('Wynik 2021r.'!$B$3>='Licea ogólnokształcące 2021r.'!$B115,1,\"\")","v":""}]
["1c turystyczno - językowa",145.75,155.02666666666667,169.25,{"$f":"IF('Wynik 2021r.'!$B$3>='Licea ogólnokształcące 2021r.'!$B116,1,\"\")","v":""}]
["1d biologiczno - chemiczna",139.19999999999999,147.59166666666664,167.7,{"$f":"IF('Wynik 2021r.'!$B$3>='Licea ogólnokształcące 2021r.'!$B117,1,\"\")","v":""}]
["XXV Liceum Ogólnokształcące w Łodzi",143.19999999999999,158.738,191.55,{"$f":"IF('Wynik 2021r.'!$B$3>='Licea ogólnokształcące 2021r.'!$B118,1,\"\")","v":""}]
["1a [O] geogr-ang-mat (ang-hisz*,niem*,ros*)",156.05000000000001,165.29333333333335,191.55,{"$f":"IF('Wynik 2021r.'!$B$3>='Licea ogólnokształcące 2021r.'!$B119,1,\"\")","v":""}]
["1b-gr1 [O] fiz-ang-mat (ang-hisz*,niem*,ros*)",153,158.84666666666669,167.9,{"$f":"IF('Wynik 2021r.'!$B$3>='Licea ogólnokształcące 2021r.'!$B120,1,\"\")","v":""}]
["1b-gr2 [O] fiz-inf-mat (ang-hisz*,ros*,niem*)",150.65,160.85333333333332,177.2,{"$f":"IF('Wynik 2021r.'!$B$3>='Licea ogólnokształcące 2021r.'!$B121,1,\"\")","v":""}]
["1c-gr1 [O] biol-chem-ang (ang-hisz*,niem*,ros*)",151.55000000000001,159.63666666666663,186.4,{"$f":"IF('Wynik 2021r.'!$B$3>='Licea ogólnokształcące 2021r.'!$B122,1,\"\")","v":""}]
["1c-gr2 [O] biol-chem-mat (ang-hisz*,niem*,ros*)",147.80000000000001,159.25666666666666,182.45,{"$f":"IF('Wynik 2021r.'!$B$3>='Licea ogólnokształcące 2021r.'!$B123,1,\"\")","v":""}]
["1d [O] hist-ang-pol (ang-hisz*,niem*,ros*)",145.25,152.47999999999999,177.5,{"$f":"IF('Wynik 2021r.'!$B$3>='Licea ogólnokształcące 2021r.'!$B124,1,\"\")","v":""}]
["1e-gr1 [O] biol-ang-mat (ang-hisz*,niem*,ros*)",151.19999999999999,161.29,172.35,{"$f":"IF('Wynik 2021r.'!$B$3>='Licea ogólnokształcące 2021r.'!$B125,1,\"\")","v":""}]
["1e-gr2 [O] chem-ang-mat (ang-hisz*,niem*,ros*)",143.19999999999999,151.94999999999999,173.8,{"$f":"IF('Wynik 2021r.'!$B$3>='Licea ogólnokształcące 2021r.'!$B126,1,\"\")","v":""}]
["XXVI Liceum Ogólnokształcące w Łodzi",150.15,165.39249999999998,189.15,{"$f":"IF('Wynik 2021r.'!$B$3>='Licea ogólnokształcące 2021r.'!$B127,1,\"\")","v":""}]
["1A [O] pol-hist-geogr (ang-hisz)",150.15,158.11999999999998,177.6,{"$f":"IF('Wynik 2021r.'!$B$3>='Licea ogólnokształcące 2021r.'!$B128,1,\"\")","v":""}]
["1B [O] fiz-inf-mat (ang-niem)",162,168.91500000000002,183.7,{"$f":"IF('Wynik 2021r.'!$B$3>='Licea ogólnokształcące 2021r.'!$B129,1,\"\")","v":""}]
["1C [O] biol-chem-mat (ang-hisz,ros)",162,169.80499999999995,189,{"$f":"IF('Wynik 2021r.'!$B$3>='Licea ogólnokształcące 2021r.'!$B130,1,\"\")","v":""}]
["1D [O] geogr-ang-mat (ang-ros,niem)",161.75,169.87666666666664,189.15,{"$f":"IF('Wynik 2021r.'!$B$3>='Licea ogólnokształcące 2021r.'!$B131,1,\"\")","v":""}]
["1E [O] biol-chem-mat (ang-ros)",152.4,160.94833333333332,181.3,{"$f":"IF('Wynik 2021r.'!$B$3>='Licea ogólnokształcące 2021r.'!$B132,1,\"\")","v":""}]
["1F [O] fiz-ang-mat (ang-ros,fra)",156.9,164.69000000000003,180.1,{"$f":"IF('Wynik 2021r.'!$B$3>='Licea ogólnokształcące 2021r.'!$B133,1,\"\")","v":""}]
["XXX Liceum Ogólnokształcące w Łodzi",114.65,133.4733333333333,174,{"$f":"IF('Wynik 2021r.'!$B$3>='Licea ogólnokształcące 2021r.'!$B134,1,\"\")","v":""}]
["1A Językowo-humanistyczna",114.65,130.73333333333338,162,{"$f":"IF('Wynik 2021r.'!$B$3>='Licea ogólnokształcące 2021r.'!$B135,1,\"\")","v":""}]
["1Bm Przedmiotów ścisłych - matematyczna",117.65,137.19333333333333,157.5,{"$f":"IF('Wynik 2021r.'!$B$3>='Licea ogólnokształcące 2021r.'!$B136,1,\"\")","v":""}]
["1Bp Przedmiotów ścisłych - przyrodnicza",117.5,138.21333333333331,165.75,{"$f":"IF('Wynik 2021r.'!$B$3>='Licea ogólnokształcące 2021r.'!$B137,1,\"\")","v":""}]
["1C Nauk o świecie - turystyczna",115.45,131.98333333333335,174,{"$f":"IF('Wynik 2021r.'!$B$3>='Licea ogólnokształcące 2021r.'!$B138,1,\"\")","v":""}]
["XXXI Liceum Ogólnokształcące w Łodzi",124.6,162.87700000000001,188.05,{"$f":"IF('Wynik 2021r.'!$B$3>='Licea ogólnokształcące 2021r.'!$B139,1,\"\")","v":""}]
["1Aaf [O] fiz-ang-mat (ang-fra*)",160.35,165.63499999999999,182.7,{"$f":"IF('Wynik 2021r.'!$B$3>='Licea ogólnokształcące 2021r.'!$B140,1,\"\")","v":""}]
["1Aah [O] fiz-ang-mat (ang-hisz*)",169.8,175.005,181.4,{"$f":"IF('Wynik 2021r.'!$B$3>='Licea ogólnokształcące 2021r.'!$B141,1,\"\")","v":""}]
["1Aan [O] fiz-ang-mat (ang-niem*)",164.35,170.935,178.4,{"$f":"IF('Wynik 2021r.'!$B$3>='Licea ogólnokształcące 2021r.'!$B142,1,\"\")","v":""}]
["1Aif [O] fiz-inf-mat (ang-fra*)",140.05000000000001,154.32,170.8,{"$f":"IF('Wynik 2021r.'!$B$3>='Licea ogólnokształcące 2021r.'!$B143,1,\"\")","v":""}]
["1Ain [O] fiz-inf-mat (ang-niem*)",167,170.64666666666668,175.5,{"$f":"IF('Wynik 2021r.'!$B$3>='Licea ogólnokształcące 2021r.'!$B144,1,\"\")","v":""}]
["1Bf [O] biol-chem-mat (ang-fra*)",152.94999999999999,161.46999999999997,173.85,{"$f":"IF('Wynik 2021r.'!$B$3>='Licea ogólnokształcące 2021r.'!$B145,1,\"\")","v":""}]
["1Bh [O] biol-chem-mat (ang-hisz*)",167.55,174.12499999999997,187.15,{"$f":"IF('Wynik 2021r.'!$B$3>='Licea ogólnokształcące 2021r.'!$B146,1,\"\")","v":""}]
["1Bn [O] biol-chem-mat (ang-niem*)",160.6,164.93,170.25,{"$f":"IF('Wynik 2021r.'!$B$3>='Licea ogólnokształcące 2021r.'!$B147,1,\"\")","v":""}]
["1Cf [O] geogr-ang-mat (ang-fra*)",156.75,165.48666666666668,188.05,{"$f":"IF('Wynik 2021r.'!$B$3>='Licea ogólnokształcące 2021r.'!$B148,1,\"\")","v":""}]
["1Cn [O] geogr-ang-mat (ang-niem*)",166.6,171.81333333333333,184.4,{"$f":"IF('Wynik 2021r.'!$B$3>='Licea ogólnokształcące 2021r.'!$B149,1,\"\")","v":""}]
["1Df [O] geogr-hist-pol (ang-fra*)",124.6,136.89500000000004,144.65,{"$f":"IF('Wynik 2021r.'!$B$3>='Licea ogólnokształcące 2021r.'!$B150,1,\"\")","v":""}]
["1Dh [O] geogr-hist-pol (ang-hisz*)",146,154.64000000000001,164.65,{"$f":"IF('Wynik 2021r.'!$B$3>='Licea ogólnokształcące 2021r.'!$B151,1,\"\")","v":""}]
["1Dn [O] geogr-hist-pol (ang-niem*)",131,146.12,174,{"$f":"IF('Wynik 2021r.'!$B$3>='Licea ogólnokształcące 2021r.'!$B152,1,\"\")","v":""}]
["XXXII Liceum Ogólnokształcące w ZSO nr 1 w Łodzi",70.8,133.09444444444443,181.2,{"$f":"IF('Wynik 2021r.'!$B$3>='Licea ogólnokształcące 2021r.'!$B153,1,\"\")","v":1}]
["0Hw wstępny-dw-hiszp",70.8,131.14791666666665,176.6,{"$f":"IF('Wynik 2021r.'!$B$3>='Licea ogólnokształcące 2021r.'!$B154,1,\"\")","v":1}]
["1A 1A mat-fiz-ang/inf",71.849999999999994,122.58,149.35,{"$f":"IF('Wynik 2021r.'!$B$3>='Licea ogólnokształcące 2021r.'!$B155,1,\"\")","v":1}]
["1B 1B biol-chem-mat/ang",120.6,138.97833333333335,176.1,{"$f":"IF('Wynik 2021r.'!$B$3>='Licea ogólnokształcące 2021r.'!$B156,1,\"\")","v":""}]
["1C 1C pol-hist-wos",101.25,126.63833333333335,181.2,{"$f":"IF('Wynik 2021r.'!$B$3>='Licea ogólnokształcące 2021r.'!$B157,1,\"\")","v":""}]
["1D 1D mat-geo-ang",132.5,145.73833333333332,162.19999999999999,{"$f":"IF('Wynik 2021r.'!$B$3>='Licea ogólnokształcące 2021r.'!$B158,1,\"\")","v":""}]
["XXXIII Liceum Ogólnokształcące w Łodzi",109.9,142.32133333333329,171.85,{"$f":"IF('Wynik 2021r.'!$B$3>='Licea ogólnokształcące 2021r.'!$B159,1,\"\")","v":""}]
["1_A_humanistyczna [O] pol-ang-hist (ang-hisz,niem)",139.05000000000001,150.09833333333336,171.85,{"$f":"IF('Wynik 2021r.'!$B$3>='Licea ogólnokształcące 2021r.'!$B160,1,\"\")","v":""}]
["1_B_integracyjna [I-o] pol-wos-geogr (ang-hisz,niem)",109.9,125.25333333333334,158,{"$f":"IF('Wynik 2021r.'!$B$3>='Licea ogólnokształcące 2021r.'!$B161,1,\"\")","v":""}]
["1_C_mat-chem-jęz [O] mat-chem-ang (ang-hisz,niem)",110.7,140.35666666666668,164.7,{"$f":"IF('Wynik 2021r.'!$B$3>='Licea ogólnokształcące 2021r.'!$B162,1,\"\")","v":""}]
["1_D_mat-geograficzna [O] mat-geogr-wos (ang-hisz,niem)",130.25,148.86500000000004,171.55,{"$f":"IF('Wynik 2021r.'!$B$3>='Licea ogólnokształcące 2021r.'!$B163,1,\"\")","v":""}]
["1_E_biol-chem [O] biol-chem-mat (ang-hisz,niem)",138.19999999999999,147.03333333333333,170,{"$f":"IF('Wynik 2021r.'!$B$3>='Licea ogólnokształcące 2021r.'!$B164,1,\"\")","v":""}]
["XXXIV Liceum Ogólnokształcące w Łodzi",38.5,96.957017543859649,146.30000000000001,{"$f":"IF('Wynik 2021r.'!$B$3>='Licea ogólnokształcące 2021r.'!$B165,1,\"\")","v":1}]
["1A klasa językowo-geograficzna",61.4,102.50666666666667,146.30000000000001,{"$f":"IF('Wynik 2021r.'!$B$3>='Licea ogólnokształcące 2021r.'!$B166,1,\"\")","v":1}]
["1C klasa humanistyczna",38.5,90.790740740740716,127.75,{"$f":"IF('Wynik 2021r.'!$B$3>='Licea ogólnokształcące 2021r.'!$B167,1,\"\")","v":1}]

{"sheet":"Technika 2021r.","index":7,"n_rows":99,"n_cols":5,"rows_kept":99,"cut":false,"hidden":false,"merged":[]}
["Nazwa szkoły/oddziału","Minimalna  liczba punktów z jaką kandydat został zakwalifikowany","Średnia  liczba punktów z jaką kandydat został zakwalifikowany","Maksymalnaliczba punktów z jaką kandydat został zakwalifikowany","sprawdzenie"]
["Technikum nr 01 (ZSETH w Łodzi)",38.549999999999997,97.202040816326544,154.19999999999999,{"$f":"IF('Wynik 2021r.'!$B$3>='Technika 2021r.'!$B2,1,\"\")","v":1}]
["1a [O] Technik ekonomista (ang-niem*)",38.549999999999997,106.41607142857144,154.19999999999999,{"$f":"IF('Wynik 2021r.'!$B$3>='Technika 2021r.'!$B3,1,\"\")","v":1}]
["1b [O] Technik rachunkowości (ang-niem*)",91.95,113.30833333333334,144.4,{"$f":"IF('Wynik 2021r.'!$B$3>='Technika 2021r.'!$B4,1,\"\")","v":1}]
["1c [O] Technik hotelarstwa (ang-fra*)",42.05,91.927777777777777,148.9,{"$f":"IF('Wynik 2021r.'!$B$3>='Technika 2021r.'!$B5,1,\"\")","v":1}]
["1d [O] Technik hotelarstwa (ang-niem*)",58.65,95.611111111111114,133,{"$f":"IF('Wynik 2021r.'!$B$3>='Technika 2021r.'!$B6,1,\"\")","v":1}]
["1e [O] Technik organizacji turystyki (ang-fra)",46.4,83.882608695652166,127.85,{"$f":"IF('Wynik 2021r.'!$B$3>='Technika 2021r.'!$B7,1,\"\")","v":1}]
["1f [O] Technik eksploatacji portów i terminali (ang-fra)",39.85,99.189285714285703,146.4,{"$f":"IF('Wynik 2021r.'!$B$3>='Technika 2021r.'!$B8,1,\"\")","v":1}]
["Technikum nr 02 (ZSEiU w Łodzi)",31.3,96.576288659793789,170.05,{"$f":"IF('Wynik 2021r.'!$B$3>='Technika 2021r.'!$B9,1,\"\")","v":1}]
["1aTE [O] Technik ekonomista (ang*-niem*)",32.049999999999997,105.66333333333336,151.65,{"$f":"IF('Wynik 2021r.'!$B$3>='Technika 2021r.'!$B10,1,\"\")","v":1}]
["1bTL [O] Technik logistyk (ang*-niem*)",67,104.80892857142858,170.05,{"$f":"IF('Wynik 2021r.'!$B$3>='Technika 2021r.'!$B11,1,\"\")","v":1}]
["1cTR [O] Technik reklamy (ang*-niem*)",41.1,92.036363636363646,145.55000000000001,{"$f":"IF('Wynik 2021r.'!$B$3>='Technika 2021r.'!$B12,1,\"\")","v":1}]
["1dTT [O] Technik organizacji turystyki (ang*-niem*)",31.3,86.242857142857147,138.65,{"$f":"IF('Wynik 2021r.'!$B$3>='Technika 2021r.'!$B13,1,\"\")","v":1}]
["Technikum nr 03",46.15,101.92758620689661,168,{"$f":"IF('Wynik 2021r.'!$B$3>='Technika 2021r.'!$B14,1,\"\")","v":1}]
["1TCHiK [O] Technik chłodnictwa i klimatyzacji (niem-ang)",69.7,93.161111111111111,129.1,{"$f":"IF('Wynik 2021r.'!$B$3>='Technika 2021r.'!$B15,1,\"\")","v":1}]
["1TEO [O] Technik urządzeń i systemów energetyki odnawialnej (niem-ang)",90.25,115.20000000000002,146.44999999999999,{"$f":"IF('Wynik 2021r.'!$B$3>='Technika 2021r.'!$B16,1,\"\")","v":1}]
["1TIS [O] Technik inżynierii sanitarnej (niem-ang)",63.4,87.332142857142841,126,{"$f":"IF('Wynik 2021r.'!$B$3>='Technika 2021r.'!$B17,1,\"\")","v":1}]
["1TLOG [O] Technik logistyk (ang-niem)",46.15,103.1531914893617,168,{"$f":"IF('Wynik 2021r.'!$B$3>='Technika 2021r.'!$B18,1,\"\")","v":1}]
["Technikum nr 04 (ZSG w Łodzi)",31.2,85.812711864406793,159.75,{"$f":"IF('Wynik 2021r.'!$B$3>='Technika 2021r.'!$B19,1,\"\")","v":1}]
["1Agr.1 [O] Technik usług kelnerskich (ang-fra)",37.9,65.05,97,{"$f":"IF('Wynik 2021r.'!$B$3>='Technika 2021r.'!$B20,1,\"\")","v":1}]
["1Agr.2 [O] Technik żywienia i usług gastronomicznych (ang-fra)",62.85,96.266666666666666,156.6,{"$f":"IF('Wynik 2021r.'!$B$3>='Technika 2021r.'!$B21,1,\"\")","v":1}]
["1BC [O] Technik żywienia i usług gastronomicznych (ang-fra)",31.2,79.267948717948698,142.69999999999999,{"$f":"IF('Wynik 2021r.'!$B$3>='Technika 2021r.'!$B22,1,\"\")","v":1}]
["1D [O] Technik żywienia i usług gastronomicznych (ang-fra)",48.25,85.590740740740756,138.15,{"$f":"IF('Wynik 2021r.'!$B$3>='Technika 2021r.'!$B23,1,\"\")","v":1}]
["1Egr.1 [O] Technik żywienia i usług gastronomicznych (ang-fra)",67.599999999999994,100.625,159.75,{"$f":"IF('Wynik 2021r.'!$B$3>='Technika 2021r.'!$B24,1,\"\")","v":1}]
["Technikum nr 05 (ZSP nr 5 w Łodzi)",60.5,109.3978260869565,178.25,{"$f":"IF('Wynik 2021r.'!$B$3>='Technika 2021r.'!$B25,1,\"\")","v":1}]
["1a_1 [O] Technik transportu kolejowego (ang*-niem*)",60.5,109.05357142857143,162.80000000000001,{"$f":"IF('Wynik 2021r.'!$B$3>='Technika 2021r.'!$B26,1,\"\")","v":1}]
["1b_1 [O] Technik ekonomista (ang*-fra*)",81.7,113.0153846153846,178.25,{"$f":"IF('Wynik 2021r.'!$B$3>='Technika 2021r.'!$B27,1,\"\")","v":1}]
["1b_2 [O] Technik handlowiec (ang*-niem*)",65.05,101.92,143.65,{"$f":"IF('Wynik 2021r.'!$B$3>='Technika 2021r.'!$B28,1,\"\")","v":1}]
["Technikum nr 06 (ZSPS w Łodzi)",25.9,74.172413793103445,121.45,{"$f":"IF('Wynik 2021r.'!$B$3>='Technika 2021r.'!$B29,1,\"\")","v":1}]
["1ta1tb [O] Technik technologii żywności (ang*-niem*)",25.9,71.308000000000007,121.45,{"$f":"IF('Wynik 2021r.'!$B$3>='Technika 2021r.'!$B30,1,\"\")","v":1}]
["1tc [O] Technik kontroli jakości i bezpieczeństwa żywności (ang*-niem*)",58.85,92.075000000000003,118,{"$f":"IF('Wynik 2021r.'!$B$3>='Technika 2021r.'!$B31,1,\"\")","v":1}]
["Technikum nr 07 (ZSS w Łodzi)",55.75,92.347500000000025,157,{"$f":"IF('Wynik 2021r.'!$B$3>='Technika 2021r.'!$B32,1,\"\")","v":1}]
["1a [O] Technik pojazdów samochodowych (ang-niem*)",65.7,97.876315789473693,157,{"$f":"IF('Wynik 2021r.'!$B$3>='Technika 2021r.'!$B33,1,\"\")","v":1}]
["1b [O] Technik pojazdów samochodowych (ang-niem*)",55.75,83.16785714285713,122.8,{"$f":"IF('Wynik 2021r.'!$B$3>='Technika 2021r.'!$B34,1,\"\")","v":1}]
["1d [O] Technik mechatronik (ang-niem*)",57.15,95.7,136.75,{"$f":"IF('Wynik 2021r.'!$B$3>='Technika 2021r.'!$B35,1,\"\")","v":1}]
["Technikum nr 09 (ZS Polit w Łodzi)",53.6,133.65703703703707,180.1,{"$f":"IF('Wynik 2021r.'!$B$3>='Technika 2021r.'!$B36,1,\"\")","v":1}]
["1A-Gr.1 [O] Technik elektronik (ang-niem)",59.6,101.64333333333333,153.19999999999999,{"$f":"IF('Wynik 2021r.'!$B$3>='Technika 2021r.'!$B37,1,\"\")","v":1}]
["1A-Gr.2 [O] Technik automatyk (ang-niem)",107.75,122.04642857142858,156.19999999999999,{"$f":"IF('Wynik 2021r.'!$B$3>='Technika 2021r.'!$B38,1,\"\")","v":""}]
["1B-Gr.1 [O] Technik elektryk (ang-niem)",89.5,111.27692307692308,151.80000000000001,{"$f":"IF('Wynik 2021r.'!$B$3>='Technika 2021r.'!$B39,1,\"\")","v":1}]
["1B-Gr.2 [O] Technik energetyk (ang-niem)",53.6,75.016666666666666,88.35,{"$f":"IF('Wynik 2021r.'!$B$3>='Technika 2021r.'!$B40,1,\"\")","v":1}]
["1C [O] Technik mechatronik (ang-niem)",118.1,133.86499999999998,164.65,{"$f":"IF('Wynik 2021r.'!$B$3>='Technika 2021r.'!$B41,1,\"\")","v":""}]
["1D [O] Technik informatyk (ang-niem)",136.44999999999999,150.23500000000001,169.7,{"$f":"IF('Wynik 2021r.'!$B$3>='Technika 2021r.'!$B42,1,\"\")","v":""}]
["1E [O] Technik programista (ang-niem)",140.15,153.85833333333329,180.1,{"$f":"IF('Wynik 2021r.'!$B$3>='Technika 2021r.'!$B43,1,\"\")","v":""}]
["Technikum nr 10 (ZSEI w Łodzi)",37.450000000000003,138.94769230769228,189.15,{"$f":"IF('Wynik 2021r.'!$B$3>='Technika 2021r.'!$B44,1,\"\")","v":1}]
["1e [O] Technik elektronik (ang-niem*)",37.450000000000003,105.60000000000001,148.9,{"$f":"IF('Wynik 2021r.'!$B$3>='Technika 2021r.'!$B45,1,\"\")","v":1}]
["1if [O] Technik informatyk (ang-fra)",145.75,154.75714285714284,175.8,{"$f":"IF('Wynik 2021r.'!$B$3>='Technika 2021r.'!$B46,1,\"\")","v":""}]
["1in [O] Technik informatyk (ang-niem)",148.25,162.25,189.15,{"$f":"IF('Wynik 2021r.'!$B$3>='Technika 2021r.'!$B47,1,\"\")","v":""}]
["1m [O] Technik mechatronik (ang-niem*)",135.19999999999999,148.6321428571429,167.5,{"$f":"IF('Wynik 2021r.'!$B$3>='Technika 2021r.'!$B48,1,\"\")","v":""}]
["1p [O] Technik programista (ang-niem*)",146.25,157.50535714285712,179.3,{"$f":"IF('Wynik 2021r.'!$B$3>='Technika 2021r.'!$B49,1,\"\")","v":""}]
["1t [O] Technik teleinformatyk (ang-niem*)",73.400000000000006,114.10652173913044,149.4,{"$f":"IF('Wynik 2021r.'!$B$3>='Technika 2021r.'!$B50,1,\"\")","v":1}]
["Technikum nr 12 (ZSPM w Łodzi)",40.299999999999997,110.4495,166.25,{"$f":"IF('Wynik 2021r.'!$B$3>='Technika 2021r.'!$B51,1,\"\")","v":1}]
["1a [O] Technik przemysłu mody (ang*-niem)",40.299999999999997,103.45238095238093,165.55,{"$f":"IF('Wynik 2021r.'!$B$3>='Technika 2021r.'!$B52,1,\"\")","v":1}]
["1c [O] Technik grafiki i poligrafii cyfrowej (ang*-niem)",101.4,125.13035714285715,159,{"$f":"IF('Wynik 2021r.'!$B$3>='Technika 2021r.'!$B53,1,\"\")","v":""}]
["1f [O] Technik fotografii i multimediów (ang*-niem)",82.9,109.25892857142857,156.94999999999999,{"$f":"IF('Wynik 2021r.'!$B$3>='Technika 2021r.'!$B54,1,\"\")","v":1}]
["1s [O] Technik stylista (ang*-niem)",57.65,100.41521739130435,166.25,{"$f":"IF('Wynik 2021r.'!$B$3>='Technika 2021r.'!$B55,1,\"\")","v":1}]
["Technikum nr 13 (ZSG-T w Łodzi)",43.5,103.47990196078432,164.7,{"$f":"IF('Wynik 2021r.'!$B$3>='Technika 2021r.'!$B56,1,\"\")","v":1}]
["1A [O] Technik geodeta (ang-hisz,niem)",63.55,104.73833333333336,164.7,{"$f":"IF('Wynik 2021r.'!$B$3>='Technika 2021r.'!$B57,1,\"\")","v":1}]
["1B [O] Technik informatyk (ang-hisz,niem)",57.95,106.62249999999999,161.85,{"$f":"IF('Wynik 2021r.'!$B$3>='Technika 2021r.'!$B58,1,\"\")","v":1}]
["1C [O] Technik leśnik (ang-hisz,niem)",43.5,101.27142857142856,148,{"$f":"IF('Wynik 2021r.'!$B$3>='Technika 2021r.'!$B59,1,\"\")","v":1}]
["1D [O] Technik informatyk (ang-hisz,niem)",44.55,92.836363636363629,157.25,{"$f":"IF('Wynik 2021r.'!$B$3>='Technika 2021r.'!$B60,1,\"\")","v":1}]
["Technikum nr 15 (ZSBT w Łodzi)",37.049999999999997,91.970833333333317,159.6,{"$f":"IF('Wynik 2021r.'!$B$3>='Technika 2021r.'!$B61,1,\"\")","v":1}]
["1aT [O] Technik budownictwa (ang-niem*)",56.7,104.04642857142858,159.6,{"$f":"IF('Wynik 2021r.'!$B$3>='Technika 2021r.'!$B62,1,\"\")","v":1}]
["1bT [O] Technik robót wykończeniowych w budownictwie (ang-niem*)",50.2,71.418181818181836,124,{"$f":"IF('Wynik 2021r.'!$B$3>='Technika 2021r.'!$B63,1,\"\")","v":1}]
["1cT/2 [O] Technik technologii drewna (ang-niem*)",71,94.79285714285713,121.6,{"$f":"IF('Wynik 2021r.'!$B$3>='Technika 2021r.'!$B64,1,\"\")","v":1}]
["1dT/1 [O] Technik urządzeń i systemów energetyki odnawialnej (ang-niem*)",37.049999999999997,86.777272727272731,157.69999999999999,{"$f":"IF('Wynik 2021r.'!$B$3>='Technika 2021r.'!$B65,1,\"\")","v":1}]
["1dT/2 [O] Technik ochrony środowiska (ang-niem*)",71.599999999999994,110.85,134.25,{"$f":"IF('Wynik 2021r.'!$B$3>='Technika 2021r.'!$B66,1,\"\")","v":1}]
["Technikum nr 17 (ZSTI)",38.950000000000003,108.12361111111112,166.05,{"$f":"IF('Wynik 2021r.'!$B$3>='Technika 2021r.'!$B67,1,\"\")","v":1}]
["1ti [O] Technik informatyk (ang-niem*)",109,128.45609756097559,166.05,{"$f":"IF('Wynik 2021r.'!$B$3>='Technika 2021r.'!$B68,1,\"\")","v":""}]
["1tip [O] Technik programista (ang-niem*)",124.65,137.90357142857144,162,{"$f":"IF('Wynik 2021r.'!$B$3>='Technika 2021r.'!$B69,1,\"\")","v":""}]
["1tm [O] Technik mechatronik (ang-niem*)",53.7,91.403658536585354,133.85,{"$f":"IF('Wynik 2021r.'!$B$3>='Technika 2021r.'!$B70,1,\"\")","v":1}]
["1tmm [O] Technik mechanik (ang-niem*)",38.950000000000003,61.037500000000001,111.8,{"$f":"IF('Wynik 2021r.'!$B$3>='Technika 2021r.'!$B71,1,\"\")","v":1}]
["Technikum nr 18 Poligraficzne (ZSPol w Łodzi)",30.9,87.285714285714292,147.19999999999999,{"$f":"IF('Wynik 2021r.'!$B$3>='Technika 2021r.'!$B72,1,\"\")","v":1}]
["1ga,gb [O] Technik grafiki i poligrafii cyfrowej (ang-niem)",30.9,89.963829787234047,147.19999999999999,{"$f":"IF('Wynik 2021r.'!$B$3>='Technika 2021r.'!$B73,1,\"\")","v":1}]
["1gr [O] Technik reklamy (ang-niem)",38.15,73.3,115.9,{"$f":"IF('Wynik 2021r.'!$B$3>='Technika 2021r.'!$B74,1,\"\")","v":1}]
["Technikum nr 19 (CKZiU w Łodzi)",44.3,107.88545454545458,166.3,{"$f":"IF('Wynik 2021r.'!$B$3>='Technika 2021r.'!$B75,1,\"\")","v":1}]
["1TF [O] Technik fotografii i multimediów (ang*-niem*)",84.8,109.75714285714287,146.35,{"$f":"IF('Wynik 2021r.'!$B$3>='Technika 2021r.'!$B76,1,\"\")","v":1}]
["1Ti [O] Technik informatyk (ang*-niem*)",82.3,107.25535714285715,147,{"$f":"IF('Wynik 2021r.'!$B$3>='Technika 2021r.'!$B77,1,\"\")","v":1}]
["1TL [O] Technik logistyk (ang*-niem*)",76.05,98.285714285714306,145.05000000000001,{"$f":"IF('Wynik 2021r.'!$B$3>='Technika 2021r.'!$B78,1,\"\")","v":1}]
["1Tp [O] Technik programista (ang-niem*)",102.5,125.18928571428573,166.3,{"$f":"IF('Wynik 2021r.'!$B$3>='Technika 2021r.'!$B79,1,\"\")","v":""}]
["1TSA_1 [O] Technik analityk (ang*-niem*)",57.55,104.25,146,{"$f":"IF('Wynik 2021r.'!$B$3>='Technika 2021r.'!$B80,1,\"\")","v":1}]
["1TSA_2 [O] Technik spedytor (ang*-niem*)",44.3,82.347368421052636,138.25,{"$f":"IF('Wynik 2021r.'!$B$3>='Technika 2021r.'!$B81,1,\"\")","v":1}]
["1TWe [O] Technik weterynarii (ang*-niem*)",86.95,117.04821428571427,159.25,{"$f":"IF('Wynik 2021r.'!$B$3>='Technika 2021r.'!$B82,1,\"\")","v":1}]
["Technikum nr 20 (ZSET w Łodzi)",41.65,96.916470588235313,166.55,{"$f":"IF('Wynik 2021r.'!$B$3>='Technika 2021r.'!$B83,1,\"\")","v":1}]
["1em1 [O] Technik elektryk (ang-niem*)",55.25,96.627777777777766,151,{"$f":"IF('Wynik 2021r.'!$B$3>='Technika 2021r.'!$B84,1,\"\")","v":1}]
["1em2 [O] Technik mechanik (ang-niem*)",41.65,67.087500000000006,100.1,{"$f":"IF('Wynik 2021r.'!$B$3>='Technika 2021r.'!$B85,1,\"\")","v":1}]
["1in [O] Technik informatyk (ang-niem*)",91.7,116.38636363636365,166.55,{"$f":"IF('Wynik 2021r.'!$B$3>='Technika 2021r.'!$B86,1,\"\")","v":1}]
["1m [O] Technik mechatronik (ang-niem*)",69.650000000000006,104.77692307692308,161.5,{"$f":"IF('Wynik 2021r.'!$B$3>='Technika 2021r.'!$B87,1,\"\")","v":1}]
["1od1 [O] Technik urządzeń i systemów energetyki odnawialnej (ang-niem*)",51.45,79.910000000000011,161.44999999999999,{"$f":"IF('Wynik 2021r.'!$B$3>='Technika 2021r.'!$B88,1,\"\")","v":1}]
["1od2 [O] Technik urządzeń dźwigowych (ang-niem*)",43.3,69.64,87.6,{"$f":"IF('Wynik 2021r.'!$B$3>='Technika 2021r.'!$B89,1,\"\")","v":1}]
["Technikum nr 21 (ZSR w Łodzi)",23.65,78.521333333333345,157.1,{"$f":"IF('Wynik 2021r.'!$B$3>='Technika 2021r.'!$B90,1,\"\")","v":1}]
["1a [O] Technik architektury krajobrazu (ang-niem)",36.75,87.512500000000017,146.75,{"$f":"IF('Wynik 2021r.'!$B$3>='Technika 2021r.'!$B91,1,\"\")","v":1}]
["1F [O] Technik usług fryzjerskich (ang-niem)",25.3,75.293333333333337,126.45,{"$f":"IF('Wynik 2021r.'!$B$3>='Technika 2021r.'!$B92,1,\"\")","v":1}]
["1g [O] Technik ogrodnik (ang-niem)",69.400000000000006,110.59999999999998,134.94999999999999,{"$f":"IF('Wynik 2021r.'!$B$3>='Technika 2021r.'!$B93,1,\"\")","v":1}]
["1h [O] Technik hodowca koni (ang-niem)",23.65,59.346428571428568,96.3,{"$f":"IF('Wynik 2021r.'!$B$3>='Technika 2021r.'!$B94,1,\"\")","v":1}]
["1o [O] Technik optyk (ang-niem)",43.5,89.674999999999997,157.1,{"$f":"IF('Wynik 2021r.'!$B$3>='Technika 2021r.'!$B95,1,\"\")","v":1}]
["Technikum nr 22 (ZSSiM w Łodzi)",21.8,69.025862068965523,155.25,{"$f":"IF('Wynik 2021r.'!$B$3>='Technika 2021r.'!$B96,1,\"\")","v":1}]
["1TMT/1 [O] Technik mechatronik (ang*-niem*)",30.95,72.681250000000006,155.25,{"$f":"IF('Wynik 2021r.'!$B$3>='Technika 2021r.'!$B97,1,\"\")","v":1}]
["1TMT/2 [O] Technik transportu drogowego (ang*-niem*)",29.7,63.214285714285715,124.45,{"$f":"IF('Wynik 2021r.'!$B$3>='Technika 2021r.'!$B98,1,\"\")","v":1}]
["1Ts [O] Technik pojazdów samochodowych (ang*-niem*)",21.8,68.517142857142872,140.25,{"$f":"IF('Wynik 2021r.'!$B$3>='Technika 2021r.'!$B99,1,\"\")","v":1}]

{"sheet":"Szkoły branżowe 2021r.","index":8,"n_rows":30,"n_cols":5,"rows_kept":30,"cut":false,"hidden":false,"merged":[]}
["Nazwa szkoły/oddziału","Minimalna  liczba punktów z jaką kandydat został zakwalifikowany","Średnia  liczba punktów z jaką kandydat został zakwalifikowany","Maksymalnaliczba punktów z jaką kandydat został zakwalifikowany","sprawdzenie"]
["Branżowa Szkoła I stopnia nr 04 (ZSG w Łodzi)",28.95,50.360869565217392,94.3,{"$f":"IF('Wynik 2021r.'!$B$3>='Szkoły branżowe 2021r.'!B2,1,\"\")","v":1}]
["1ab [O] Kucharz (ang)",28.95,50.360869565217392,94.3,{"$f":"IF('Wynik 2021r.'!$B$3>='Szkoły branżowe 2021r.'!B3,1,\"\")","v":1}]
["Branżowa Szkoła I stopnia nr 05 (ZSP nr 5 w Łodzi)",28.65,51.34347826086956,82.2,{"$f":"IF('Wynik 2021r.'!$B$3>='Szkoły branżowe 2021r.'!B4,1,\"\")","v":1}]
["1c_1 [O] Sprzedawca (ang*)",40.299999999999997,53.883333333333333,66,{"$f":"IF('Wynik 2021r.'!$B$3>='Szkoły branżowe 2021r.'!B5,1,\"\")","v":1}]
["1d [O] Magazynier-logistyk (ang*)",28.65,50.44705882352941,82.2,{"$f":"IF('Wynik 2021r.'!$B$3>='Szkoły branżowe 2021r.'!B6,1,\"\")","v":1}]
["Branżowa Szkoła I stopnia nr 06 (ZSPS w Łodzi)",34.75,67.324000000000012,111.4,{"$f":"IF('Wynik 2021r.'!$B$3>='Szkoły branżowe 2021r.'!B7,1,\"\")","v":1}]
["1a1b1 [O] Cukiernik (niem*)",34.75,67.412500000000009,111.4,{"$f":"IF('Wynik 2021r.'!$B$3>='Szkoły branżowe 2021r.'!B8,1,\"\")","v":1}]
["1b2 [O] Piekarz (niem*)",65.2,65.2,65.2,{"$f":"IF('Wynik 2021r.'!$B$3>='Szkoły branżowe 2021r.'!B9,1,\"\")","v":1}]
["Branżowa Szkoła I stopnia nr 07 (ZSS w Łodzi)",23.1,47.11851851851852,86.65,{"$f":"IF('Wynik 2021r.'!$B$3>='Szkoły branżowe 2021r.'!B10,1,\"\")","v":1}]
["1bs [O] Blacharz samochodowy (ang)",23.45,33.875,45.25,{"$f":"IF('Wynik 2021r.'!$B$3>='Szkoły branżowe 2021r.'!B11,1,\"\")","v":1}]
["1es [O] Elektromechanik pojazdów samochodowych (ang)",51.6,59.791666666666664,71.650000000000006,{"$f":"IF('Wynik 2021r.'!$B$3>='Szkoły branżowe 2021r.'!B12,1,\"\")","v":1}]
["1ks [O] Kierowca mechanik (ang)",40.1,52.31,66.849999999999994,{"$f":"IF('Wynik 2021r.'!$B$3>='Szkoły branżowe 2021r.'!B13,1,\"\")","v":1}]
["1ls [O] Lakiernik samochodowy (ang)",24,44.682352941176475,86.65,{"$f":"IF('Wynik 2021r.'!$B$3>='Szkoły branżowe 2021r.'!B14,1,\"\")","v":1}]
["1ms [O] Mechanik pojazdów samochodowych (ang)",23.1,46.772727272727273,79.8,{"$f":"IF('Wynik 2021r.'!$B$3>='Szkoły branżowe 2021r.'!B15,1,\"\")","v":1}]
["Branżowa Szkoła I stopnia nr 09 (ZS Polit w Łodzi)",34.4,46.395454545454548,69.7,{"$f":"IF('Wynik 2021r.'!$B$3>='Szkoły branżowe 2021r.'!B16,1,\"\")","v":1}]
["1BA-Gr.1 [O] Mechatronik (ang)",34.4,47.457142857142863,69.7,{"$f":"IF('Wynik 2021r.'!$B$3>='Szkoły branżowe 2021r.'!B17,1,\"\")","v":1}]
["1BA-Gr.2 [O] Elektryk (ang)",39.5,44.537500000000001,52.8,{"$f":"IF('Wynik 2021r.'!$B$3>='Szkoły branżowe 2021r.'!B18,1,\"\")","v":1}]
["Branżowa Szkoła I stopnia nr 15 (ZSBT w Łodzi)",20.05,58.92499999999999,104.35,{"$f":"IF('Wynik 2021r.'!$B$3>='Szkoły branżowe 2021r.'!B19,1,\"\")","v":1}]
["1aB/1 [O] Monter zabudowy i robót wykończeniowych w budownictwie (niem*)",20.05,55.806666666666665,96.1,{"$f":"IF('Wynik 2021r.'!$B$3>='Szkoły branżowe 2021r.'!B20,1,\"\")","v":1}]
["1bB/1 [O] Monter sieci i instalacji sanitarnych (niem*)",30.05,65.233333333333334,104.35,{"$f":"IF('Wynik 2021r.'!$B$3>='Szkoły branżowe 2021r.'!B21,1,\"\")","v":1}]
["1bB/2 [O] Stolarz (niem*)",45.95,61.9,76.25,{"$f":"IF('Wynik 2021r.'!$B$3>='Szkoły branżowe 2021r.'!B22,1,\"\")","v":1}]
["Branżowa Szkoła I stopnia nr 21 (ZSR w Łodzi)",33.85,59.32121212121212,122.1,{"$f":"IF('Wynik 2021r.'!$B$3>='Szkoły branżowe 2021r.'!B23,1,\"\")","v":1}]
["1f [O] Fryzjer (ang*,niem*)",33.85,58.212499999999991,122.1,{"$f":"IF('Wynik 2021r.'!$B$3>='Szkoły branżowe 2021r.'!B24,1,\"\")","v":1}]
["1j [O] Jeździec (ang*,niem*)",52.2,65.53,79.5,{"$f":"IF('Wynik 2021r.'!$B$3>='Szkoły branżowe 2021r.'!B25,1,\"\")","v":1}]
["Branżowa Szkoła I stopnia nr 22 (ZSSiM w Łodzi)",21.45,52.82093023255814,106.05,{"$f":"IF('Wynik 2021r.'!$B$3>='Szkoły branżowe 2021r.'!B26,1,\"\")","v":1}]
["1EM/1 [O] Elektromechanik pojazdów samochodowych (ang*)",21.45,57.83,99.75,{"$f":"IF('Wynik 2021r.'!$B$3>='Szkoły branżowe 2021r.'!B27,1,\"\")","v":1}]
["1EM/2 [O] Mechanik motocyklowy (ang*)",26.3,64.13,106.05,{"$f":"IF('Wynik 2021r.'!$B$3>='Szkoły branżowe 2021r.'!B28,1,\"\")","v":1}]
["1KMB/1 [O] Kierowca mechanik (ang*)",23.65,47.574999999999996,76.650000000000006,{"$f":"IF('Wynik 2021r.'!$B$3>='Szkoły branżowe 2021r.'!B29,1,\"\")","v":1}]
["1KMB/3 [O] Blacharz samochodowy (ang*)",41.55,57.637500000000003,81.7,{"$f":"IF('Wynik 2021r.'!$B$3>='Szkoły branżowe 2021r.'!B30,1,\"\")","v":1}]